Workbook

Sheet 組合せ
D2: 試合進行 | J2: スコア
D3: Aコート | F3: Bコート | H3: Cコート | J3: Aコート | L3: Bコート | N3: Cコート
B4: 1 | C4: 0.40972222 | D4: A1 | E4: A2 | F4: B1 | G4: B2 | H4: H1 | I4: H2 | J4: =タイムスケジュール!E5 -> 0 | K4: =タイムスケジュール!G5 -> 0 | L4: =タイムスケジュール!L5 -> 0 | M4: =タイムスケジュール!N5 -> 0 | N4: =タイムスケジュール!S5 -> 0 | O4: =タイムスケジュール!U5 -> 0
B5: 2 | C5: 0.41597222 | D5: A3 | E5: A4 | F5: B3 | G5: B4 | H5: H3 | I5: H4 | J5: =タイムスケジュール!E6 -> 0 | K5: =タイムスケジュール!G6 -> 0 | L5: =タイムスケジュール!L6 -> 0 | M5: =タイムスケジュール!N6 -> 0 | N5: =タイムスケジュール!S6 -> 0 | O5: =タイムスケジュール!U6 -> 0
B6: 3 | C6: 0.42222222 | D6: C1 | E6: C2 | F6: D1 | G6: D2 | H6: H5 | I6: H7 | J6: =タイムスケジュール!E7 -> 0 | K6: =タイムスケジュール!G7 -> 0 | L6: =タイムスケジュール!L7 -> 0 | M6: =タイムスケジュール!N7 -> 0 | N6: =タイムスケジュール!S7 -> 0 | O6: =タイムスケジュール!U7 -> 0
B7: 4 | C7: 0.42847222 | D7: C3 | E7: C4 | F7: D3 | G7: D4 | H7: H1 | I7: H6 | J7: =タイムスケジュール!E8 -> 0 | K7: =タイムスケジュール!G8 -> 0 | L7: =タイムスケジュール!L8 -> 0 | M7: =タイムスケジュール!N8 -> 0 | N7: =タイムスケジュール!S8 -> 0 | O7: =タイムスケジュール!U8 -> 0
B8: 5 | C8: 0.43472222 | D8: E1 | E8: E2 | F8: F1 | G8: F2 | H8: G1 | I8: G2 | J8: =タイムスケジュール!E9 -> 0 | K8: =タイムスケジュール!G9 -> 0 | L8: =タイムスケジュール!L9 -> 0 | M8: =タイムスケジュール!N9 -> 0 | N8: =タイムスケジュール!S9 -> 0 | O8: =タイムスケジュール!U9 -> 0
B9: 6 | C9: 0.44097222 | D9: E3 | E9: E4 | F9: F3 | G9: F4 | H9: G3 | I9: G4 | J9: =タイムスケジュール!E10 -> 0 | K9: =タイムスケジュール!G10 -> 0 | L9: =タイムスケジュール!L10 -> 0 | M9: =タイムスケジュール!N10 -> 0 | N9: =タイムスケジュール!S10 -> 0 | O9: =タイムスケジュール!U10 -> 0
B10: 7 | C10: 0.44722222 | D10: B1 | E10: B3 | F10: H2 | G10: H7 | H10: A1 | I10: A3 | J10: =タイムスケジュール!E11 -> 0 | K10: =タイムスケジュール!G11 -> 0 | L10: =タイムスケジュール!L11 -> 0 | M10: =タイムスケジュール!N11 -> 0 | N10: =タイムスケジュール!S11 -> 0 | O10: =タイムスケジュール!U11 -> 0
B11: 8 | C11: 0.45347222 | D11: B2 | E11: B4 | F11: H4 | G11: H5 | H11: A2 | I11: A4 | J11: =タイムスケジュール!E12 -> 0 | K11: =タイムスケジュール!G12 -> 0 | L11: =タイムスケジュール!L12 -> 0 | M11: =タイムスケジュール!N12 -> 0 | N11: =タイムスケジュール!S12 -> 0 | O11: =タイムスケジュール!U12 -> 0
B12: 9 | C12: 0.45972222 | D12: G1 | E12: G3 | F12: E1 | G12: E5 | H12: F1 | I12: F3 | J12: =タイムスケジュール!E13 -> 0 | K12: =タイムスケジュール!G13 -> 0 | L12: =タイムスケジュール!L13 -> 0 | M12: =タイムスケジュール!N13 -> 0 | N12: =タイムスケジュール!S13 -> 0 | O12: =タイムスケジュール!U13 -> 0
B13: 10 | C13: 0.46597222 | D13: G2 | E13: G4 | F13: E2 | G13: E3 | H13: F2 | I13: F4 | J13: =タイムスケジュール!E14 -> 0 | K13: =タイムスケジュール!G14 -> 0 | L13: =タイムスケジュール!L14 -> 0 | M13: =タイムスケジュール!N14 -> 0 | N13: =タイムスケジュール!S14 -> 0 | O13: =タイムスケジュール!U14 -> 0
B14: 11 | C14: 0.47222222 | D14: D1 | E14: D3 | F14: H1 | G14: H3 | H14: C1 | I14: C3 | J14: =タイムスケジュール!E15 -> 0 | K14: =タイムスケジュール!G15 -> 0 | L14: =タイムスケジュール!L15 -> 0 | M14: =タイムスケジュール!N15 -> 0 | N14: =タイムスケジュール!S15 -> 0 | O14: =タイムスケジュール!U15 -> 0
B15: 12 | C15: 0.47847222 | D15: D2 | E15: D4 | F15: H2 | G15: H4 | H15: C2 | I15: C4 | J15: =タイムスケジュール!E16 -> 0 | K15: =タイムスケジュール!G16 -> 0 | L15: =タイムスケジュール!L16 -> 0 | M15: =タイムスケジュール!N16 -> 0 | N15: =タイムスケジュール!S16 -> 0 | O15: =タイムスケジュール!U16 -> 0
B16: 13 | C16: 0.48472222 | F16: E2 | G16: E5 | H16: E1 | I16: E4 | J16: =タイムスケジュール!E17 -> 0 | K16: =タイムスケジュール!G17 -> 0 | L16: =タイムスケジュール!L17 -> 0 | M16: =タイムスケジュール!N17 -> 0 | N16: =タイムスケジュール!S17 -> 0 | O16: =タイムスケジュール!U17 -> 0
B17: 14 | C17: 0.49097222 | D17: H6 | E17: H7 | F17: A1 | G17: A4 | H17: B1 | I17: B4 | J17: =タイムスケジュール!E18 -> 0 | K17: =タイムスケジュール!G18 -> 0 | L17: =タイムスケジュール!L18 -> 0 | M17: =タイムスケジュール!N18 -> 0 | N17: =タイムスケジュール!S18 -> 0 | O17: =タイムスケジュール!U18 -> 0
B18: 15 | C18: 0.49722222 | D18: H1 | E18: H5 | F18: A2 | G18: A3 | H18: B2 | I18: B3 | J18: =タイムスケジュール!E19 -> 0 | K18: =タイムスケジュール!G19 -> 0 | L18: =タイムスケジュール!L19 -> 0 | M18: =タイムスケジュール!N19 -> 0 | N18: =タイムスケジュール!S19 -> 0 | O18: =タイムスケジュール!U19 -> 0
B19: 16 | C19: 0.50347222 | D19: E1 | E19: E3 | F19: F1 | G19: F4 | H19: G1 | I19: G4 | J19: =タイムスケジュール!E20 -> 0 | K19: =タイムスケジュール!G20 -> 0 | L19: =タイムスケジュール!L20 -> 0 | M19: =タイムスケジュール!N20 -> 0 | N19: =タイムスケジュール!S20 -> 0 | O19: =タイムスケジュール!U20 -> 0
B20: 17 | C20: 0.50972222 | D20: E4 | E20: E5 | F20: F2 | G20: F3 | H20: G2 | I20: G3 | J20: =タイムスケジュール!E21 -> 0 | K20: =タイムスケジュール!G21 -> 0 | L20: =タイムスケジュール!L21 -> 0 | M20: =タイムスケジュール!N21 -> 0 | N20: =タイムスケジュール!S21 -> 0 | O20: =タイムスケジュール!U21 -> 0
B21: 18 | C21: 0.51597222 | D21: H3 | E21: H7 | F21: C1 | G21: C4 | H21: D1 | I21: D4 | J21: =タイムスケジュール!E22 -> 0 | K21: =タイムスケジュール!G22 -> 0 | L21: =タイムスケジュール!L22 -> 0 | M21: =タイムスケジュール!N22 -> 0 | N21: =タイムスケジュール!S22 -> 0 | O21: =タイムスケジュール!U22 -> 0
B22: 19 | C22: 0.52222222 | D22: H4 | E22: H6 | F22: C2 | G22: C3 | H22: D2 | I22: D3 | J22: =タイムスケジュール!E23 -> 0 | K22: =タイムスケジュール!G23 -> 0 | L22: =タイムスケジュール!L23 -> 0 | M22: =タイムスケジュール!N23 -> 0 | N22: =タイムスケジュール!S23 -> 0 | O22: =タイムスケジュール!U23 -> 0
B23: 20 | C23: 0.52847222 | D23: E2 | E23: E4 | F23: E3 | G23: E5 | J23: =タイムスケジュール!E24 -> 0 | K23: =タイムスケジュール!G24 -> 0 | L23: =タイムスケジュール!L24 -> 0 | M23: =タイムスケジュール!N24 -> 0 | N23: =タイムスケジュール!S24 -> 0 | O23: =タイムスケジュール!U24 -> 0
B24: 21 | C24: 0.53472222 | D24: H2 | E24: H5 | H24: H3 | I24: H6 | J24: =タイムスケジュール!E25 -> 0 | K24: =タイムスケジュール!G25 -> 0 | L24: =タイムスケジュール!L25 -> 0 | M24: =タイムスケジュール!N25 -> 0 | N24: =タイムスケジュール!S25 -> 0 | O24: =タイムスケジュール!U25 -> 0
B25: 1３：００ ～ 1３：４０ 休憩・集計
B26: Ｔ１ | C26: 0.56944444 | D26: A1位 | E26: D4位 | F26: C2位 | G26: B3位 | H26: H7位 | I26: H4位
B27: Ｔ２ | C27: 0.57638889 | D27: E5位 | E27: F4位 | F27: E4位 | G27: G2位 | H27: F2位 | I27: G4位
B28: Ｔ３ | C28: 0.58333333 | D28: C1位 | E28: B4位 | F28: A2位 | G28: D3位 | H28: H3位 | I28: H5位
B29: Ｔ４ | C29: 0.59027778 | D29: C3位 | E29: B2位 | F29: A4位 | G29: D1位 | H29: H6位 | I29: H2位
B30: Ｔ５ | C30: 0.59722222 | D30: A3位 | E30: D2位 | F30: C4位 | G30: B1位 | H30: H1位 | I30: C1勝
B31: Ｔ６ | C31: 0.60416667 | D31: E3位 | E31: F3位 | F31: G3位 | G31: E2位 | H31: G1位 | I31: A2勝
B32: Ｔ７ | C32: 0.61111111 | D32: A6勝 | E32: B6勝 | F32: F1位 | G32: B2勝 | H32: C2勝 | I32: E1位
B33: Ｔ８ | C33: 0.61805556 | D33: A1勝 | E33: A4勝 | F33: B1勝 | G33: B4勝 | H33: C3勝 | I33: C4勝
B34: Ｔ９ | C34: 0.625 | D34: A3勝 | E34: A5勝 | H34: B3勝 | I34: B5勝
B35: Ｔ１０ | C35: 0.63194444 | F35: C6勝 | G35: A7勝 | H35: B7勝 | I35: C7勝
B36: Ｔ１１ | C36: 0.63888889 | D36: A8勝 | E36: B8勝 | F36: C5勝 | G36: C8勝 | H36: A9勝 | I36: C9勝
B37: Ｔ12 | D37: B10勝 | E37: C10勝 | F37: A11勝 | G37: C11勝
C38: 0.64930556

Sheet 予選組合せ
B2: ＮＴＴ docomoCUP・第２１回静岡県ドッジボール選手権 | O2: 42632
B4: ＜オフィシャルの部＞（Ａ・Ｂ・Ｃ・Ｄ）
B5: Aブロック | D5: A1 | E5: A2 | F5: A3 | G5: A4 | K5: Bブロック | M5: B1 | N5: B2 | O5: B3 | P5: B4
B6: A1 | C6: ワンピース三島 | E6: A1 | F6: C7 | G6: B14 | K6: B1 | L6: 焼津フェニックス | N6: B1 | O6: A7 | P6: C14 | T6: A1 | U6: =C6 -> ワンピース三島
B7: A2 | C7: 浜松believe.1 | D7: =E6 -> A1 | F7: B15 | G7: C8 | K7: B2 | L7: リトル☆スターズ | M7: =N6 -> B1 | O7: C15 | P7: A8 | T7: A2 | U7: =C7 -> 浜松believe.1
B8: A3 | C8: 函南勇楽会・い組 | D8: =F6 -> C7 | E8: =F7 -> B15 | G8: A2 | K8: B3 | L8: 三島☆金狼 | M8: =O6 -> A7 | N8: =O7 -> C15 | P8: B2 | T8: A3 | U8: =C8 -> 函南勇楽会・い組
B9: A4 | C9: マジカルキッズ | D9: =G6 -> B14 | E9: =G7 -> C8 | F9: =G8 -> A2 | K9: B4 | L9: 広幡ドッジキッズ | M9: =P6 -> C14 | N9: =P7 -> A8 | O9: =P8 -> B2 | T9: A4 | U9: =C9 -> マジカルキッズ
T10: B1 | U10: =L6 -> 焼津フェニックス
B11: Cブロック | D11: C1 | E11: C2 | F11: C3 | G11: C4 | K11: Dブロック | M11: D1 | N11: D2 | O11: D3 | P11: D4 | T11: B2 | U11: =L7 -> リトル☆スターズ
B12: C1 | C12: 龍 池 舎 | E12: A3 | F12: C11 | G12: B18 | K12: D1 | L12: ブーメラン | N12: B3 | O12: A11 | P12: C18 | T12: B3 | U12: =L8 -> 三島☆金狼
B13: C2 | C13: FUJIミラクルキッズ | D13: =E12 -> A3 | F13: B19 | G13: C12 | K13: D2 | L13: ちゃっきり一番 | M13: =N12 -> B3 | O13: C19 | P13: A12 | T13: B4 | U13: =L9 -> 広幡ドッジキッズ
B14: C3 | C14: 城内キッズ | D14: =F12 -> C11 | E14: =F13 -> B19 | G14: A4 | K14: D3 | L14: スーパー長野 | M14: =O12 -> A11 | N14: =O13 -> C19 | P14: B4 | T14: B5 | U14: =#REF! -> #REF!
B15: C4 | C15: 社会保険ドラゴンズ | D15: =G12 -> B18 | E15: =G13 -> C12 | F15: =G14 -> A4 | K15: D4 | L15: 駒越ドラゴンズ | M15: =P12 -> C18 | N15: =P13 -> A12 | O15: =P14 -> B4 | T15: C1 | U15: =C12 -> 龍 池 舎
T16: C2 | U16: =C13 -> FUJIミラクルキッズ
T17: C3 | U17: =C14 -> 城内キッズ
B18: ＜ジュニアの部＞（E・Ｆ・Ｇ） | T18: C4 | U18: =C15 -> 社会保険ドラゴンズ
B19: Eブロック | D19: E1 | E19: E2 | F19: E3 | G19: E4 | H19: E5 | K19: Fブロック | M19: F1 | N19: F2 | O19: F3 | P19: F4 | T19: C5 | U19: =C16 -> 0
B20: E1 | C20: 龍池舎じゅにあA | E20: A5 | F20: A16 | G20: C13 | H20: B9 | K20: F1 | L20: ブーメラン X | N20: B5 | O20: C9 | P20: B16 | T20: =K12 -> D1 | U20: =L12 -> ブーメラン
B21: E2 | C21: 函南勇楽会・よ組 | D21: =E20 -> A5 | F21: B10 | G21: A20 | H21: B13 | K21: F2 | L21: ハリケーンキッズ三島Jr | M21: =N20 -> B5 | O21: B17 | P21: C10 | T21: =K13 -> D2 | U21: =L13 -> ちゃっきり一番
B22: E3 | C22: 城内キッズジュニア | D22: =F20 -> A16 | E22: =F21 -> B10 | G22: A6 | H22: B20 | K22: F3 | L22: 龍池舎じゅにあB | M22: =O20 -> C9 | N22: =O21 -> B17 | P22: B6 | T22: =K14 -> D3 | U22: =L14 -> スーパー長野
B23: E4 | C23: ちゃっきり一番Jr. | D23: =G20 -> C13 | E23: =G21 -> A20 | F23: =G22 -> A6 | H23: A17 | K23: F4 | L23: リトル☆スターズJr | M23: =P20 -> B16 | N23: =P21 -> C10 | O23: =P22 -> B6 | T23: =K15 -> D4 | U23: =L15 -> 駒越ドラゴンズ
B24: E5 | C24: 三島☆金狼Jr | D24: =H20 -> B9 | E24: =H21 -> B13 | F24: =H22 -> B20 | G24: =H23 -> A17
T25: =B20 -> E1 | U25: =C20 -> 龍池舎じゅにあA
B26: Gブロック | D26: G1 | E26: G2 | F26: G3 | G26: G4 | T26: =B21 -> E2 | U26: =C21 -> 函南勇楽会・よ組
B27: G1 | C27: gold wolf ジュニア | E27: C5 | F27: A9 | G27: C16 | T27: =B22 -> E3 | U27: =C22 -> 城内キッズジュニア
B28: G2 | C28: FUJIミラクルキッズJr. | D28: =E27 -> C5 | F28: C17 | G28: A10 | T28: =B23 -> E4 | U28: =C23 -> ちゃっきり一番Jr.
B29: G3 | C29: ワンピース三島J | D29: =F27 -> A9 | E29: =F28 -> C17 | G29: C6 | T29: =B24 -> E5 | U29: =C24 -> 三島☆金狼Jr
B30: G4 | C30: スーパー長野Jr | D30: =G27 -> C16 | E30: =G28 -> A10 | F30: =G29 -> C6 | T30: =K20 -> F1 | U30: =L20 -> ブーメラン X
T31: =K21 -> F2 | U31: =L21 -> ハリケーンキッズ三島Jr
B32: ＜キッズの部＞（Ｈ） | T32: =K22 -> F3 | U32: =L22 -> 龍池舎じゅにあB
B33: Ｈブロック | D33: H1 | E33: H2 | F33: H3 | G33: H4 | H33: H5 | I33: H6 | J33: H7 | T33: =K23 -> F4 | U33: =L23 -> リトル☆スターズJr
B34: H1 | C34: 広幡ドッジキッズリトル | E34: C1 | F34: B11 | H34: A15 | I34: C4 | T34: =B27 -> G1 | U34: =C27 -> gold wolf ジュニア
B35: H2 | C35: 龍池舎きっず | D35: =E34 -> C1 | G35: B12 | H35: A21 | J35: B7 | T35: =B28 -> G2 | U35: =C28 -> FUJIミラクルキッズJr.
B36: H3 | C36: 城内キッズコルツ | D36: =F34 -> B11 | G36: C2 | I36: C21 | J36: A18 | T36: =B29 -> G3 | U36: =C29 -> ワンピース三島J
B37: H4 | C37: スーパー長野キッズ | E37: =G35 -> B12 | F37: =G36 -> C2 | H37: B8 | I37: A19 | T37: =B30 -> G4 | U37: =C30 -> スーパー長野Jr
B38: H5 | C38: FUJIミラクルソゲキッズ | D38: =H34 -> A15 | E38: =H35 -> A21 | G38: =H37 -> B8 | J38: C3 | T38: =B34 -> H1 | U38: =C34 -> 広幡ドッジキッズリトル
B39: H6 | C39: ちゃっきり一番kids | D39: =I34 -> C4 | F39: =I36 -> C21 | G39: =I37 -> A19 | J39: A14 | T39: =B35 -> H2 | U39: =C35 -> 龍池舎きっず
B40: H7 | C40: 社会保険パピィB | E40: =J35 -> B7 | F40: =J36 -> A18 | H40: =J38 -> C3 | I40: =J39 -> A14 | T40: =B36 -> H3 | U40: =C36 -> 城内キッズコルツ
T41: =B37 -> H4 | U41: =C37 -> スーパー長野キッズ
T42: =B38 -> H5 | U42: =C38 -> FUJIミラクルソゲキッズ
T43: =B39 -> H6 | U43: =C39 -> ちゃっきり一番kids
T44: =B40 -> H7 | U44: =C40 -> 社会保険パピィB

Sheet タイムスケジュール
A1: =予選組合せ!B2 -> ＮＴＴ docomoCUP・第２１回静岡県ドッジボール選手権 | W1: =予選組合せ!O2 -> 42632
C3: Ａコート | J3: Ｂコート | Q3: Cコート
A4: 試合 | B4: 時間 | C4: チーム名 | E4: 対戦成績 | H4: チーム名 | J4: チーム名 | L4: 対戦成績 | O4: チーム名 | Q4: チーム名 | S4: 対戦成績 | V4: チーム名 | X4: 時間 | Y4: 試合
A5: 1 | B5: =組合せ!C4 -> 0.40972222 | C5: =組合せ!D4 -> A1 | D5: =VLOOKUP(C5,予選組合せ!$T$6:$V$44,2,FALSE) -> ワンピース三島 | F5: - | H5: =組合せ!E4 -> A2 | I5: =VLOOKUP(H5,予選組合せ!$T$6:$V$44,2,FALSE) -> 浜松believe.1 | J5: =組合せ!F4 -> B1 | K5: =VLOOKUP(J5,予選組合せ!$T$6:$V$44,2,FALSE) -> 焼津フェニックス | M5: - | O5: =組合せ!G4 -> B2 | P5: =VLOOKUP(O5,予選組合せ!$T$6:$V$44,2,FALSE) -> リトル☆スターズ | Q5: =組合せ!H4 -> H1 | R5: =VLOOKUP(Q5,予選組合せ!$T$6:$V$44,2,FALSE) -> 広幡ドッジキッズリトル | T5: - | V5: =組合せ!I4 -> H2 | W5: =VLOOKUP(V5,予選組合せ!$T$6:$V$44,2,FALSE) -> 龍池舎きっず | X5: =B5 -> 0.40972222 | Y5: =A5 -> 1
A6: 2 | B6: =組合せ!C5 -> 0.41597222 | C6: =組合せ!D5 -> A3 | D6: =VLOOKUP(C6,予選組合せ!$T$6:$V$44,2,FALSE) -> 函南勇楽会・い組 | F6: - | H6: =組合せ!E5 -> A4 | I6: =VLOOKUP(H6,予選組合せ!$T$6:$V$44,2,FALSE) -> マジカルキッズ | J6: =組合せ!F5 -> B3 | K6: =VLOOKUP(J6,予選組合せ!$T$6:$V$44,2,FALSE) -> 三島☆金狼 | M6: - | O6: =組合せ!G5 -> B4 | P6: =VLOOKUP(O6,予選組合せ!$T$6:$V$44,2,FALSE) -> 広幡ドッジキッズ | Q6: =組合せ!H5 -> H3 | R6: =VLOOKUP(Q6,予選組合せ!$T$6:$V$44,2,FALSE) -> 城内キッズコルツ | T6: - | V6: =組合せ!I5 -> H4 | W6: =VLOOKUP(V6,予選組合せ!$T$6:$V$44,2,FALSE) -> スーパー長野キッズ | X6: =B6 -> 0.41597222 | Y6: =A6 -> 2
A7: 3 | B7: =組合せ!C6 -> 0.42222222 | C7: =組合せ!D6 -> C1 | D7: =VLOOKUP(C7,予選組合せ!$T$6:$V$44,2,FALSE) -> 龍 池 舎 | F7: - | H7: =組合せ!E6 -> C2 | I7: =VLOOKUP(H7,予選組合せ!$T$6:$V$44,2,FALSE) -> FUJIミラクルキッズ | J7: =組合せ!F6 -> D1 | K7: =VLOOKUP(J7,予選組合せ!$T$6:$V$44,2,FALSE) -> ブーメラン | M7: - | O7: =組合せ!G6 -> D2 | P7: =VLOOKUP(O7,予選組合せ!$T$6:$V$44,2,FALSE) -> ちゃっきり一番 | Q7: =組合せ!H6 -> H5 | R7: =VLOOKUP(Q7,予選組合せ!$T$6:$V$44,2,FALSE) -> FUJIミラクルソゲキッズ | T7: - | V7: =組合せ!I6 -> H7 | W7: =VLOOKUP(V7,予選組合せ!$T$6:$V$44,2,FALSE) -> 社会保険パピィB | X7: =B7 -> 0.42222222 | Y7: =A7 -> 3
A8: 4 | B8: =組合せ!C7 -> 0.42847222 | C8: =組合せ!D7 -> C3 | D8: =VLOOKUP(C8,予選組合せ!$T$6:$V$44,2,FALSE) -> 城内キッズ | F8: - | H8: =組合せ!E7 -> C4 | I8: =VLOOKUP(H8,予選組合せ!$T$6:$V$44,2,FALSE) -> 社会保険ドラゴンズ | J8: =組合せ!F7 -> D3 | K8: =VLOOKUP(J8,予選組合せ!$T$6:$V$44,2,FALSE) -> スーパー長野 | M8: - | O8: =組合せ!G7 -> D4 | P8: =VLOOKUP(O8,予選組合せ!$T$6:$V$44,2,FALSE) -> 駒越ドラゴンズ | Q8: =組合せ!H7 -> H1 | R8: =VLOOKUP(Q8,予選組合せ!$T$6:$V$44,2,FALSE) -> 広幡ドッジキッズリトル | T8: - | V8: =組合せ!I7 -> H6 | W8: =VLOOKUP(V8,予選組合せ!$T$6:$V$44,2,FALSE) -> ちゃっきり一番kids | X8: =B8 -> 0.42847222 | Y8: =A8 -> 4
A9: 5 | B9: =組合せ!C8 -> 0.43472222 | C9: =組合せ!D8 -> E1 | D9: =VLOOKUP(C9,予選組合せ!$T$6:$V$44,2,FALSE) -> 龍池舎じゅにあA | F9: - | H9: =組合せ!E8 -> E2 | I9: =VLOOKUP(H9,予選組合せ!$T$6:$V$44,2,FALSE) -> 函南勇楽会・よ組 | J9: =組合せ!F8 -> F1 | K9: =VLOOKUP(J9,予選組合せ!$T$6:$V$44,2,FALSE) -> ブーメラン X | M9: - | O9: =組合せ!G8 -> F2 | P9: =VLOOKUP(O9,予選組合せ!$T$6:$V$44,2,FALSE) -> ハリケーンキッズ三島Jr | Q9: =組合せ!H8 -> G1 | R9: =VLOOKUP(Q9,予選組合せ!$T$6:$V$44,2,FALSE) -> gold wolf ジュニア | T9: - | V9: =組合せ!I8 -> G2 | W9: =VLOOKUP(V9,予選組合せ!$T$6:$V$44,2,FALSE) -> FUJIミラクルキッズJr. | X9: =B9 -> 0.43472222 | Y9: =A9 -> 5
A10: 6 | B10: =組合せ!C9 -> 0.44097222 | C10: =組合せ!D9 -> E3 | D10: =VLOOKUP(C10,予選組合せ!$T$6:$V$44,2,FALSE) -> 城内キッズジュニア | F10: - | H10: =組合せ!E9 -> E4 | I10: =VLOOKUP(H10,予選組合せ!$T$6:$V$44,2,FALSE) -> ちゃっきり一番Jr. | J10: =組合せ!F9 -> F3 | K10: =VLOOKUP(J10,予選組合せ!$T$6:$V$44,2,FALSE) -> 龍池舎じゅにあB | M10: - | O10: =組合せ!G9 -> F4 | P10: =VLOOKUP(O10,予選組合せ!$T$6:$V$44,2,FALSE) -> リトル☆スターズJr | Q10: =組合せ!H9 -> G3 | R10: =VLOOKUP(Q10,予選組合せ!$T$6:$V$44,2,FALSE) -> ワンピース三島J | V10: =組合せ!I9 -> G4 | W10: =VLOOKUP(V10,予選組合せ!$T$6:$V$44,2,FALSE) -> スーパー長野Jr | X10: =B10 -> 0.44097222 | Y10: =A10 -> 6
A11: 7 | B11: =組合せ!C10 -> 0.44722222 | C11: =組合せ!D10 -> B1 | D11: =VLOOKUP(C11,予選組合せ!$T$6:$V$44,2,FALSE) -> 焼津フェニックス | F11: - | H11: =組合せ!E10 -> B3 | I11: =VLOOKUP(H11,予選組合せ!$T$6:$V$44,2,FALSE) -> 三島☆金狼 | J11: =組合せ!F10 -> H2 | K11: =VLOOKUP(J11,予選組合せ!$T$6:$V$44,2,FALSE) -> 龍池舎きっず | M11: - | O11: =組合せ!G10 -> H7 | P11: =VLOOKUP(O11,予選組合せ!$T$6:$V$44,2,FALSE) -> 社会保険パピィB | Q11: =組合せ!H10 -> A1 | R11: =VLOOKUP(Q11,予選組合せ!$T$6:$V$44,2,FALSE) -> ワンピース三島 | T11: - | V11: =組合せ!I10 -> A3 | W11: =VLOOKUP(V11,予選組合せ!$T$6:$V$44,2,FALSE) -> 函南勇楽会・い組 | X11: =B11 -> 0.44722222 | Y11: =A11 -> 7
A12: 8 | B12: =組合せ!C11 -> 0.45347222 | C12: =組合せ!D11 -> B2 | D12: =VLOOKUP(C12,予選組合せ!$T$6:$V$44,2,FALSE) -> リトル☆スターズ | F12: - | H12: =組合せ!E11 -> B4 | I12: =VLOOKUP(H12,予選組合せ!$T$6:$V$44,2,FALSE) -> 広幡ドッジキッズ | J12: =組合せ!F11 -> H4 | K12: =VLOOKUP(J12,予選組合せ!$T$6:$V$44,2,FALSE) -> スーパー長野キッズ | M12: - | O12: =組合せ!G11 -> H5 | P12: =VLOOKUP(O12,予選組合せ!$T$6:$V$44,2,FALSE) -> FUJIミラクルソゲキッズ | Q12: =組合せ!H11 -> A2 | R12: =VLOOKUP(Q12,予選組合せ!$T$6:$V$44,2,FALSE) -> 浜松believe.1 | T12: - | V12: =組合せ!I11 -> A4 | W12: =VLOOKUP(V12,予選組合せ!$T$6:$V$44,2,FALSE) -> マジカルキッズ | X12: =B12 -> 0.45347222 | Y12: =A12 -> 8
A13: 9 | B13: =組合せ!C12 -> 0.45972222 | C13: =組合せ!D12 -> G1 | D13: =VLOOKUP(C13,予選組合せ!$T$6:$V$44,2,FALSE) -> gold wolf ジュニア | F13: - | H13: =組合せ!E12 -> G3 | I13: =VLOOKUP(H13,予選組合せ!$T$6:$V$44,2,FALSE) -> ワンピース三島J | J13: =組合せ!F12 -> E1 | K13: =VLOOKUP(J13,予選組合せ!$T$6:$V$44,2,FALSE) -> 龍池舎じゅにあA | M13: - | O13: =組合せ!G12 -> E5 | P13: =VLOOKUP(O13,予選組合せ!$T$6:$V$44,2,FALSE) -> 三島☆金狼Jr | Q13: =組合せ!H12 -> F1 | R13: =VLOOKUP(Q13,予選組合せ!$T$6:$V$44,2,FALSE) -> ブーメラン X | T13: - | V13: =組合せ!I12 -> F3 | W13: =VLOOKUP(V13,予選組合せ!$T$6:$V$44,2,FALSE) -> 龍池舎じゅにあB | X13: =B13 -> 0.45972222 | Y13: =A13 -> 9
A14: 10 | B14: =組合せ!C13 -> 0.46597222 | C14: =組合せ!D13 -> G2 | D14: =VLOOKUP(C14,予選組合せ!$T$6:$V$44,2,FALSE) -> FUJIミラクルキッズJr. | F14: - | H14: =組合せ!E13 -> G4 | I14: =VLOOKUP(H14,予選組合せ!$T$6:$V$44,2,FALSE) -> スーパー長野Jr | J14: =組合せ!F13 -> E2 | K14: =VLOOKUP(J14,予選組合せ!$T$6:$V$44,2,FALSE) -> 函南勇楽会・よ組 | M14: - | O14: =組合せ!G13 -> E3 | P14: =VLOOKUP(O14,予選組合せ!$T$6:$V$44,2,FALSE) -> 城内キッズジュニア | Q14: =組合せ!H13 -> F2 | R14: =VLOOKUP(Q14,予選組合せ!$T$6:$V$44,2,FALSE) -> ハリケーンキッズ三島Jr | T14: - | V14: =組合せ!I13 -> F4 | W14: =VLOOKUP(V14,予選組合せ!$T$6:$V$44,2,FALSE) -> リトル☆スターズJr | X14: =B14 -> 0.46597222 | Y14: =A14 -> 10
A15: 11 | B15: =組合せ!C14 -> 0.47222222 | C15: =組合せ!D14 -> D1 | D15: =VLOOKUP(C15,予選組合せ!$T$6:$V$44,2,FALSE) -> ブーメラン | F15: - | H15: =組合せ!E14 -> D3 | I15: =VLOOKUP(H15,予選組合せ!$T$6:$V$44,2,FALSE) -> スーパー長野 | J15: =組合せ!F14 -> H1 | K15: =VLOOKUP(J15,予選組合せ!$T$6:$V$44,2,FALSE) -> 広幡ドッジキッズリトル | M15: - | O15: =組合せ!G14 -> H3 | P15: =VLOOKUP(O15,予選組合せ!$T$6:$V$44,2,FALSE) -> 城内キッズコルツ | Q15: =組合せ!H14 -> C1 | R15: =VLOOKUP(Q15,予選組合せ!$T$6:$V$44,2,FALSE) -> 龍 池 舎 | T15: - | V15: =組合せ!I14 -> C3 | W15: =VLOOKUP(V15,予選組合せ!$T$6:$V$44,2,FALSE) -> 城内キッズ | X15: =B15 -> 0.47222222 | Y15: =A15 -> 11
A16: 12 | B16: =組合せ!C15 -> 0.47847222 | C16: =組合せ!D15 -> D2 | D16: =VLOOKUP(C16,予選組合せ!$T$6:$V$44,2,FALSE) -> ちゃっきり一番 | F16: - | H16: =組合せ!E15 -> D4 | I16: =VLOOKUP(H16,予選組合せ!$T$6:$V$44,2,FALSE) -> 駒越ドラゴンズ | J16: =組合せ!F15 -> H2 | K16: =VLOOKUP(J16,予選組合せ!$T$6:$V$44,2,FALSE) -> 龍池舎きっず | M16: - | O16: =組合せ!G15 -> H4 | P16: =VLOOKUP(O16,予選組合せ!$T$6:$V$44,2,FALSE) -> スーパー長野キッズ | Q16: =組合せ!H15 -> C2 | R16: =VLOOKUP(Q16,予選組合せ!$T$6:$V$44,2,FALSE) -> FUJIミラクルキッズ | T16: - | V16: =組合せ!I15 -> C4 | W16: =VLOOKUP(V16,予選組合せ!$T$6:$V$44,2,FALSE) -> 社会保険ドラゴンズ | X16: =B16 -> 0.47847222 | Y16: =A16 -> 12
A17: 13 | B17: =組合せ!C16 -> 0.48472222 | J17: =組合せ!F16 -> E2 | K17: =VLOOKUP(J17,予選組合せ!$T$6:$V$44,2,FALSE) -> 函南勇楽会・よ組 | M17: - | O17: =組合せ!G16 -> E5 | P17: =VLOOKUP(O17,予選組合せ!$T$6:$V$44,2,FALSE) -> 三島☆金狼Jr | Q17: =組合せ!H16 -> E1 | R17: =VLOOKUP(Q17,予選組合せ!$T$6:$V$44,2,FALSE) -> 龍池舎じゅにあA | T17: - | V17: =組合せ!I16 -> E4 | W17: =VLOOKUP(V17,予選組合せ!$T$6:$V$44,2,FALSE) -> ちゃっきり一番Jr. | X17: =B17 -> 0.48472222 | Y17: =A17 -> 13
A18: 14 | B18: =組合せ!C17 -> 0.49097222 | C18: =組合せ!D17 -> H6 | D18: =VLOOKUP(C18,予選組合せ!$T$6:$V$44,2,FALSE) -> ちゃっきり一番kids | F18: - | H18: =組合せ!E17 -> H7 | I18: =VLOOKUP(H18,予選組合せ!$T$6:$V$44,2,FALSE) -> 社会保険パピィB | J18: =組合せ!F17 -> A1 | K18: =VLOOKUP(J18,予選組合せ!$T$6:$V$44,2,FALSE) -> ワンピース三島 | M18: - | O18: =組合せ!G17 -> A4 | P18: =VLOOKUP(O18,予選組合せ!$T$6:$V$44,2,FALSE) -> マジカルキッズ | Q18: =組合せ!H17 -> B1 | R18: =VLOOKUP(Q18,予選組合せ!$T$6:$V$44,2,FALSE) -> 焼津フェニックス | T18: - | V18: =組合せ!I17 -> B4 | W18: =VLOOKUP(V18,予選組合せ!$T$6:$V$44,2,FALSE) -> 広幡ドッジキッズ | X18: =B18 -> 0.49097222 | Y18: =A18 -> 14
A19: 15 | B19: =組合せ!C18 -> 0.49722222 | C19: =組合せ!D18 -> H1 | D19: =VLOOKUP(C19,予選組合せ!$T$6:$V$44,2,FALSE) -> 広幡ドッジキッズリトル | F19: - | H19: =組合せ!E18 -> H5 | I19: =VLOOKUP(H19,予選組合せ!$T$6:$V$44,2,FALSE) -> FUJIミラクルソゲキッズ | J19: =組合せ!F18 -> A2 | K19: =VLOOKUP(J19,予選組合せ!$T$6:$V$44,2,FALSE) -> 浜松believe.1 | M19: - | O19: =組合せ!G18 -> A3 | P19: =VLOOKUP(O19,予選組合せ!$T$6:$V$44,2,FALSE) -> 函南勇楽会・い組 | Q19: =組合せ!H18 -> B2 | R19: =VLOOKUP(Q19,予選組合せ!$T$6:$V$44,2,FALSE) -> リトル☆スターズ | T19: - | V19: =組合せ!I18 -> B3 | W19: =VLOOKUP(V19,予選組合せ!$T$6:$V$44,2,FALSE) -> 三島☆金狼 | X19: =B19 -> 0.49722222 | Y19: =A19 -> 15
A20: 16 | B20: =組合せ!C19 -> 0.50347222 | C20: =組合せ!D19 -> E1 | D20: =VLOOKUP(C20,予選組合せ!$T$6:$V$44,2,FALSE) -> 龍池舎じゅにあA | F20: - | H20: =組合せ!E19 -> E3 | I20: =VLOOKUP(H20,予選組合せ!$T$6:$V$44,2,FALSE) -> 城内キッズジュニア | J20: =組合せ!F19 -> F1 | K20: =VLOOKUP(J20,予選組合せ!$T$6:$V$44,2,FALSE) -> ブーメラン X | M20: - | O20: =組合せ!G19 -> F4 | P20: =VLOOKUP(O20,予選組合せ!$T$6:$V$44,2,FALSE) -> リトル☆スターズJr | Q20: =組合せ!H19 -> G1 | R20: =VLOOKUP(Q20,予選組合せ!$T$6:$V$44,2,FALSE) -> gold wolf ジュニア | T20: - | V20: =組合せ!I19 -> G4 | W20: =VLOOKUP(V20,予選組合せ!$T$6:$V$44,2,FALSE) -> スーパー長野Jr | X20: =B20 -> 0.50347222 | Y20: =A20 -> 16
A21: 17 | B21: =組合せ!C20 -> 0.50972222 | C21: =組合せ!D20 -> E4 | D21: =VLOOKUP(C21,予選組合せ!$T$6:$V$44,2,FALSE) -> ちゃっきり一番Jr. | F21: - | H21: =組合せ!E20 -> E5 | I21: =VLOOKUP(H21,予選組合せ!$T$6:$V$44,2,FALSE) -> 三島☆金狼Jr | J21: =組合せ!F20 -> F2 | K21: =VLOOKUP(J21,予選組合せ!$T$6:$V$44,2,FALSE) -> ハリケーンキッズ三島Jr | M21: - | O21: =組合せ!G20 -> F3 | P21: =VLOOKUP(O21,予選組合せ!$T$6:$V$44,2,FALSE) -> 龍池舎じゅにあB | Q21: =組合せ!H20 -> G2 | R21: =VLOOKUP(Q21,予選組合せ!$T$6:$V$44,2,FALSE) -> FUJIミラクルキッズJr. | T21: - | V21: =組合せ!I20 -> G3 | W21: =VLOOKUP(V21,予選組合せ!$T$6:$V$44,2,FALSE) -> ワンピース三島J | X21: =B21 -> 0.50972222 | Y21: =A21 -> 17
A22: 18 | B22: =組合せ!C21 -> 0.51597222 | C22: =組合せ!D21 -> H3 | D22: =VLOOKUP(C22,予選組合せ!$T$6:$V$44,2,FALSE) -> 城内キッズコルツ | H22: =組合せ!E21 -> H7 | I22: =VLOOKUP(H22,予選組合せ!$T$6:$V$44,2,FALSE) -> 社会保険パピィB | J22: =組合せ!F21 -> C1 | K22: =VLOOKUP(J22,予選組合せ!$T$6:$V$44,2,FALSE) -> 龍 池 舎 | M22: - | O22: =組合せ!G21 -> C4 | P22: =VLOOKUP(O22,予選組合せ!$T$6:$V$44,2,FALSE) -> 社会保険ドラゴンズ | Q22: =組合せ!H21 -> D1 | R22: =VLOOKUP(Q22,予選組合せ!$T$6:$V$44,2,FALSE) -> ブーメラン | T22: - | V22: =組合せ!I21 -> D4 | W22: =VLOOKUP(V22,予選組合せ!$T$6:$V$44,2,FALSE) -> 駒越ドラゴンズ | X22: =B22 -> 0.51597222 | Y22: =A22 -> 18
A23: 19 | B23: =組合せ!C22 -> 0.52222222 | C23: =組合せ!D22 -> H4 | D23: =VLOOKUP(C23,予選組合せ!$T$6:$V$44,2,FALSE) -> スーパー長野キッズ | F23: - | H23: =組合せ!E22 -> H6 | I23: =VLOOKUP(H23,予選組合せ!$T$6:$V$44,2,FALSE) -> ちゃっきり一番kids | J23: =組合せ!F22 -> C2 | K23: =VLOOKUP(J23,予選組合せ!$T$6:$V$44,2,FALSE) -> FUJIミラクルキッズ | M23: - | O23: =組合せ!G22 -> C3 | P23: =VLOOKUP(O23,予選組合せ!$T$6:$V$44,2,FALSE) -> 城内キッズ | Q23: =組合せ!H22 -> D2 | R23: =VLOOKUP(Q23,予選組合せ!$T$6:$V$44,2,FALSE) -> ちゃっきり一番 | T23: - | V23: =組合せ!I22 -> D3 | W23: =VLOOKUP(V23,予選組合せ!$T$6:$V$44,2,FALSE) -> スーパー長野 | X23: =B23 -> 0.52222222 | Y23: =A23 -> 19
A24: 20 | B24: =組合せ!C23 -> 0.52847222 | C24: =組合せ!D23 -> E2 | D24: =VLOOKUP(C24,予選組合せ!$T$6:$V$44,2,FALSE) -> 函南勇楽会・よ組 | F24: - | H24: =組合せ!E23 -> E4 | I24: =VLOOKUP(H24,予選組合せ!$T$6:$V$44,2,FALSE) -> ちゃっきり一番Jr. | J24: =組合せ!F23 -> E3 | K24: =VLOOKUP(J24,予選組合せ!$T$6:$V$44,2,FALSE) -> 城内キッズジュニア | M24: - | O24: =組合せ!G23 -> E5 | P24: =VLOOKUP(O24,予選組合せ!$T$6:$V$44,2,FALSE) -> 三島☆金狼Jr | X24: =B24 -> 0.52847222 | Y24: =A24 -> 20
A25: 21 | B25: =組合せ!C24 -> 0.53472222 | C25: =組合せ!D24 -> H2 | D25: =VLOOKUP(C25,予選組合せ!$T$6:$V$44,2,FALSE) -> 龍池舎きっず | F25: - | H25: =組合せ!E24 -> H5 | I25: =VLOOKUP(H25,予選組合せ!$T$6:$V$44,2,FALSE) -> FUJIミラクルソゲキッズ | Q25: =組合せ!H24 -> H3 | R25: =VLOOKUP(Q25,予選組合せ!$T$6:$V$44,2,FALSE) -> 城内キッズコルツ | T25: - | V25: =組合せ!I24 -> H6 | W25: =VLOOKUP(V25,予選組合せ!$T$6:$V$44,2,FALSE) -> ちゃっきり一番kids | X25: =B25 -> 0.53472222 | Y25: =A25 -> 21
A27: － | B27: － | C27: =組合せ!B25 -> 1３：００ ～ 1３：４０ 休憩・集計 | X27: =B27 -> － | Y27: =A27 -> －
A29: =組合せ!B26 -> Ｔ１ | B29: =組合せ!C26 -> 0.56944444 | D29: =IF(オフィシャルトーナメント!B31="","A1位",オフィシャルトーナメント!B31) -> A1位 | F29: - | I29: =IF(オフィシャルトーナメント!F31="","D4位",オフィシャルトーナメント!F31) -> D4位 | K29: =IF(オフィシャルトーナメント!R31="","C2位",オフィシャルトーナメント!R31) -> C2位 | M29: - | P29: =IF(オフィシャルトーナメント!V31="","B3位",オフィシャルトーナメント!V31) -> B3位 | R29: =IF(ジュニアトーナメント!BJ31="","H7位",ジュニアトーナメント!BJ31) -> H7位 | T29: - | W29: =IF(ジュニアトーナメント!BN31="","H4位",ジュニアトーナメント!BN31) -> H4位 | X29: =B29 -> 0.56944444 | Y29: =A29 -> Ｔ１
A30: =組合せ!B27 -> Ｔ２ | B30: =組合せ!C27 -> 0.57638889 | D30: =IF(ジュニアトーナメント!F31="","E5位",ジュニアトーナメント!F31) -> E5位 | F30: - | I30: =IF(ジュニアトーナメント!J31="","F4位",ジュニアトーナメント!J31) -> F4位 | K30: =IF(ジュニアトーナメント!AH31="","E4位",ジュニアトーナメント!AH31) -> E4位 | M30: - | P30: =IF(ジュニアトーナメント!AL31="","G2位",ジュニアトーナメント!AL31) -> G2位 | R30: =IF(ジュニアトーナメント!AP31="","F2位",ジュニアトーナメント!AP31) -> F2位 | T30: - | W30: =IF(ジュニアトーナメント!AT31="","G4位",ジュニアトーナメント!AT31) -> G4位 | X30: =B30 -> 0.57638889 | Y30: =A30 -> Ｔ２
A31: =組合せ!B28 -> Ｔ３ | B31: =組合せ!C28 -> 0.58333333 | D31: =IF(オフィシャルトーナメント!AH31="","C1位",オフィシャルトーナメント!AH31) -> C1位 | F31: - | I31: =IF(オフィシャルトーナメント!AL31="","B4位",オフィシャルトーナメント!AL31) -> B4位 | K31: =IF(オフィシャルトーナメント!AX31="","A2位",オフィシャルトーナメント!AX31) -> A2位 | M31: - | P31: =IF(オフィシャルトーナメント!BB31="","D3位",オフィシャルトーナメント!BB31) -> D3位 | R31: =IF(ジュニアトーナメント!BR31="","H3位",ジュニアトーナメント!BR31) -> H3位 | T31: - | W31: =IF(ジュニアトーナメント!BV31="","H5位",ジュニアトーナメント!BV31) -> H5位 | X31: =B31 -> 0.58333333 | Y31: =A31 -> Ｔ３
A32: =組合せ!B29 -> Ｔ４ | B32: =組合せ!C29 -> 0.59027778 | D32: =IF(オフィシャルトーナメント!J31="","C3位",オフィシャルトーナメント!J31) -> C3位 | F32: - | I32: =IF(オフィシャルトーナメント!N31="","B2位",オフィシャルトーナメント!N31) -> B2位 | K32: =IF(オフィシャルトーナメント!Z31="","A4位",オフィシャルトーナメント!Z31) -> A4位 | M32: - | P32: =IF(オフィシャルトーナメント!AD31="","D1位",オフィシャルトーナメント!AD31) -> D1位 | R32: =IF(ジュニアトーナメント!BZ31="","H6位",ジュニアトーナメント!BZ31) -> H6位 | T32: - | W32: =IF(ジュニアトーナメント!CD31="","H2位",ジュニアトーナメント!CD31) -> H2位 | X32: =B32 -> 0.59027778 | Y32: =A32 -> Ｔ４
A33: =組合せ!B30 -> Ｔ５ | B33: =組合せ!C30 -> 0.59722222 | D33: =IF(オフィシャルトーナメント!AP31="","A3位",オフィシャルトーナメント!AP31) -> A3位 | F33: - | I33: =IF(オフィシャルトーナメント!AT31="","D2位",オフィシャルトーナメント!AT31) -> D2位 | K33: =IF(オフィシャルトーナメント!BF31="","C4位",オフィシャルトーナメント!BF31) -> C4位 | M33: - | P33: =IF(オフィシャルトーナメント!BJ31="","B1位",オフィシャルトーナメント!BJ31) -> B1位 | R33: =IF(ジュニアトーナメント!BF31="","H1位",ジュニアトーナメント!BF31) -> H1位 | T33: - | W33: =IF(S29+U29=0,"C１勝",IF(S29>U29,R29,W29)) -> C１勝 | X33: =B33 -> 0.59722222 | Y33: =A33 -> Ｔ５
A34: =組合せ!B31 -> Ｔ６ | B34: =組合せ!C31 -> 0.60416667 | D34: =IF(ジュニアトーナメント!N31="","E3位",ジュニアトーナメント!N31) -> E3位 | F34: - | I34: =IF(ジュニアトーナメント!R31="","F3位",ジュニアトーナメント!R31) -> F3位 | K34: =IF(ジュニアトーナメント!V31="","G3位",ジュニアトーナメント!V31) -> G3位 | M34: - | P34: =IF(ジュニアトーナメント!Z31="","E2位",ジュニアトーナメント!Z31) -> E2位 | R34: =IF(ジュニアトーナメント!B31="","G1位",ジュニアトーナメント!B31) -> G1位 | T34: - | W34: =IF(E30+G30=0,"A2勝",IF(E30>G30,D30,I30)) -> A2勝 | X34: =B34 -> 0.60416667 | Y34: =A34 -> Ｔ６
A35: =組合せ!B32 -> Ｔ７ | B35: =組合せ!C32 -> 0.61111111 | D35: =IF(E34+G34=0,"A6勝",IF(E34>G34,D34,I34)) -> A6勝 | F35: - | I35: =IF(L34+N34=0,"B6勝",IF(L34>N34,K34,P34)) -> B6勝 | K35: =IF(ジュニアトーナメント!AD31="","F1位",ジュニアトーナメント!AD31) -> F1位 | M35: - | P35: =IF(L30+N30=0,"B2勝",IF(L30>N30,K30,P30)) -> B2勝 | R35: =IF(S30+U30=0,"C2勝",IF(S30>U30,R30,W30)) -> C2勝 | T35: - | W35: =IF(ジュニアトーナメント!AX31="","E1位",ジュニアトーナメント!AX31) -> E1位 | X35: =B35 -> 0.61111111 | Y35: =A35 -> Ｔ７
A36: =組合せ!B33 -> Ｔ８ | B36: =組合せ!C33 -> 0.61805556 | D36: =IF(E29+G29=0,"A1勝",IF(E29>G29,D29,I29)) -> A1勝 | F36: - | I36: =IF(E32+G32=0,"A4勝",IF(E32>G32,D32,I32)) -> A4勝 | K36: =IF(L29+N29=0,"B1勝",IF(L29>N29,K29,P29)) -> B1勝 | M36: - | P36: =IF(L32+N32=0,"B4勝",IF(L32>N32,K32,P32)) -> B4勝 | R36: =IF(S31+U31=0,"C３勝",IF(S31>U31,R31,W31)) -> C３勝 | T36: - | W36: =IF(S32+U32=0,"C4勝",IF(S32>U32,R32,W32)) -> C4勝 | X36: =B36 -> 0.61805556 | Y36: =A36 -> Ｔ８
A37: =組合せ!B34 -> Ｔ９ | B37: =組合せ!C34 -> 0.625 | D37: =IF(E31+G31=0,"A3勝",IF(E31>G31,D31,I31)) -> A3勝 | F37: - | I37: =IF(E33+G33=0,"A5勝",IF(E33>G33,D33,I33)) -> A5勝 | R37: =IF(L31+N31=0,"B3勝",IF(L31>N31,K31,P31)) -> B3勝 | T37: - | W37: =IF(L33+N33=0,"B5勝",IF(L33>N33,K33,P33)) -> B5勝 | X37: =B37 -> 0.625 | Y37: =A37 -> Ｔ９
A38: =組合せ!B35 -> Ｔ１０ | B38: =組合せ!C35 -> 0.63194444 | K38: =IF(S34+U34=0,"C6勝",IF(S34>U34,R34,W34)) -> C6勝 | M38: - | P38: =IF(E35+G35=0,"A7勝",IF(E35>G35,D35,I35)) -> A7勝 | R38: =IF(L35+N35=0,"B7勝",IF(L35>N35,K35,P35)) -> B7勝 | T38: - | W38: =IF(S35+U35=0,"C7勝",IF(S35>U35,R35,W35)) -> C7勝 | X38: =B38 -> 0.63194444 | Y38: =A38 -> Ｔ１０
A39: =組合せ!B36 -> Ｔ１１ | B39: =組合せ!C36 -> 0.63888889 | D39: =IF(E36+G36=0,"A8勝",IF(E36>G36,D36,I36)) -> A8勝 | F39: - | I39: =IF(L36+N36=0,"B8勝",IF(L36>N36,K36,P36)) -> B8勝 | K39: =IF(S33+U33=0,"C5勝",IF(S33>U33,R33,W33)) -> C5勝 | M39: - | P39: =IF(S36+U36=0,"C8勝",IF(S36>U36,R36,W36)) -> C8勝 | R39: =IF(E37+G37=0,"A９勝",IF(E37>G37,D37,I37)) -> A９勝 | T39: - | W39: =IF(S37+U37=0,"C9勝",IF(S37>U37,R37,W37)) -> C9勝 | X39: =B39 -> 0.63888889 | Y39: =A39 -> Ｔ１１
A40: =組合せ!B37 -> Ｔ12 | B40: =組合せ!C38 -> 0.64930556 | D40: =IF(L38+N38=0,"B10勝",IF(L38>N38,K38,P38)) -> B10勝 | F40: - | I40: =IF(S38+U38=0,"C10勝",IF(S38>U38,R38,W38)) -> C10勝 | K40: =IF(E39+G39=0,"A11勝",IF(E39>G39,D39,I39)) -> A11勝 | M40: - | P40: =IF(S39+U39=0,"C11勝",IF(S39>U39,R39,W39)) -> C11勝 | X40: =B40 -> 0.64930556 | Y40: =A40 -> Ｔ12
F41: - | M41: -
F42: - | M42: -

Sheet オフィシャル
A1: =予選組合せ!B2 -> ＮＴＴ docomoCUP・第２１回静岡県ドッジボール選手権 | U1: =予選組合せ!O2 -> 42632
A3: =予選組合せ!B4 -> ＜オフィシャルの部＞（Ａ・Ｂ・Ｃ・Ｄ）
A4: Aブロック | C4: =A5 -> A1 | F4: =A7 -> A2 | I4: =A9 -> A3 | L4: =A11 -> A4 | P4: 勝 | Q4: - | R4: 分 | S4: - | T4: 負 | U4: 勝点 | V4: 得 点 | Y4: 順位 | AB4: A | AC4: チーム名 | AF4: A1 | AG4: =AC5
A5: A1 | B5: =VLOOKUP(A5,予選組合せ!$T$6:$V$44,2,FALSE) -> ワンピース三島 | F5: =IF(F6+H6=0,"",IF(F6=H6,"△",IF(F6>H6,"○","×"))) | I5: =IF(I6+K6=0,"",IF(I6=K6,"△",IF(I6>K6,"○","×"))) | L5: =IF(L6+N6=0,"",IF(L6=N6,"△",IF(L6>N6,"○","×"))) | P5: =COUNTIF(C5:N6,"○") -> 0 | Q5: - | R5: =COUNTIF(C5:N6,"△") -> 0 | S5: - | T5: =COUNTIF(C5:N6,"×") -> 0 | U5: =P5*2+R5*1 -> 0 | V5: =F6+I6+L6 -> 0 | W5: - | X5: =H6+K6+N6 -> 0 | Y5: =IF($AA$5+$AA$7+$AA$9+$AA$11=0,"",RANK(AA5,$AA$5:$AA$12)) | AA5: =U5*10000+V5*100-X5*10 -> 0 | AB5: 1 | AC5: =IF($AA$5+$AA$7+$AA$9+$AA$1=0,"",IF(AB5=$Y$5,$B$5,IF(AB5=$Y$7,$B$7,IF(AB5=$Y$9,$B$9,IF(AB5=$Y$11,$B$11,""))))) | AF5: A2 | AG5: =AC6
F6: =タイムスケジュール!E5 -> 0 | G6: - | H6: =タイムスケジュール!G5 -> 0 | I6: =タイムスケジュール!S11 -> 0 | J6: - | K6: =タイムスケジュール!U11 -> 0 | L6: =タイムスケジュール!L18 -> 0 | M6: - | N6: =タイムスケジュール!N18 -> 0 | AB6: 2 | AC6: =IF($AA$5+$AA$7+$AA$9+$AA$1=0,"",IF(AB6=$Y$5,$B$5,IF(AB6=$Y$7,$B$7,IF(AB6=$Y$9,$B$9,IF(AB6=$Y$11,$B$11,""))))) | AF6: A3 | AG6: =AC7
A7: A2 | B7: =VLOOKUP(A7,予選組合せ!$T$5:$U$52,2,FALSE) -> 浜松believe.1 | C7: =IF(C8+E8=0,"",IF(C8=E8,"△",IF(C8>E8,"○","×"))) | I7: =IF(I8+K8=0,"",IF(I8=K8,"△",IF(I8>K8,"○","×"))) | L7: =IF(L8+N8=0,"",IF(L8=N8,"△",IF(L8>N8,"○","×"))) | P7: =COUNTIF(C7:N8,"○") -> 0 | Q7: - | R7: =COUNTIF(C7:N8,"△") -> 0 | S7: - | T7: =COUNTIF(C7:N8,"×") -> 0 | U7: =P7*2+R7*1 -> 0 | V7: =C8+I8+L8 -> 0 | W7: - | X7: =E8+K8+N8 -> 0 | Y7: =IF($AA$5+$AA$7+$AA$9+$AA$11=0,"",RANK(AA7,$AA$5:$AA$12)) | AA7: =U7*10000+V7*100-X7*10 -> 0 | AB7: 3 | AC7: =IF($AA$5+$AA$7+$AA$9+$AA$1=0,"",IF(AB7=$Y$5,$B$5,IF(AB7=$Y$7,$B$7,IF(AB7=$Y$9,$B$9,IF(AB7=$Y$11,$B$11,""))))) | AF7: A4 | AG7: =AC8
C8: =H6 -> 0 | D8: - | E8: =F6 -> 0 | I8: =タイムスケジュール!L19 -> 0 | J8: - | K8: =タイムスケジュール!N19 -> 0 | L8: =タイムスケジュール!S12 -> 0 | M8: - | N8: =タイムスケジュール!U12 -> 0 | AB8: 4 | AC8: =IF($AA$5+$AA$7+$AA$9+$AA$1=0,"",IF(AB8=$Y$5,$B$5,IF(AB8=$Y$7,$B$7,IF(AB8=$Y$9,$B$9,IF(AB8=$Y$11,$B$11,"")))))
A9: A3 | B9: =VLOOKUP(A9,予選組合せ!$T$5:$U$52,2,FALSE) -> 函南勇楽会・い組 | C9: =IF(C10+E10=0,"",IF(C10=E10,"△",IF(C10>E10,"○","×"))) | F9: =IF(F10+H10=0,"",IF(F10=H10,"△",IF(F10>H10,"○","×"))) | L9: =IF(L10+N10=0,"",IF(L10=N10,"△",IF(L10>N10,"○","×"))) | P9: =COUNTIF(C9:N10,"○") -> 0 | Q9: - | R9: =COUNTIF(C9:N10,"△") -> 0 | S9: - | T9: =COUNTIF(C9:N10,"×") -> 0 | U9: =P9*2+R9*1 -> 0 | V9: =C10+F10+L10 -> 0 | W9: - | X9: =E10+H10+N10 -> 0 | Y9: =IF($AA$5+$AA$7+$AA$9+$AA$11=0,"",RANK(AA9,$AA$5:$AA$12)) | AA9: =U9*10000+V9*100-X9*10 -> 0 | AB9: 5 | AC9: =IF($AA$5+$AA$7+$AA$9+$AA$1=0,"",IF(AB9=$Y$5,$B$5,IF(AB9=$Y$7,$B$7,IF(AB9=$Y$9,$B$9,IF(AB9=$Y$11,$B$11,""))))) | AF9: B1 | AG9: =AC15
C10: =K6 -> 0 | D10: - | E10: =I6 -> 0 | F10: =K8 -> 0 | G10: - | H10: =I8 -> 0 | L10: =タイムスケジュール!E6 -> 0 | M10: - | N10: =タイムスケジュール!G6 -> 0 | AB10: 6 | AC10: =IF($AA$5+$AA$7+$AA$9+$AA$1=0,"",IF(AB10=$Y$5,$B$5,IF(AB10=$Y$7,$B$7,IF(AB10=$Y$9,$B$9,IF(AB10=$Y$11,$B$11,""))))) | AF10: B2 | AG10: =AC16
A11: A4 | B11: =VLOOKUP(A11,予選組合せ!$T$5:$U$52,2,FALSE) -> マジカルキッズ | C11: =IF(C12+E12=0,"",IF(C12=E12,"△",IF(C12>E12,"○","×"))) | F11: =IF(F12+H12=0,"",IF(F12=H12,"△",IF(F12>H12,"○","×"))) | I11: =IF(I12+K12=0,"",IF(I12=K12,"△",IF(I12>K12,"○","×"))) | P11: =COUNTIF(C11:N12,"○") -> 0 | Q11: - | R11: =COUNTIF(C11:N12,"△") -> 0 | S11: - | T11: =COUNTIF(C11:N12,"×") -> 0 | U11: =P11*2+R11*1 -> 0 | V11: =C12+F12+I12 -> 0 | W11: - | X11: =E12+H12+K12 -> 0 | Y11: =IF($AA$5+$AA$7+$AA$9+$AA$11=0,"",RANK(AA11,$AA$5:$AA$12)) | AA11: =U11*10000+V11*100-X11*10 -> 0 | AF11: B3 | AG11: =AC17
C12: =N6 -> 0 | D12: - | E12: =L6 -> 0 | F12: =N8 -> 0 | G12: - | H12: =L8 -> 0 | I12: =N10 -> 0 | J12: - | K12: =L10 -> 0 | AF12: B4 | AG12: =AC18
A14: Ｂブロック | C14: =A15 -> B1 | F14: =A17 -> B2 | I14: =A19 -> B3 | L14: =A21 -> B4 | P14: 勝 | Q14: - | R14: 分 | S14: - | T14: 負 | U14: 勝点 | V14: 得 点 | Y14: 順位 | AB14: B | AC14: チーム名 | AF14: C1 | AG14: =AC25
A15: B1 | B15: =VLOOKUP(A15,予選組合せ!$T$5:$U$52,2,FALSE) -> 焼津フェニックス | F15: =IF(F16+H16=0,"",IF(F16=H16,"△",IF(F16>H16,"○","×"))) | I15: =IF(I16+K16=0,"",IF(I16=K16,"△",IF(I16>K16,"○","×"))) | L15: =IF(L16+N16=0,"",IF(L16=N16,"△",IF(L16>N16,"○","×"))) | P15: =COUNTIF(C15:N16,"○") -> 0 | Q15: - | R15: =COUNTIF(C15:N16,"△") -> 0 | S15: - | T15: =COUNTIF(C15:N16,"×") -> 0 | U15: =P15*2+R15*1 -> 0 | V15: =F16+I16+L16 -> 0 | W15: - | X15: =H16+K16+N16 -> 0 | Y15: =IF(AA15+AA17+AA19+AA21=0,"",RANK(AA15,AA15:AA22)) | AA15: =U15*10000+V15*100-X15*10 -> 0 | AB15: 1 | AC15: =IF(AA15+AA17+AA19+AA21=0,"",IF(AB15=Y15,B15,IF(AB15=Y17,B17,IF(AB15=Y19,B19,IF(AB15=Y21,B21,""))))) | AF15: C2 | AG15: =AC26
F16: =タイムスケジュール!L5 -> 0 | G16: - | H16: =タイムスケジュール!N5 -> 0 | I16: =タイムスケジュール!E11 -> 0 | J16: - | K16: =タイムスケジュール!G11 -> 0 | L16: =タイムスケジュール!S18 -> 0 | M16: - | N16: =タイムスケジュール!U18 -> 0 | AB16: 2 | AC16: =IF($AA$15+$AA$17+$AA$19+$AA$21=0,"",IF(AB16=$Y$15,$B$15,IF(AB16=$Y$17,$B$17,IF(AB16=$Y$19,$B$19,IF(AB16=$Y$21,$B$21,""))))) | AF16: C3 | AG16: =AC27
A17: B2 | B17: =VLOOKUP(A17,予選組合せ!$T$5:$U$52,2,FALSE) -> リトル☆スターズ | C17: =IF(C18+E18=0,"",IF(C18=E18,"△",IF(C18>E18,"○","×"))) | I17: =IF(I18+K18=0,"",IF(I18=K18,"△",IF(I18>K18,"○","×"))) | L17: =IF(L18+N18=0,"",IF(L18=N18,"△",IF(L18>N18,"○","×"))) | P17: =COUNTIF(C17:N18,"○") -> 0 | Q17: - | R17: =COUNTIF(C17:N18,"△") -> 0 | S17: - | T17: =COUNTIF(C17:N18,"×") -> 0 | U17: =P17*2+R17*1 -> 0 | V17: =C18+I18+L18 -> 0 | W17: - | X17: =E18+K18+N18 -> 0 | Y17: =IF($AA$15+$AA$17+$AA$19+$AA$21=0,"",RANK(AA17,$AA$15:$AA$22)) | AA17: =U17*10000+V17*100-X17*10 -> 0 | AB17: 3 | AC17: =IF($AA$15+$AA$17+$AA$19+$AA$21=0,"",IF(AB17=$Y$15,$B$15,IF(AB17=$Y$17,$B$17,IF(AB17=$Y$19,$B$19,IF(AB17=$Y$21,$B$21,""))))) | AF17: C4 | AG17: =AC28
C18: =H16 -> 0 | D18: - | E18: =F16 -> 0 | I18: =タイムスケジュール!S19 -> 0 | J18: - | K18: =タイムスケジュール!U19 -> 0 | L18: =タイムスケジュール!E12 -> 0 | M18: - | N18: =タイムスケジュール!G12 -> 0 | AB18: 4 | AC18: =IF($AA$15+$AA$17+$AA$19+$AA$21=0,"",IF(AB18=$Y$15,$B$15,IF(AB18=$Y$17,$B$17,IF(AB18=$Y$19,$B$19,IF(AB18=$Y$21,$B$21,"")))))
A19: B3 | B19: =VLOOKUP(A19,予選組合せ!$T$5:$U$52,2,FALSE) -> 三島☆金狼 | C19: =IF(C20+E20=0,"",IF(C20=E20,"△",IF(C20>E20,"○","×"))) | F19: =IF(F20+H20=0,"",IF(F20=H20,"△",IF(F20>H20,"○","×"))) | L19: =IF(L20+N20=0,"",IF(L20=N20,"△",IF(L20>N20,"○","×"))) | P19: =COUNTIF(C19:N20,"○") -> 0 | Q19: - | R19: =COUNTIF(C19:N20,"△") -> 0 | S19: - | T19: =COUNTIF(C19:N20,"×") -> 0 | U19: =P19*2+R19*1 -> 0 | V19: =C20+F20+L20 -> 0 | W19: - | X19: =E20+H20+N20 -> 0 | Y19: =IF($AA$15+$AA$17+$AA$19+$AA$21=0,"",RANK(AA19,$AA$15:$AA$22)) | AA19: =U19*10000+V19*100-X19*10 -> 0 | AB19: 5 | AC19: =IF($AA$15+$AA$17+$AA$19+$AA$21=0,"",IF(AB19=$Y$15,$B$15,IF(AB19=$Y$17,$B$17,IF(AB19=$Y$19,$B$19,IF(AB19=$Y$21,$B$21,""))))) | AF19: D1 | AG19: =AC35
C20: =K16 -> 0 | D20: - | E20: =I16 -> 0 | F20: =K18 -> 0 | G20: - | H20: =I18 -> 0 | L20: =タイムスケジュール!L6 -> 0 | M20: - | N20: =タイムスケジュール!N6 -> 0 | AB20: 6 | AC20: =IF($AA$15+$AA$17+$AA$19+$AA$21=0,"",IF(AB20=$Y$15,$B$15,IF(AB20=$Y$17,$B$17,IF(AB20=$Y$19,$B$19,IF(AB20=$Y$21,$B$21,""))))) | AF20: D2 | AG20: =AC36
A21: B4 | B21: =VLOOKUP(A21,予選組合せ!$T$5:$U$52,2,FALSE) -> 広幡ドッジキッズ | C21: =IF(C22+E22=0,"",IF(C22=E22,"△",IF(C22>E22,"○","×"))) | F21: =IF(F22+H22=0,"",IF(F22=H22,"△",IF(F22>H22,"○","×"))) | I21: =IF(I22+K22=0,"",IF(I22=K22,"△",IF(I22>K22,"○","×"))) | P21: =COUNTIF(C21:N22,"○") -> 0 | Q21: - | R21: =COUNTIF(C21:N22,"△") -> 0 | S21: - | T21: =COUNTIF(C21:N22,"×") -> 0 | U21: =P21*2+R21*1 -> 0 | V21: =C22+F22+I22 -> 0 | W21: - | X21: =E22+H22+K22 -> 0 | Y21: =IF($AA$15+$AA$17+$AA$19+$AA$21=0,"",RANK(AA21,$AA$15:$AA$22)) | AA21: =U21*10000+V21*100-X21*10 -> 0 | AF21: D3 | AG21: =AC37
C22: =N16 -> 0 | D22: - | E22: =L16 -> 0 | F22: =N18 -> 0 | G22: - | H22: =L18 -> 0 | I22: =N20 -> 0 | J22: - | K22: =L20 -> 0 | AF22: D4 | AG22: =AC38
A24: Cブロック | C24: =A25 -> C1 | F24: =A27 -> C2 | I24: =A29 -> C3 | L24: =A31 -> C4 | P24: 勝 | Q24: - | R24: 分 | S24: - | T24: 負 | U24: 勝点 | V24: 得 点 | Y24: 順位 | AB24: C | AC24: チーム名
A25: C1 | B25: =VLOOKUP(A25,予選組合せ!$T$5:$U$52,2,FALSE) -> 龍 池 舎 | F25: =IF(F26+H26=0,"",IF(F26=H26,"△",IF(F26>H26,"○","×"))) | I25: =IF(I26+K26=0,"",IF(I26=K26,"△",IF(I26>K26,"○","×"))) | L25: =IF(L26+N26=0,"",IF(L26=N26,"△",IF(L26>N26,"○","×"))) | P25: =COUNTIF(C25:N26,"○") -> 0 | Q25: - | R25: =COUNTIF(C25:N26,"△") -> 0 | S25: - | T25: =COUNTIF(C25:N26,"×") -> 0 | U25: =P25*2+R25*1 -> 0 | V25: =F26+I26+L26 -> 0 | W25: - | X25: =H26+K26+N26 -> 0 | Y25: =IF($AA$25+$AA$27+$AA$29+$AA$31=0,"",RANK(AA25,$AA$25:$AA$32)) | AA25: =U25*10000+V25*100-X25*10 -> 0 | AB25: 1 | AC25: =IF($AA$25+$AA$27+$AA$29+$AA$31=0,"",IF(AB25=$Y$25,$B$25,IF(AB25=$Y$27,$B$27,IF(AB25=$Y$29,$B$29,IF(AB25=$Y$31,$B$31,"")))))
F26: =タイムスケジュール!E7 -> 0 | G26: - | H26: =タイムスケジュール!G7 -> 0 | I26: =タイムスケジュール!S15 -> 0 | J26: - | K26: =タイムスケジュール!U15 -> 0 | L26: =タイムスケジュール!L22 -> 0 | M26: - | N26: =タイムスケジュール!N22 -> 0 | AB26: 2 | AC26: =IF($AA$25+$AA$27+$AA$29+$AA$31=0,"",IF(AB26=$Y$25,$B$25,IF(AB26=$Y$27,$B$27,IF(AB26=$Y$29,$B$29,IF(AB26=$Y$31,$B$31,"")))))
A27: C2 | B27: =VLOOKUP(A27,予選組合せ!$T$5:$U$52,2,FALSE) -> FUJIミラクルキッズ | C27: =IF(C28+E28=0,"",IF(C28=E28,"△",IF(C28>E28,"○","×"))) | I27: =IF(I28+K28=0,"",IF(I28=K28,"△",IF(I28>K28,"○","×"))) | L27: =IF(L28+N28=0,"",IF(L28=N28,"△",IF(L28>N28,"○","×"))) | P27: =COUNTIF(C27:N28,"○") -> 0 | Q27: - | R27: =COUNTIF(C27:N28,"△") -> 0 | S27: - | T27: =COUNTIF(C27:N28,"×") -> 0 | U27: =P27*2+R27*1 -> 0 | V27: =C28+I28+L28 -> 0 | W27: - | X27: =E28+K28+N28 -> 0 | Y27: =IF($AA$25+$AA$27+$AA$29+$AA$31=0,"",RANK(AA27,$AA$25:$AA$32)) | AA27: =U27*10000+V27*100-X27*10 -> 0 | AB27: 3 | AC27: =IF($AA$25+$AA$27+$AA$29+$AA$31=0,"",IF(AB27=$Y$25,$B$25,IF(AB27=$Y$27,$B$27,IF(AB27=$Y$29,$B$29,IF(AB27=$Y$31,$B$31,"")))))
C28: =H26 -> 0 | D28: - | E28: =F26 -> 0 | I28: =タイムスケジュール!L23 -> 0 | J28: - | K28: =タイムスケジュール!N23 -> 0 | L28: =タイムスケジュール!S16 -> 0 | M28: - | N28: =タイムスケジュール!U16 -> 0 | AB28: 4 | AC28: =IF($AA$25+$AA$27+$AA$29+$AA$31=0,"",IF(AB28=$Y$25,$B$25,IF(AB28=$Y$27,$B$27,IF(AB28=$Y$29,$B$29,IF(AB28=$Y$31,$B$31,"")))))
A29: C3 | B29: =VLOOKUP(A29,予選組合せ!$T$5:$U$52,2,FALSE) -> 城内キッズ | C29: =IF(C30+E30=0,"",IF(C30=E30,"△",IF(C30>E30,"○","×"))) | F29: =IF(F30+H30=0,"",IF(F30=H30,"△",IF(F30>H30,"○","×"))) | L29: =IF(L30+N30=0,"",IF(L30=N30,"△",IF(L30>N30,"○","×"))) | P29: =COUNTIF(C29:N30,"○") -> 0 | Q29: - | R29: =COUNTIF(C29:N30,"△") -> 0 | S29: - | T29: =COUNTIF(C29:N30,"×") -> 0 | U29: =P29*2+R29*1 -> 0 | V29: =C30+F30+L30 -> 0 | W29: - | X29: =E30+H30+N30 -> 0 | Y29: =IF($AA$25+$AA$27+$AA$29+$AA$31=0,"",RANK(AA29,$AA$25:$AA$32)) | AA29: =U29*10000+V29*100-X29*10 -> 0 | AB29: 5 | AC29: =IF($AA$15+$AA$17+$AA$19+$AA$21=0,"",IF(AB29=$Y$15,$B$15,IF(AB29=$Y$17,$B$17,IF(AB29=$Y$19,$B$19,IF(AB29=$Y$21,$B$21,"")))))
C30: =K26 -> 0 | D30: - | E30: =I26 -> 0 | F30: =K28 -> 0 | G30: - | H30: =I28 -> 0 | L30: =タイムスケジュール!E8 -> 0 | M30: - | N30: =タイムスケジュール!G8 -> 0 | AB30: 6 | AC30: =IF($AA$15+$AA$17+$AA$19+$AA$21=0,"",IF(AB30=$Y$15,$B$15,IF(AB30=$Y$17,$B$17,IF(AB30=$Y$19,$B$19,IF(AB30=$Y$21,$B$21,"")))))
A31: C4 | B31: =VLOOKUP(A31,予選組合せ!$T$5:$U$52,2,FALSE) -> 社会保険ドラゴンズ | C31: =IF(C32+E32=0,"",IF(C32=E32,"△",IF(C32>E32,"○","×"))) | F31: =IF(F32+H32=0,"",IF(F32=H32,"△",IF(F32>H32,"○","×"))) | I31: =IF(I32+K32=0,"",IF(I32=K32,"△",IF(I32>K32,"○","×"))) | P31: =COUNTIF(C31:N32,"○") -> 0 | Q31: - | R31: =COUNTIF(C31:N32,"△") -> 0 | S31: - | T31: =COUNTIF(C31:N32,"×") -> 0 | U31: =P31*2+R31*1 -> 0 | V31: =C32+F32+I32 -> 0 | W31: - | X31: =E32+H32+K32 -> 0 | Y31: =IF($AA$25+$AA$27+$AA$29+$AA$31=0,"",RANK(AA31,$AA$25:$AA$32)) | AA31: =U31*10000+V31*100-X31*10 -> 0
C32: =N26 -> 0 | D32: - | E32: =L26 -> 0 | F32: =N28 -> 0 | G32: - | H32: =L28 -> 0 | I32: =N30 -> 0 | J32: - | K32: =L30 -> 0
A34: Dブロック | C34: =A35 -> D1 | F34: =A37 -> D2 | I34: =A39 -> D3 | L34: =A41 -> D4 | P34: 勝 | Q34: - | R34: 分 | S34: - | T34: 負 | U34: 勝点 | V34: 得 点 | Y34: 順位 | AB34: D | AC34: チーム名
A35: D1 | B35: =VLOOKUP(A35,予選組合せ!$T$6:$V$44,2,FALSE) -> ブーメラン | F35: =IF(F36+H36=0,"",IF(F36=H36,"△",IF(F36>H36,"○","×"))) | I35: =IF(I36+K36=0,"",IF(I36=K36,"△",IF(I36>K36,"○","×"))) | L35: =IF(L36+N36=0,"",IF(L36=N36,"△",IF(L36>N36,"○","×"))) | P35: =COUNTIF(C35:N36,"○") -> 0 | Q35: - | R35: =COUNTIF(C35:N36,"△") -> 0 | S35: - | T35: =COUNTIF(C35:N36,"×") -> 0 | U35: =P35*2+R35*1 -> 0 | V35: =F36+I36+L36 -> 0 | W35: - | X35: =H36+K36+N36 -> 0 | Y35: =IF($AA$35+$AA$37+$AA$39+$AA$41=0,"",RANK(AA35,$AA$35:$AA$42)) | AA35: =U35*10000+V35*100-X35*10 -> 0 | AB35: 1 | AC35: =IF($AA$35+$AA$37+$AA$39+$AA$41=0,"",IF(AB35=$Y$35,$B$35,IF(AB35=$Y$37,$B$37,IF(AB35=$Y$39,$B$39,IF(AB35=$Y$41,$B$41,"")))))
F36: =タイムスケジュール!L7 -> 0 | G36: - | H36: =タイムスケジュール!N7 -> 0 | I36: =タイムスケジュール!S13 -> 0 | J36: - | K36: =タイムスケジュール!U13 -> 0 | L36: =タイムスケジュール!S22 -> 0 | M36: - | N36: =タイムスケジュール!U22 -> 0 | AB36: 2 | AC36: =IF($AA$35+$AA$37+$AA$39+$AA$41=0,"",IF(AB36=$Y$35,$B$35,IF(AB36=$Y$37,$B$37,IF(AB36=$Y$39,$B$39,IF(AB36=$Y$41,$B$41,"")))))
A37: D2 | B37: =VLOOKUP(A37,予選組合せ!$T$5:$U$52,2,FALSE) -> ちゃっきり一番 | C37: =IF(C38+E38=0,"",IF(C38=E38,"△",IF(C38>E38,"○","×"))) | I37: =IF(I38+K38=0,"",IF(I38=K38,"△",IF(I38>K38,"○","×"))) | L37: =IF(L38+N38=0,"",IF(L38=N38,"△",IF(L38>N38,"○","×"))) | P37: =COUNTIF(C37:N38,"○") -> 0 | Q37: - | R37: =COUNTIF(C37:N38,"△") -> 0 | S37: - | T37: =COUNTIF(C37:N38,"×") -> 0 | U37: =P37*2+R37*1 -> 0 | V37: =C38+I38+L38 -> 0 | W37: - | X37: =E38+K38+N38 -> 0 | Y37: =IF($AA$35+$AA$37+$AA$39+$AA$41=0,"",RANK(AA37,$AA$35:$AA$42)) | AA37: =U37*10000+V37*100-X37*10 -> 0 | AB37: 3 | AC37: =IF($AA$35+$AA$37+$AA$39+$AA$41=0,"",IF(AB37=$Y$35,$B$35,IF(AB37=$Y$37,$B$37,IF(AB37=$Y$39,$B$39,IF(AB37=$Y$41,$B$41,"")))))
C38: =H36 -> 0 | D38: - | E38: =F36 -> 0 | I38: =タイムスケジュール!S23 -> 0 | J38: - | K38: =タイムスケジュール!U23 -> 0 | L38: =タイムスケジュール!E16 -> 0 | M38: - | N38: =タイムスケジュール!G16 -> 0 | AB38: 4 | AC38: =IF($AA$35+$AA$37+$AA$39+$AA$41=0,"",IF(AB38=$Y$35,$B$35,IF(AB38=$Y$37,$B$37,IF(AB38=$Y$39,$B$39,IF(AB38=$Y$41,$B$41,"")))))
A39: D3 | B39: =VLOOKUP(A39,予選組合せ!$T$5:$U$52,2,FALSE) -> スーパー長野 | C39: =IF(C40+E40=0,"",IF(C40=E40,"△",IF(C40>E40,"○","×"))) | F39: =IF(F40+H40=0,"",IF(F40=H40,"△",IF(F40>H40,"○","×"))) | L39: =IF(L40+N40=0,"",IF(L40=N40,"△",IF(L40>N40,"○","×"))) | P39: =COUNTIF(C39:N40,"○") -> 0 | Q39: - | R39: =COUNTIF(C39:N40,"△") -> 0 | S39: - | T39: =COUNTIF(C39:N40,"×") -> 0 | U39: =P39*2+R39*1 -> 0 | V39: =C40+F40+L40 -> 0 | W39: - | X39: =E40+H40+N40 -> 0 | Y39: =IF($AA$35+$AA$37+$AA$39+$AA$41=0,"",RANK(AA39,$AA$35:$AA$42)) | AA39: =U39*10000+V39*100-X39*10 -> 0 | AB39: 5 | AC39: =IF($AA$15+$AA$17+$AA$19+$AA$21=0,"",IF(AB39=$Y$15,$B$15,IF(AB39=$Y$17,$B$17,IF(AB39=$Y$19,$B$19,IF(AB39=$Y$21,$B$21,"")))))
C40: =K36 -> 0 | D40: - | E40: =I36 -> 0 | F40: =K38 -> 0 | G40: - | H40: =I38 -> 0 | L40: =タイムスケジュール!L8 -> 0 | M40: - | N40: =タイムスケジュール!N8 -> 0 | AB40: 6 | AC40: =IF($AA$15+$AA$17+$AA$19+$AA$21=0,"",IF(AB40=$Y$15,$B$15,IF(AB40=$Y$17,$B$17,IF(AB40=$Y$19,$B$19,IF(AB40=$Y$21,$B$21,"")))))
A41: D4 | B41: =VLOOKUP(A41,予選組合せ!$T$5:$U$52,2,FALSE) -> 駒越ドラゴンズ | C41: =IF(C42+E42=0,"",IF(C42=E42,"△",IF(C42>E42,"○","×"))) | F41: =IF(F42+H42=0,"",IF(F42=H42,"△",IF(F42>H42,"○","×"))) | I41: =IF(I42+K42=0,"",IF(I42=K42,"△",IF(I42>K42,"○","×"))) | P41: =COUNTIF(C41:N42,"○") -> 0 | Q41: - | R41: =COUNTIF(C41:N42,"△") -> 0 | S41: - | T41: =COUNTIF(C41:N42,"×") -> 0 | U41: =P41*2+R41*1 -> 0 | V41: =C42+F42+I42 -> 0 | W41: - | X41: =E42+H42+K42 -> 0 | Y41: =IF($AA$35+$AA$37+$AA$39+$AA$41=0,"",RANK(AA41,$AA$35:$AA$42)) | AA41: =U41*10000+V41*100-X41*10 -> 0
C42: =N36 -> 0 | D42: - | E42: =L36 -> 0 | F42: =N38 -> 0 | G42: - | H42: =L38 -> 0 | I42: =N40 -> 0 | J42: - | K42: =L40 -> 0

Sheet ジュニア
A1: =予選組合せ!B2 -> ＮＴＴ docomoCUP・第２１回静岡県ドッジボール選手権 | X1: =予選組合せ!O2 -> 42632
A3: =予選組合せ!B18 -> ＜ジュニアの部＞（E・Ｆ・Ｇ）
A4: Eブロック | C4: =A5 -> E1 | F4: =A7 -> E2 | I4: =A9 -> E3 | L4: =A11 -> E4 | O4: =A13 -> E5 | S4: 勝 | T4: - | U4: 分 | V4: - | W4: 負 | X4: 勝点 | Y4: 得 点 | AB4: 順位 | AE4: E | AF4: チーム名 | AI4: E1 | AJ4: =AF5
A5: E1 | B5: =VLOOKUP(A5,予選組合せ!$T$5:$U$44,2,FALSE) -> 龍池舎じゅにあA | F5: =IF(F6+H6=0,"",IF(F6=H6,"△",IF(F6>H6,"○","×"))) | I5: =IF(I6+K6=0,"",IF(I6=K6,"△",IF(I6>K6,"○","×"))) | L5: =IF(L6+N6=0,"",IF(L6=N6,"△",IF(L6>N6,"○","×"))) | O5: =IF(O6+Q6=0,"",IF(O6=Q6,"△",IF(O6>Q6,"○","×"))) | S5: =COUNTIF(C5:Q6,"○") -> 0 | T5: - | U5: =COUNTIF(C5:Q6,"△") -> 0 | V5: - | W5: =COUNTIF(C5:Q6,"×") -> 0 | X5: =S5*2+U5*1 -> 0 | Y5: =F6+I6+L6+O6 -> 0 | Z5: - | AA5: =H6+K6+N6+Q6 -> 0 | AB5: =IF($AD$5+$AD$7+$AD$9+$AD$11+$AD$13=0,"",RANK(AD5,$AD$5:$AD$14)) | AD5: =X5*10000+Y5*100-AA5*10 -> 0 | AE5: 1 | AF5: =IF($AD$5+$AD$7+$AD$9+$AD$11+$AD$13=0,"",IF(AE5=$AB$5,$B$5,IF(AE5=$AB$7,$B$7,IF(AE5=$AB$9,$B$9,IF(AE5=$AB$11,$B$11,IF(AE5=$AB$13,$B$13,"")))))) | AI5: E2 | AJ5: =AF6
F6: =タイムスケジュール!E9 -> 0 | G6: - | H6: =タイムスケジュール!G9 -> 0 | I6: =タイムスケジュール!E20 -> 0 | J6: - | K6: =タイムスケジュール!G20 -> 0 | L6: =タイムスケジュール!S17 -> 0 | M6: - | N6: =タイムスケジュール!U17 -> 0 | O6: =タイムスケジュール!L13 -> 0 | P6: - | Q6: =タイムスケジュール!N13 -> 0 | AE6: 2 | AF6: =IF($AD$5+$AD$7+$AD$9+$AD$11+$AD$13=0,"",IF(AE6=$AB$5,$B$5,IF(AE6=$AB$7,$B$7,IF(AE6=$AB$9,$B$9,IF(AE6=$AB$11,$B$11,IF(AE6=$AB$13,$B$13,"")))))) | AI6: E3 | AJ6: =AF7
A7: E2 | B7: =VLOOKUP(A7,予選組合せ!$T$5:$U$44,2,FALSE) -> 函南勇楽会・よ組 | C7: =IF(C8+E8=0,"",IF(C8=E8,"△",IF(C8>E8,"○","×"))) | I7: =IF(I8+K8=0,"",IF(I8=K8,"△",IF(I8>K8,"○","×"))) | L7: =IF(L8+N8=0,"",IF(L8=N8,"△",IF(L8>N8,"○","×"))) | O7: =IF(O8+Q8=0,"",IF(O8=Q8,"△",IF(O8>Q8,"○","×"))) | S7: =COUNTIF(C7:Q8,"○") -> 0 | T7: - | U7: =COUNTIF(C7:Q8,"△") -> 0 | V7: - | W7: =COUNTIF(C7:Q8,"×") -> 0 | X7: =S7*2+U7*1 -> 0 | Y7: =C8+I8+L8+O8 -> 0 | Z7: - | AA7: =E8+K8+N8+Q8 -> 0 | AB7: =IF($AD$5+$AD$7+$AD$9+$AD$11+$AD$13=0,"",RANK(AD7,$AD$5:$AD$14)) | AD7: =X7*10000+Y7*100-AA7*10 -> 0 | AE7: 3 | AF7: =IF($AD$5+$AD$7+$AD$9+$AD$11+$AD$13=0,"",IF(AE7=$AB$5,$B$5,IF(AE7=$AB$7,$B$7,IF(AE7=$AB$9,$B$9,IF(AE7=$AB$11,$B$11,IF(AE7=$AB$13,$B$13,"")))))) | AI7: E4 | AJ7: =AF8
C8: =H6 -> 0 | D8: - | E8: =F6 -> 0 | I8: =タイムスケジュール!L14 -> 0 | J8: - | K8: =タイムスケジュール!N14 -> 0 | L8: =タイムスケジュール!E24 -> 0 | M8: - | N8: =タイムスケジュール!G24 -> 0 | O8: =タイムスケジュール!L17 -> 0 | P8: - | Q8: =タイムスケジュール!N17 -> 0 | AE8: 4 | AF8: =IF($AD$5+$AD$7+$AD$9+$AD$11+$AD$13=0,"",IF(AE8=$AB$5,$B$5,IF(AE8=$AB$7,$B$7,IF(AE8=$AB$9,$B$9,IF(AE8=$AB$11,$B$11,IF(AE8=$AB$13,$B$13,"")))))) | AI8: E5 | AJ8: =AF9
A9: E3 | B9: =VLOOKUP(A9,予選組合せ!$T$5:$U$44,2,FALSE) -> 城内キッズジュニア | C9: =IF(C10+E10=0,"",IF(C10=E10,"△",IF(C10>E10,"○","×"))) | F9: =IF(F10+H10=0,"",IF(F10=H10,"△",IF(F10>H10,"○","×"))) | L9: =IF(L10+N10=0,"",IF(L10=N10,"△",IF(L10>N10,"○","×"))) | O9: =IF(O10+Q10=0,"",IF(O10=Q10,"△",IF(O10>Q10,"○","×"))) | S9: =COUNTIF(C9:Q10,"○") -> 0 | T9: - | U9: =COUNTIF(C9:Q10,"△") -> 0 | V9: - | W9: =COUNTIF(C9:Q10,"×") -> 0 | X9: =S9*2+U9*1 -> 0 | Y9: =C10+F10+L10+O10 -> 0 | Z9: - | AA9: =E10+H10+N10+Q10 -> 0 | AB9: =IF($AD$5+$AD$7+$AD$9+$AD$11+$AD$13=0,"",RANK(AD9,$AD$5:$AD$14)) | AD9: =X9*10000+Y9*100-AA9*10 -> 0 | AE9: 5 | AF9: =IF($AD$5+$AD$7+$AD$9+$AD$11+$AD$13=0,"",IF(AE9=$AB$5,$B$5,IF(AE9=$AB$7,$B$7,IF(AE9=$AB$9,$B$9,IF(AE9=$AB$11,$B$11,IF(AE9=$AB$13,$B$13,"")))))) | AI9: E6
C10: =K6 -> 0 | D10: - | E10: =I6 -> 0 | F10: =K8 -> 0 | G10: - | H10: =I8 -> 0 | L10: =タイムスケジュール!E10 -> 0 | M10: - | N10: =タイムスケジュール!G10 -> 0 | O10: =タイムスケジュール!L24 -> 0 | P10: - | Q10: =タイムスケジュール!N24 -> 0 | AE10: 6 | AF10: =IF($AD$5+$AD$7+$AD$9+$AD$11+$AD$13=0,"",IF(AE10=$AB$5,$B$5,IF(AE10=$AB$7,$B$7,IF(AE10=$AB$9,$B$9,IF(AE10=$AB$11,$B$11,IF(AE10=$AB$13,$B$13,"")))))) | AI10: F1 | AJ10: =AF17
A11: E4 | B11: =VLOOKUP(A11,予選組合せ!$T$5:$U$44,2,FALSE) -> ちゃっきり一番Jr. | C11: =IF(C12+E12=0,"",IF(C12=E12,"△",IF(C12>E12,"○","×"))) | F11: =IF(F12+H12=0,"",IF(F12=H12,"△",IF(F12>H12,"○","×"))) | I11: =IF(I12+K12=0,"",IF(I12=K12,"△",IF(I12>K12,"○","×"))) | O11: =IF(O12+Q12=0,"",IF(O12=Q12,"△",IF(O12>Q12,"○","×"))) | S11: =COUNTIF(C11:Q12,"○") -> 0 | T11: - | U11: =COUNTIF(C11:Q12,"△") -> 0 | V11: - | W11: =COUNTIF(C11:Q12,"×") -> 0 | X11: =S11*2+U11*1 -> 0 | Y11: =C12+F12+I12+O12 -> 0 | Z11: - | AA11: =E12+H12+K12+Q12 -> 0 | AB11: =IF($AD$5+$AD$7+$AD$9+$AD$11+$AD$13=0,"",RANK(AD11,$AD$5:$AD$14)) | AD11: =X11*10000+Y11*100-AA11*10 -> 0 | AI11: F2 | AJ11: =AF18
C12: =N6 -> 0 | D12: - | E12: =L6 -> 0 | F12: =N8 -> 0 | G12: - | H12: =L8 -> 0 | I12: =N10 -> 0 | J12: - | K12: =L10 -> 0 | O12: =タイムスケジュール!E21 -> 0 | P12: - | Q12: =タイムスケジュール!G21 -> 0 | AI12: F3 | AJ12: =AF19
A13: E5 | B13: =VLOOKUP(A13,予選組合せ!$T$5:$U$44,2,FALSE) -> 三島☆金狼Jr | C13: =IF(C14+E14=0,"",IF(C14=E14,"△",IF(C14>E14,"○","×"))) | F13: =IF(F14+H14=0,"",IF(F14=H14,"△",IF(F14>H14,"○","×"))) | I13: =IF(I14+K14=0,"",IF(I14=K14,"△",IF(I14>K14,"○","×"))) | L13: =IF(L14+N14=0,"",IF(L14=N14,"△",IF(L14>N14,"○","×"))) | S13: =COUNTIF(C13:Q14,"○") -> 0 | T13: - | U13: =COUNTIF(C13:Q14,"△") -> 0 | V13: - | W13: =COUNTIF(C13:Q14,"×") -> 0 | X13: =S13*2+U13*1 -> 0 | Y13: =C14+F14+I14+L14 -> 0 | Z13: - | AA13: =E14+H14+K14+N14 -> 0 | AB13: =IF($AD$5+$AD$7+$AD$9+$AD$11+$AD$13=0,"",RANK(AD13,$AD$5:$AD$14)) | AD13: =X13*10000+Y13*100-AA13*10 -> 0 | AI13: F4 | AJ13: =AF20
C14: =Q6 -> 0 | D14: - | E14: =O6 -> 0 | F14: =Q8 -> 0 | G14: - | H14: =O8 -> 0 | I14: =Q10 -> 0 | J14: - | K14: =O10 -> 0 | L14: =Q12 -> 0 | M14: - | N14: =O12 -> 0 | AI14: F5 | AJ14: =AF21
AI15: G1 | AJ15: =AF27
A16: Fブロック | C16: =A17 -> F1 | F16: =A19 -> F2 | I16: =A21 -> F3 | L16: =A23 -> F4 | S16: 勝 | T16: - | U16: 分 | V16: - | W16: 負 | X16: 勝点 | Y16: 得 点 | AB16: 順位 | AE16: F | AF16: チーム名 | AI16: G2 | AJ16: =AF28
A17: F1 | B17: =VLOOKUP(A17,予選組合せ!$T$5:$U$44,2,FALSE) -> ブーメラン X | F17: =IF(F18+H18=0,"",IF(F18=H18,"△",IF(F18>H18,"○","×"))) | I17: =IF(I18+K18=0,"",IF(I18=K18,"△",IF(I18>K18,"○","×"))) | L17: =IF(L18+N18=0,"",IF(L18=N18,"△",IF(L18>N18,"○","×"))) | S17: =COUNTIF(C17:Q18,"○") -> 0 | T17: - | U17: =COUNTIF(C17:Q18,"△") -> 0 | V17: - | W17: =COUNTIF(C17:Q18,"×") -> 0 | X17: =S17*2+U17*1 -> 0 | Y17: =F18+I18+L18+O18 -> 0 | Z17: - | AA17: =H18+K18+N18+Q18 -> 0 | AB17: =IF($AD$17+$AD$19+$AD$21+$AD$23=0,"",RANK(AD17,$AD$17:$AD$24)) | AD17: =X17*10000+Y17*100-AA17*10 -> 0 | AE17: 1 | AF17: =IF($AD$17+$AD$19+$AD$21+$AD$23=0,"",IF(AE17=$AB$17,$B$17,IF(AE17=$AB$19,$B$19,IF(AE17=$AB$21,$B$21,IF(AE17=$AB$23,$B$23,""))))) | AI17: G3 | AJ17: =AF29
F18: =タイムスケジュール!L9 -> 0 | G18: - | H18: =タイムスケジュール!N9 -> 0 | I18: =タイムスケジュール!S13 -> 0 | J18: - | K18: =タイムスケジュール!U13 -> 0 | L18: =タイムスケジュール!L20 -> 0 | M18: - | N18: =タイムスケジュール!N20 -> 0 | AE18: 2 | AF18: =IF($AD$17+$AD$19+$AD$21+$AD$23=0,"",IF(AE18=$AB$17,$B$17,IF(AE18=$AB$19,$B$19,IF(AE18=$AB$21,$B$21,IF(AE18=$AB$23,$B$23,""))))) | AI18: G4 | AJ18: =AF30
A19: F2 | B19: =VLOOKUP(A19,予選組合せ!$T$5:$U$44,2,FALSE) -> ハリケーンキッズ三島Jr | C19: =IF(C20+E20=0,"",IF(C20=E20,"△",IF(C20>E20,"○","×"))) | I19: =IF(I20+K20=0,"",IF(I20=K20,"△",IF(I20>K20,"○","×"))) | L19: =IF(L20+N20=0,"",IF(L20=N20,"△",IF(L20>N20,"○","×"))) | S19: =COUNTIF(C19:Q20,"○") -> 0 | T19: - | U19: =COUNTIF(C19:Q20,"△") -> 0 | V19: - | W19: =COUNTIF(C19:Q20,"×") -> 0 | X19: =S19*2+U19*1 -> 0 | Y19: =C20+I20+L20+O20 -> 0 | Z19: - | AA19: =E20+K20+N20+Q20 -> 0 | AB19: =IF($AD$17+$AD$19+$AD$21+$AD$23=0,"",RANK(AD19,$AD$17:$AD$24)) | AD19: =X19*10000+Y19*100-AA19*10 -> 0 | AE19: 3 | AF19: =IF($AD$17+$AD$19+$AD$21+$AD$23=0,"",IF(AE19=$AB$17,$B$17,IF(AE19=$AB$19,$B$19,IF(AE19=$AB$21,$B$21,IF(AE19=$AB$23,$B$23,""))))) | AI19: G5 | AJ19: =AF31
C20: =H18 -> 0 | D20: - | E20: =F18 -> 0 | I20: =タイムスケジュール!L21 -> 0 | J20: - | K20: =タイムスケジュール!N21 -> 0 | L20: =タイムスケジュール!S14 -> 0 | M20: - | N20: =タイムスケジュール!U14 -> 0 | AE20: 4 | AF20: =IF($AD$17+$AD$19+$AD$21+$AD$23=0,"",IF(AE20=$AB$17,$B$17,IF(AE20=$AB$19,$B$19,IF(AE20=$AB$21,$B$21,IF(AE20=$AB$23,$B$23,""))))) | AI20: G6 | AJ20: =AF32
A21: F3 | B21: =VLOOKUP(A21,予選組合せ!$T$5:$U$44,2,FALSE) -> 龍池舎じゅにあB | C21: =IF(C22+E22=0,"",IF(C22=E22,"△",IF(C22>E22,"○","×"))) | F21: =IF(F22+H22=0,"",IF(F22=H22,"△",IF(F22>H22,"○","×"))) | L21: =IF(L22+N22=0,"",IF(L22=N22,"△",IF(L22>N22,"○","×"))) | S21: =COUNTIF(C21:Q22,"○") -> 0 | T21: - | U21: =COUNTIF(C21:Q22,"△") -> 0 | V21: - | W21: =COUNTIF(C21:Q22,"×") -> 0 | X21: =S21*2+U21*1 -> 0 | Y21: =C22+F22+L22+O22 -> 0 | Z21: - | AA21: =E22+H22+N22+Q22 -> 0 | AB21: =IF($AD$17+$AD$19+$AD$21+$AD$23=0,"",RANK(AD21,$AD$17:$AD$24)) | AD21: =X21*10000+Y21*100-AA21*10 -> 0 | AE21: 5 | AF21: =IF($AD$17+$AD$19+$AD$21+$AD$23=0,"",IF(AE21=$AB$17,$B$17,IF(AE21=$AB$19,$B$19,IF(AE21=$AB$21,$B$21,IF(AE21=$AB$23,$B$23,"")))))
C22: =K18 -> 0 | D22: - | E22: =I18 -> 0 | F22: =K20 -> 0 | G22: - | H22: =I20 -> 0 | L22: =タイムスケジュール!L10 -> 0 | M22: - | N22: =タイムスケジュール!N10 -> 0 | AE22: 6 | AF22: =IF($AD$17+$AD$19+$AD$21+$AD$23=0,"",IF(AE22=$AB$17,$B$17,IF(AE22=$AB$19,$B$19,IF(AE22=$AB$21,$B$21,IF(AE22=$AB$23,$B$23,"")))))
A23: F4 | B23: =VLOOKUP(A23,予選組合せ!$T$5:$U$44,2,FALSE) -> リトル☆スターズJr | C23: =IF(C24+E24=0,"",IF(C24=E24,"△",IF(C24>E24,"○","×"))) | F23: =IF(F24+H24=0,"",IF(F24=H24,"△",IF(F24>H24,"○","×"))) | I23: =IF(I24+K24=0,"",IF(I24=K24,"△",IF(I24>K24,"○","×"))) | S23: =COUNTIF(C23:Q24,"○") -> 0 | T23: - | U23: =COUNTIF(C23:Q24,"△") -> 0 | V23: - | W23: =COUNTIF(C23:Q24,"×") -> 0 | X23: =S23*2+U23*1 -> 0 | Y23: =C24+F24+I24+O24 -> 0 | Z23: - | AA23: =E24+H24+K24+Q24 -> 0 | AB23: =IF($AD$17+$AD$19+$AD$21+$AD$23=0,"",RANK(AD23,$AD$17:$AD$24)) | AD23: =X23*10000+Y23*100-AA23*10 -> 0 | AF23: =IF($AD$17+$AD$19+$AD$21+$AD$23=0,"",IF(AE23=$AB$17,$B$17,IF(AE23=$AB$19,$B$19,IF(AE23=$AB$21,$B$21,IF(AE23=$AB$23,$B$23,"")))))
C24: =N18 -> 0 | D24: - | E24: =L18 -> 0 | F24: =N20 -> 0 | G24: - | H24: =L20 -> 0 | I24: =N22 -> 0 | J24: - | K24: =L22 -> 0
A26: Gブロック | C26: =A27 -> G1 | F26: =A29 -> G2 | I26: =A31 -> G3 | L26: =A33 -> G4 | S26: 勝 | T26: - | U26: 分 | V26: - | W26: 負 | X26: 勝点 | Y26: 得 点 | AB26: 順位 | AE26: G | AF26: チーム名
A27: G1 | B27: =VLOOKUP(A27,予選組合せ!$T$5:$U$44,2,FALSE) -> gold wolf ジュニア | F27: =IF(F28+H28=0,"",IF(F28=H28,"△",IF(F28>H28,"○","×"))) | I27: =IF(I28+K28=0,"",IF(I28=K28,"△",IF(I28>K28,"○","×"))) | L27: =IF(L28+N28=0,"",IF(L28=N28,"△",IF(L28>N28,"○","×"))) | S27: =COUNTIF(C27:Q28,"○") -> 0 | T27: - | U27: =COUNTIF(C27:Q28,"△") -> 0 | V27: - | W27: =COUNTIF(C27:Q28,"×") -> 0 | X27: =S27*2+U27*1 -> 0 | Y27: =F28+I28+L28+O28 -> 0 | Z27: - | AA27: =H28+K28+N28+Q28 -> 0 | AB27: =IF($AD$27+$AD$29+$AD$31+$AD$33=0,"",RANK(AD27,$AD$27:$AD$34)) | AD27: =X27*10000+Y27*100-AA27*10 -> 0 | AE27: 1 | AF27: =IF($AD$27+$AD$29+$AD$31+$AD$33=0,"",IF(AE27=$AB$27,$B$27,IF(AE27=$AB$29,$B$29,IF(AE27=$AB$31,$B$31,IF(AE27=$AB$33,$B$33,"")))))
F28: =タイムスケジュール!S9 -> 0 | G28: - | H28: =タイムスケジュール!U9 -> 0 | I28: =タイムスケジュール!E13 -> 0 | J28: - | K28: =タイムスケジュール!G13 -> 0 | L28: =タイムスケジュール!S20 -> 0 | M28: - | N28: =タイムスケジュール!U20 -> 0 | AE28: 2 | AF28: =IF($AD$27+$AD$29+$AD$31+$AD$33=0,"",IF(AE28=$AB$27,$B$27,IF(AE28=$AB$29,$B$29,IF(AE28=$AB$31,$B$31,IF(AE28=$AB$33,$B$33,"")))))
A29: G2 | B29: =VLOOKUP(A29,予選組合せ!$T$5:$U$44,2,FALSE) -> FUJIミラクルキッズJr. | C29: =IF(C30+E30=0,"",IF(C30=E30,"△",IF(C30>E30,"○","×"))) | I29: =IF(I30+K30=0,"",IF(I30=K30,"△",IF(I30>K30,"○","×"))) | L29: =IF(L30+N30=0,"",IF(L30=N30,"△",IF(L30>N30,"○","×"))) | S29: =COUNTIF(C29:Q30,"○") -> 0 | T29: - | U29: =COUNTIF(C29:Q30,"△") -> 0 | V29: - | W29: =COUNTIF(C29:Q30,"×") -> 0 | X29: =S29*2+U29*1 -> 0 | Y29: =C30+I30+L30+O30 -> 0 | Z29: - | AA29: =E30+K30+N30+Q30 -> 0 | AB29: =IF($AD$27+$AD$29+$AD$31+$AD$33=0,"",RANK(AD29,$AD$27:$AD$34)) | AD29: =X29*10000+Y29*100-AA29*10 -> 0 | AE29: 3 | AF29: =IF($AD$27+$AD$29+$AD$31+$AD$33=0,"",IF(AE29=$AB$27,$B$27,IF(AE29=$AB$29,$B$29,IF(AE29=$AB$31,$B$31,IF(AE29=$AB$33,$B$33,"")))))
C30: =H28 -> 0 | D30: - | E30: =F28 -> 0 | I30: =タイムスケジュール!S21 -> 0 | J30: - | K30: =タイムスケジュール!U21 -> 0 | L30: =タイムスケジュール!E14 -> 0 | M30: - | N30: =タイムスケジュール!G14 -> 0 | AE30: 4 | AF30: =IF($AD$27+$AD$29+$AD$31+$AD$33=0,"",IF(AE30=$AB$27,$B$27,IF(AE30=$AB$29,$B$29,IF(AE30=$AB$31,$B$31,IF(AE30=$AB$33,$B$33,"")))))
A31: G3 | B31: =VLOOKUP(A31,予選組合せ!$T$5:$U$44,2,FALSE) -> ワンピース三島J | C31: =IF(C32+E32=0,"",IF(C32=E32,"△",IF(C32>E32,"○","×"))) | F31: =IF(F32+H32=0,"",IF(F32=H32,"△",IF(F32>H32,"○","×"))) | L31: =IF(L32+N32=0,"",IF(L32=N32,"△",IF(L32>N32,"○","×"))) | S31: =COUNTIF(C31:Q32,"○") -> 0 | T31: - | U31: =COUNTIF(C31:Q32,"△") -> 0 | V31: - | W31: =COUNTIF(C31:Q32,"×") -> 0 | X31: =S31*2+U31*1 -> 0 | Y31: =C32+F32+L32+O32 -> 0 | Z31: - | AA31: =E32+H32+N32+Q32 -> 0 | AB31: =IF($AD$27+$AD$29+$AD$31+$AD$33=0,"",RANK(AD31,$AD$27:$AD$34)) | AD31: =X31*10000+Y31*100-AA31*10 -> 0 | AE31: 5 | AF31: =IF($AD$27+$AD$29+$AD$31+$AD$33=0,"",IF(AE31=$AB$27,$B$27,IF(AE31=$AB$29,$B$29,IF(AE31=$AB$31,$B$31,IF(AE31=$AB$33,$B$33,"")))))
C32: =K28 -> 0 | D32: - | E32: =I28 -> 0 | F32: =K30 -> 0 | G32: - | H32: =I30 -> 0 | L32: =タイムスケジュール!S10 -> 0 | M32: - | N32: =タイムスケジュール!U10 -> 0 | AE32: 6 | AF32: =IF($AD$27+$AD$29+$AD$31+$AD$33=0,"",IF(AE32=$AB$27,$B$27,IF(AE32=$AB$29,$B$29,IF(AE32=$AB$31,$B$31,IF(AE32=$AB$33,$B$33,"")))))
A33: G4 | B33: =VLOOKUP(A33,予選組合せ!$T$5:$U$44,2,FALSE) -> スーパー長野Jr | C33: =IF(C34+E34=0,"",IF(C34=E34,"△",IF(C34>E34,"○","×"))) | F33: =IF(F34+H34=0,"",IF(F34=H34,"△",IF(F34>H34,"○","×"))) | I33: =IF(I34+K34=0,"",IF(I34=K34,"△",IF(I34>K34,"○","×"))) | S33: =COUNTIF(C33:Q34,"○") -> 0 | T33: - | U33: =COUNTIF(C33:Q34,"△") -> 0 | V33: - | W33: =COUNTIF(C33:Q34,"×") -> 0 | X33: =S33*2+U33*1 -> 0 | Y33: =C34+F34+I34+O34 -> 0 | Z33: - | AA33: =E34+H34+K34+Q34 -> 0 | AB33: =IF($AD$27+$AD$29+$AD$31+$AD$33=0,"",RANK(AD33,$AD$27:$AD$34)) | AD33: =X33*10000+Y33*100-AA33*10 -> 0
C34: =N28 -> 0 | D34: - | E34: =L28 -> 0 | F34: =N30 -> 0 | G34: - | H34: =L30 -> 0 | I34: =N32 -> 0 | J34: - | K34: =L32 -> 0

Sheet キッズ
A1: =予選組合せ!B2 -> ＮＴＴ docomoCUP・第２１回静岡県ドッジボール選手権 | AD1: =予選組合せ!O2 -> 42632
A3: =予選組合せ!B32 -> ＜キッズの部＞（Ｈ）
A4: Ｆブロック | C4: =A5 -> H1 | F4: =A7 -> H2 | I4: =A9 -> H3 | L4: =A11 -> H4 | O4: =A13 -> H5 | R4: =A15 -> H6 | U4: =A17 -> H7 | Y4: 勝 | Z4: - | AA4: 分 | AB4: - | AC4: 負 | AD4: 勝点 | AE4: 得 点 | AH4: 順位 | AK4: H | AL4: チーム名
A5: H1 | B5: =VLOOKUP(A5,予選組合せ!$T$6:$U$44,2,FALSE) -> 広幡ドッジキッズリトル | F5: =IF(F6+H6=0,"",IF(F6=H6,"△",IF(F6>H6,"○","×"))) | I5: =IF(I6+K6=0,"",IF(I6=K6,"△",IF(I6>K6,"○","×"))) | O5: =IF(O6+Q6=0,"",IF(O6=Q6,"△",IF(O6>Q6,"○","×"))) | R5: =IF(R6+T6=0,"",IF(R6=T6,"△",IF(R6>T6,"○","×"))) | Y5: =COUNTIF(C5:T6,"○") -> 0 | Z5: - | AA5: =COUNTIF(C5:T6,"△") -> 0 | AB5: - | AC5: =COUNTIF(C5:T6,"×") -> 0 | AD5: =Y5*2+AA5*1 -> 0 | AE5: =F6+I6+L6+O6+R6 -> 0 | AF5: - | AG5: =H6+K6+N6+Q6+T6 -> 0 | AH5: =IF($AJ$5+$AJ$7+$AJ$9+$AJ$11+$AJ$13+$AJ$15+$AJ$17=0,"",RANK(AJ5,$AJ$5:$AJ$18)) | AJ5: =AD5*10000+AE5*100-AG5*10 -> 0 | AK5: 1 | AL5: =IF($AJ$19=0,"",IF(AK5=$AH$5,$B$5,IF(AK5=$AH$7,$B$7,IF(AK5=$AH$9,$B$9,IF(AK5=$AH$11,$B$11,IF(AK5=$AH$13,$B$13,IF(AK5=$AH$15,$B$15,IF(AK5=$AH$17,$B$17,"")))))))) | AO5: H1 | AP5: =AL5
F6: =タイムスケジュール!S5 -> 0 | G6: - | H6: =タイムスケジュール!U5 -> 0 | I6: =タイムスケジュール!L15 -> 0 | J6: - | K6: =タイムスケジュール!N15 -> 0 | O6: =タイムスケジュール!E19 -> 0 | P6: - | Q6: =タイムスケジュール!G19 -> 0 | R6: =タイムスケジュール!S8 -> 0 | S6: - | T6: =タイムスケジュール!U8 -> 0 | AK6: 2 | AL6: =IF($AJ$19=0,"",IF(AK6=$AH$5,$B$5,IF(AK6=$AH$7,$B$7,IF(AK6=$AH$9,$B$9,IF(AK6=$AH$11,$B$11,IF(AK6=$AH$13,$B$13,IF(AK6=$AH$15,$B$15,IF(AK6=$AH$17,$B$17,"")))))))) | AO6: H2 | AP6: =AL6
A7: H2 | B7: =VLOOKUP(A7,予選組合せ!$T$6:$U$44,2,FALSE) -> 龍池舎きっず | C7: =IF(C8+E8=0,"",IF(C8=E8,"△",IF(C8>E8,"○","×"))) | L7: =IF(L8+N8=0,"",IF(L8=N8,"△",IF(L8>N8,"○","×"))) | O7: =IF(O8+Q8=0,"",IF(O8=Q8,"△",IF(O8>Q8,"○","×"))) | U7: =IF(U8+W8=0,"",IF(U8=W8,"△",IF(U8>W8,"○","×"))) | Y7: =COUNTIF(C7:T8,"○") -> 0 | Z7: - | AA7: =COUNTIF(C7:T8,"△") -> 0 | AB7: - | AC7: =COUNTIF(C7:T8,"×") -> 0 | AD7: =Y7*2+AA7*1 -> 0 | AE7: =C8+I8+L8+O8+U8 -> 0 | AF7: - | AG7: =E8+K8+N8+Q8+W8 -> 0 | AH7: =IF($AJ$5+$AJ$7+$AJ$9+$AJ$11+$AJ$13+$AJ$15+$AJ$17=0,"",RANK(AJ7,$AJ$5:$AJ$18)) | AJ7: =AD7*10000+AE7*100-AG7*10 -> 0 | AK7: 3 | AL7: =IF($AJ$19=0,"",IF(AK7=$AH$5,$B$5,IF(AK7=$AH$7,$B$7,IF(AK7=$AH$9,$B$9,IF(AK7=$AH$11,$B$11,IF(AK7=$AH$13,$B$13,IF(AK7=$AH$15,$B$15,IF(AK7=$AH$17,$B$17,"")))))))) | AO7: H3 | AP7: =AL7
C8: =H6 -> 0 | D8: - | E8: =F6 -> 0 | L8: =タイムスケジュール!L16 -> 0 | M8: - | N8: =タイムスケジュール!N16 -> 0 | O8: =タイムスケジュール!E25 -> 0 | P8: - | Q8: =タイムスケジュール!G25 -> 0 | U8: =タイムスケジュール!L11 -> 0 | V8: - | W8: =タイムスケジュール!N11 -> 0 | AK8: 4 | AL8: =IF($AJ$19=0,"",IF(AK8=$AH$5,$B$5,IF(AK8=$AH$7,$B$7,IF(AK8=$AH$9,$B$9,IF(AK8=$AH$11,$B$11,IF(AK8=$AH$13,$B$13,IF(AK8=$AH$15,$B$15,IF(AK8=$AH$17,$B$17,"")))))))) | AO8: H4 | AP8: =AL8
A9: H3 | B9: =VLOOKUP(A9,予選組合せ!$T$6:$U$44,2,FALSE) -> 城内キッズコルツ | C9: =IF(C10+E10=0,"",IF(C10=E10,"△",IF(C10>E10,"○","×"))) | L9: =IF(L10+N10=0,"",IF(L10=N10,"△",IF(L10>N10,"○","×"))) | R9: =IF(R10+T10=0,"",IF(R10=T10,"△",IF(R10>T10,"○","×"))) | U9: =IF(U10+W10=0,"",IF(U10=W10,"△",IF(U10>W10,"○","×"))) | Y9: =COUNTIF(C9:T10,"○") -> 0 | Z9: - | AA9: =COUNTIF(C9:T10,"△") -> 0 | AB9: - | AC9: =COUNTIF(C9:T10,"×") -> 0 | AD9: =Y9*2+AA9*1 -> 0 | AE9: =C10+F10+L10+O10+U10 -> 0 | AF9: - | AG9: =E10+H10+N10+Q10+W10 -> 0 | AH9: =IF($AJ$5+$AJ$7+$AJ$9+$AJ$11+$AJ$13+$AJ$15+$AJ$17=0,"",RANK(AJ9,$AJ$5:$AJ$18)) | AJ9: =AD9*10000+AE9*100-AG9*10 -> 0 | AK9: 5 | AL9: =IF($AJ$19=0,"",IF(AK9=$AH$5,$B$5,IF(AK9=$AH$7,$B$7,IF(AK9=$AH$9,$B$9,IF(AK9=$AH$11,$B$11,IF(AK9=$AH$13,$B$13,IF(AK9=$AH$15,$B$15,IF(AK9=$AH$17,$B$17,"")))))))) | AO9: H5 | AP9: =AL9
C10: =K6 -> 0 | D10: - | E10: =I6 -> 0 | L10: =タイムスケジュール!S6 -> 0 | M10: - | N10: =タイムスケジュール!U6 -> 0 | R10: =タイムスケジュール!S25 -> 0 | S10: - | U10: =タイムスケジュール!E22 -> 0 | V10: - | W10: =タイムスケジュール!G22 -> 0 | AK10: 6 | AL10: =IF($AJ$19=0,"",IF(AK10=$AH$5,$B$5,IF(AK10=$AH$7,$B$7,IF(AK10=$AH$9,$B$9,IF(AK10=$AH$11,$B$11,IF(AK10=$AH$13,$B$13,IF(AK10=$AH$15,$B$15,IF(AK10=$AH$17,$B$17,"")))))))) | AO10: H6 | AP10: =AL10
A11: H4 | B11: =VLOOKUP(A11,予選組合せ!$T$6:$U$44,2,FALSE) -> スーパー長野キッズ | F11: =IF(F12+H12=0,"",IF(F12=H12,"△",IF(F12>H12,"○","×"))) | I11: =IF(I12+K12=0,"",IF(I12=K12,"△",IF(I12>K12,"○","×"))) | O11: =IF(O12+Q12=0,"",IF(O12=Q12,"△",IF(O12>Q12,"○","×"))) | R11: =IF(R12+T12=0,"",IF(R12=T12,"△",IF(R12>T12,"○","×"))) | Y11: =COUNTIF(C11:T12,"○") -> 0 | Z11: - | AA11: =COUNTIF(C11:T12,"△") -> 0 | AB11: - | AC11: =COUNTIF(C11:T12,"×") -> 0 | AD11: =Y11*2+AA11*1 -> 0 | AE11: =C12+F12+I12+O12+R12 -> 0 | AF11: - | AG11: =E12+H12+K12+Q12+T12 -> 0 | AH11: =IF($AJ$5+$AJ$7+$AJ$9+$AJ$11+$AJ$13+$AJ$15+$AJ$17=0,"",RANK(AJ11,$AJ$5:$AJ$18)) | AJ11: =AD11*10000+AE11*100-AG11*10 -> 0 | AK11: 7 | AL11: =IF($AJ$19=0,"",IF(AK11=$AH$5,$B$5,IF(AK11=$AH$7,$B$7,IF(AK11=$AH$9,$B$9,IF(AK11=$AH$11,$B$11,IF(AK11=$AH$13,$B$13,IF(AK11=$AH$15,$B$15,IF(AK11=$AH$17,$B$17,"")))))))) | AO11: H7 | AP11: =AL11
F12: =N8 -> 0 | G12: - | H12: =L8 -> 0 | I12: =N10 -> 0 | J12: - | K12: =L10 -> 0 | O12: =タイムスケジュール!L12 -> 0 | P12: - | Q12: =タイムスケジュール!N12 -> 0 | R12: =タイムスケジュール!E23 -> 0 | S12: - | T12: =タイムスケジュール!G23 -> 0
A13: H5 | B13: =VLOOKUP(A13,予選組合せ!$T$6:$U$44,2,FALSE) -> FUJIミラクルソゲキッズ | C13: =IF(C14+E14=0,"",IF(C14=E14,"△",IF(C14>E14,"○","×"))) | F13: =IF(F14+H14=0,"",IF(F14=H14,"△",IF(F14>H14,"○","×"))) | L13: =IF(L14+N14=0,"",IF(L14=N14,"△",IF(L14>N14,"○","×"))) | U13: =IF(U14+W14=0,"",IF(U14=W14,"△",IF(U14>W14,"○","×"))) | Y13: =COUNTIF(C13:T14,"○") -> 0 | Z13: - | AA13: =COUNTIF(C13:T14,"△") -> 0 | AB13: - | AC13: =COUNTIF(C13:T14,"×") -> 0 | AD13: =Y13*2+AA13*1 -> 0 | AE13: =C14+F14+L14+R14+U14 -> 0 | AF13: - | AG13: =E14+H14+N14+T14+W14 -> 0 | AH13: =IF($AJ$5+$AJ$7+$AJ$9+$AJ$11+$AJ$13+$AJ$15+$AJ$17=0,"",RANK(AJ13,$AJ$5:$AJ$18)) | AJ13: =AD13*10000+AE13*100-AG13*10 -> 0
C14: =Q6 -> 0 | D14: - | E14: =O6 -> 0 | F14: =Q8 -> 0 | G14: - | H14: =O8 -> 0 | L14: =Q12 -> 0 | M14: - | N14: =O12 -> 0 | U14: =タイムスケジュール!S7 -> 0 | V14: - | W14: =タイムスケジュール!U7 -> 0
A15: H6 | B15: =VLOOKUP(A15,予選組合せ!$T$6:$U$44,2,FALSE) -> ちゃっきり一番kids | C15: =IF(C16+E16=0,"",IF(C16=E16,"△",IF(C16>E16,"○","×"))) | I15: =IF(I16+K16=0,"",IF(I16=K16,"△",IF(I16>K16,"○","×"))) | L15: =IF(L16+N16=0,"",IF(L16=N16,"△",IF(L16>N16,"○","×"))) | U15: =IF(U16+W16=0,"",IF(U16=W16,"△",IF(U16>W16,"○","×"))) | Y15: =COUNTIF(C15:T16,"○") -> 0 | Z15: - | AA15: =COUNTIF(C15:T16,"△") -> 0 | AB15: - | AC15: =COUNTIF(C15:T16,"×") -> 0 | AD15: =Y15*2+AA15*1 -> 0 | AE15: =C16+F16+L16+O16+U16 -> 0 | AF15: - | AG15: =E16+H16+N16+Q16+W16 -> 0 | AH15: =IF($AJ$5+$AJ$7+$AJ$9+$AJ$11+$AJ$13+$AJ$15+$AJ$17=0,"",RANK(AJ15,$AJ$5:$AJ$18)) | AJ15: =AD15*10000+AE15*100-AG15*10 -> 0
C16: =T6 -> 0 | D16: - | E16: =R6 -> 0 | I16: =T10 -> 0 | J16: - | K16: =R10 -> 0 | L16: =T12 -> 0 | M16: - | N16: =R12 -> 0 | U16: =タイムスケジュール!E18 -> 0 | V16: - | W16: =タイムスケジュール!G18 -> 0
A17: H7 | B17: =VLOOKUP(A17,予選組合せ!$T$6:$U$44,2,FALSE) -> 社会保険パピィB | F17: =IF(F18+H18=0,"",IF(F18=H18,"△",IF(F18>H18,"○","×"))) | I17: =IF(I18+K18=0,"",IF(I18=K18,"△",IF(I18>K18,"○","×"))) | O17: =IF(O18+Q18=0,"",IF(O18=Q18,"△",IF(O18>Q18,"○","×"))) | R17: =IF(R18+T18=0,"",IF(R18=T18,"△",IF(R18>T18,"○","×"))) | Y17: =COUNTIF(C17:T18,"○") -> 0 | Z17: - | AA17: =COUNTIF(C17:T18,"△") -> 0 | AB17: - | AC17: =COUNTIF(C17:T18,"×") -> 0 | AD17: =Y17*2+AA17*1 -> 0 | AE17: =C18+F18+I18+O18+R18 -> 0 | AF17: - | AG17: =E18+H18+K18+Q18+T18 -> 0 | AH17: =IF($AJ$5+$AJ$7+$AJ$9+$AJ$11+$AJ$13+$AJ$15+$AJ$17=0,"",RANK(AJ17,$AJ$5:$AJ$18)) | AJ17: =AD17*10000+AE17*100-AG17*10 -> 0
F18: =W8 -> 0 | G18: - | H18: =U8 -> 0 | I18: =W10 -> 0 | J18: - | K18: =U10 -> 0 | O18: =W14 -> 0 | P18: - | Q18: =U14 -> 0 | R18: =W16 -> 0 | S18: - | T18: =U16 -> 0
AJ19: =SUM(AJ5:AJ18) -> 0

Sheet オフィシャルトーナメント
B2: =予選組合せ!B2 -> ＮＴＴ docomoCUP・第２１回静岡県ドッジボール選手権 | BV2: =タイムスケジュール!K40 -> A11勝 | BY2: =タイムスケジュール!P40 -> C11勝
B3: ＜オフィシャルの部＞ | AY3: 優勝 | BC3: =IF(BW6+BZ6=0,"",IF(BW6>BZ6,BV2,BY2)) | BW3: =IF(BX3>BY3,"○","") | BX3: =AD8 -> 0 | BY3: =AI8 -> 0 | BZ3: =IF(BX3<BY3,"○","")
T4: =AX3 -> 0 | W4: =BC3 | AY4: 準優勝 | BC4: =IF(BW6+BZ6=0,"",IF(BW6<BZ6,BV2,BY2)) | BW4: =IF(BX4>BY4,"○","") | BX4: =AD9 -> 0 | BY4: =AI9 -> 0 | BZ4: =IF(BX4<BY4,"○","")
AY5: 第３位 | BC5: =IF(N15+S15=0,"",IF(N15<S15,タイムスケジュール!D39,タイムスケジュール!I39)) | BW5: =IF(BX5>BY5,"○","") | BX5: =AD10 -> 0 | BY5: =AI10 -> 0 | BZ5: =IF(BX5<BY5,"○","")
BW6: =COUNTIF(BW3:BW5,"○") -> 0 | BZ6: =COUNTIF(BZ3:BZ5,"○") -> 0
AE7: B12 | BC7: =IF(AT15+AY15=0,"",IF(AT15<AY15,タイムスケジュール!R39,タイムスケジュール!W39))
AD8: =タイムスケジュール!L40 -> 0 | AI8: =タイムスケジュール!N40 -> 0
AD9: =タイムスケジュール!L41 -> 0 | AI9: =タイムスケジュール!N41 -> 0
AD10: =タイムスケジュール!L42 -> 0 | AI10: =タイムスケジュール!N42 -> 0
O14: A11 | AU14: C11
N15: =タイムスケジュール!E39 -> 0 | S15: =タイムスケジュール!G39 -> 0 | AT15: =タイムスケジュール!S39 -> 0 | AY15: =タイムスケジュール!U39 -> 0
G20: A8 | W20: B8 | AM20: A9 | BC20: C9
G21: =タイムスケジュール!E36 -> 0 | J21: =タイムスケジュール!G36 -> 0 | W21: =タイムスケジュール!L36 -> 0 | Z21: =タイムスケジュール!N36 -> 0 | AM21: =タイムスケジュール!E37 -> 0 | AP21: =タイムスケジュール!G37 -> 0 | BC21: =タイムスケジュール!S37 -> 0 | BF21: =タイムスケジュール!U37 -> 0
C24: A1 | K24: A4 | S24: B1 | AA24: B4 | AI24: A3 | AQ24: A5 | AY24: B3 | BG24: B5
C25: =タイムスケジュール!E29 -> 0 | F25: =タイムスケジュール!G29 -> 0 | K25: =タイムスケジュール!E32 -> 0 | N25: =タイムスケジュール!G32 -> 0 | S25: =タイムスケジュール!L29 -> 0 | V25: =タイムスケジュール!N29 -> 0 | AA25: =タイムスケジュール!L32 -> 0 | AD25: =タイムスケジュール!N32 -> 0 | AI25: =タイムスケジュール!E31 -> 0 | AL25: =タイムスケジュール!G31 -> 0 | AQ25: =タイムスケジュール!E33 -> 0 | AT25: =タイムスケジュール!G33 -> 0 | AY25: =タイムスケジュール!L31 -> 0 | BB25: =タイムスケジュール!N31 -> 0 | BG25: =タイムスケジュール!L33 -> 0 | BJ25: =タイムスケジュール!N33 -> 0
B30: A1 | F30: D4 | J30: C3 | N30: B2 | R30: C2 | V30: B3 | Z30: A4 | AD30: D1 | AH30: C1 | AL30: B4 | AP30: A3 | AT30: D2 | AX30: A2 | BB30: D3 | BF30: C4 | BJ30: B1
B31: =IF(B30="","",VLOOKUP(B30,オフィシャル!$AF$4:$AG$22,2,FALSE)) | F31: =IF(F30="","",VLOOKUP(F30,オフィシャル!$AF$4:$AG$22,2,FALSE)) | J31: =IF(J30="","",VLOOKUP(J30,オフィシャル!$AF$4:$AG$22,2,FALSE)) | N31: =IF(N30="","",VLOOKUP(N30,オフィシャル!$AF$4:$AG$22,2,FALSE)) | R31: =IF(R30="","",VLOOKUP(R30,オフィシャル!$AF$4:$AG$22,2,FALSE)) | V31: =IF(V30="","",VLOOKUP(V30,オフィシャル!$AF$4:$AG$22,2,FALSE)) | Z31: =IF(Z30="","",VLOOKUP(Z30,オフィシャル!$AF$4:$AG$22,2,FALSE)) | AD31: =IF(AD30="","",VLOOKUP(AD30,オフィシャル!$AF$4:$AG$22,2,FALSE)) | AH31: =IF(AH30="","",VLOOKUP(AH30,オフィシャル!$AF$4:$AG$22,2,FALSE)) | AL31: =IF(AL30="","",VLOOKUP(AL30,オフィシャル!$AF$4:$AG$22,2,FALSE)) | AP31: =IF(AP30="","",VLOOKUP(AP30,オフィシャル!$AF$4:$AG$22,2,FALSE)) | AT31: =IF(AT30="","",VLOOKUP(AT30,オフィシャル!$AF$4:$AG$22,2,FALSE)) | AX31: =IF(AX30="","",VLOOKUP(AX30,オフィシャル!$AF$4:$AG$22,2,FALSE)) | BB31: =IF(BB30="","",VLOOKUP(BB30,オフィシャル!$AF$4:$AG$22,2,FALSE)) | BF31: =IF(BF30="","",VLOOKUP(BF30,オフィシャル!$AF$4:$AG$22,2,FALSE)) | BJ31: =IF(BJ30="","",VLOOKUP(BJ30,オフィシャル!$AF$4:$AG$22,2,FALSE)) | BN31: =IF(BN30="","",VLOOKUP(BN30,#REF!,2,FALSE)) | BR31: =IF(BR30="","",VLOOKUP(BR30,#REF!,2,FALSE))
B33: 5 | F33: 5 | J33: 13 | N33: 3 | R33: 14 | V33: 11 | Z33: 6 | AD33: 6 | AH33: 3 | AL33: 14 | AP33: 11 | AT33: 6 | AX33: 15 | BB33: 2 | BF33: 2 | BJ33: 2

Sheet ジュニアトーナメント
B2: =予選組合せ!B2 -> ＮＴＴ docomoCUP・第２１回静岡県ドッジボール選手権 | CM2: =タイムスケジュール!D40 -> B10勝 | CP2: =タイムスケジュール!I40 -> C10勝
B3: ＜ジュニアの部＞ | AL3: 優勝 | AO3: =IF(CO6+CP6=0,"",IF(CN6>CQ6,CM2,CP2)) | BF3: ＜キッズの部＞ | CN3: =IF(CO3>CP3,"○","") | CO3: =V8 -> 0 | CP3: =AA8 -> 0 | CQ3: =IF(CO3<CP3,"○","")
N4: =AO3 | AL4: 準優勝 | AO4: =IF(CO6+CP6=0,"",IF(CN6<CQ6,CM2,CP2)) | BH4: =IF(BO15+BS15=0,"",IF(BO15>BS15,タイムスケジュール!K39,タイムスケジュール!P39)) | CN4: =IF(CO4>CP4,"○","") | CO4: =V9 -> 0 | CP4: =AA9 -> 0 | CQ4: =IF(CO4<CP4,"○","")
AL5: 第三位 | AO5: =IF(J15+O15=0,"",IF(J15<O15,タイムスケジュール!K38,タイムスケジュール!P38)) | CN5: =IF(CO5>CP5,"○","") | CO5: =V10 -> 0 | CP5: =AA10 -> 0 | CQ5: =IF(CO5<CP5,"○","")
CN6: =COUNTIF(CN3:CN5,"○") -> 0 | CO6: =SUM(CO3:CO5) -> 0 | CP6: =SUM(CP3:CP5) -> 0 | CQ6: =COUNTIF(CQ3:CQ5,"○") -> 0
W7: A12 | AO7: =IF(AH15+AL15=0,"",IF(AH15<AL15,タイムスケジュール!R38,タイムスケジュール!W38))
V8: =タイムスケジュール!E40 -> 0 | AA8: =タイムスケジュール!G40 -> 0
V9: =タイムスケジュール!E41 -> 0 | AA9: =タイムスケジュール!G41 -> 0
V10: =タイムスケジュール!E42 -> 0 | AA10: =タイムスケジュール!G42 -> 0
K14: B10 | AI14: C10 | BO14: B11
J15: =タイムスケジュール!L38 -> 0 | O15: =タイムスケジュール!N38 -> 0 | AH15: =タイムスケジュール!S38 -> 0 | AL15: =タイムスケジュール!U38 -> 0 | BO15: =タイムスケジュール!L39 -> 0 | BS15: =タイムスケジュール!N39 -> 0
C20: C6 | S20: A7 | AE20: B7 | AU20: C7 | BJ20: C5 | BW20: C8
C21: =タイムスケジュール!S34 -> 0 | G21: =タイムスケジュール!U34 -> 0 | S21: =タイムスケジュール!E35 -> 0 | V21: =タイムスケジュール!G35 -> 0 | AE21: =タイムスケジュール!L35 -> 0 | AI21: =タイムスケジュール!N35 -> 0 | AU21: =タイムスケジュール!S35 -> 0 | AX21: =タイムスケジュール!U35 -> 0 | BJ21: =タイムスケジュール!S33 -> 0 | BK21: =タイムスケジュール!U33 -> 0 | BW21: =タイムスケジュール!S36 -> 0 | BZ21: =タイムスケジュール!U36 -> 0
G24: A2 | O24: A6 | W24: B6 | AI24: B2 | AQ24: C2 | BK24: C1 | BS24: C3 | CA24: C4
G25: =タイムスケジュール!E30 -> 0 | J25: =タイムスケジュール!G30 -> 0 | O25: =タイムスケジュール!E34 -> 0 | R25: =タイムスケジュール!G34 -> 0 | W25: =タイムスケジュール!L34 -> 0 | Z25: =タイムスケジュール!N34 -> 0 | AI25: =タイムスケジュール!L30 -> 0 | AL25: =タイムスケジュール!N30 -> 0 | AQ25: =タイムスケジュール!S30 -> 0 | AT25: =タイムスケジュール!U30 -> 0 | BK25: =タイムスケジュール!S29 -> 0 | BN25: =タイムスケジュール!U29 -> 0 | BS25: =タイムスケジュール!S31 -> 0 | BV25: =タイムスケジュール!U31 -> 0 | CA25: =タイムスケジュール!S32 -> 0 | CD25: =タイムスケジュール!U32 -> 0
B30: G1 | F30: E5 | J30: F4 | N30: E3 | R30: F3 | V30: G3 | Z30: E2 | AD30: F1 | AH30: E4 | AL30: G2 | AP30: F2 | AT30: G4 | AX30: E1 | BF30: H1 | BJ30: H7 | BN30: H4 | BR30: H3 | BV30: H5 | BZ30: H6 | CD30: H2
B31: =IF(B30="","",VLOOKUP(B30,ジュニア!$AI$4:$AJ$20,2,FALSE)) | F31: =IF(F30="","",VLOOKUP(F30,ジュニア!$AI$4:$AJ$20,2,FALSE)) | J31: =IF(J30="","",VLOOKUP(J30,ジュニア!$AI$4:$AJ$20,2,FALSE)) | N31: =IF(N30="","",VLOOKUP(N30,ジュニア!$AI$4:$AJ$20,2,FALSE)) | R31: =IF(R30="","",VLOOKUP(R30,ジュニア!$AI$4:$AJ$20,2,FALSE)) | V31: =IF(V30="","",VLOOKUP(V30,ジュニア!$AI$4:$AJ$20,2,FALSE)) | Z31: =IF(Z30="","",VLOOKUP(Z30,ジュニア!$AI$4:$AJ$20,2,FALSE)) | AD31: =IF(AD30="","",VLOOKUP(AD30,ジュニア!$AI$4:$AJ$20,2,FALSE)) | AH31: =IF(AH30="","",VLOOKUP(AH30,ジュニア!$AI$4:$AJ$20,2,FALSE)) | AL31: =IF(AL30="","",VLOOKUP(AL30,ジュニア!$AI$4:$AJ$20,2,FALSE)) | AP31: =IF(AP30="","",VLOOKUP(AP30,ジュニア!$AI$4:$AJ$20,2,FALSE)) | AT31: =IF(AT30="","",VLOOKUP(AT30,ジュニア!$AI$4:$AJ$20,2,FALSE)) | AX31: =IF(AX30="","",VLOOKUP(AX30,ジュニア!$AI$4:$AJ$20,2,FALSE)) | BF31: =IF(BF30="","",VLOOKUP(BF30,キッズ!$AO$5:$AP$12,2,FALSE)) | BJ31: =IF(BJ30="","",VLOOKUP(BJ30,キッズ!$AO$5:$AP$12,2,FALSE)) | BN31: =IF(BN30="","",VLOOKUP(BN30,キッズ!$AO$5:$AP$12,2,FALSE)) | BR31: =IF(BR30="","",VLOOKUP(BR30,キッズ!$AO$5:$AP$12,2,FALSE)) | BV31: =IF(BV30="","",VLOOKUP(BV30,キッズ!$AO$5:$AP$12,2,FALSE)) | BZ31: =IF(BZ30="","",VLOOKUP(BZ30,キッズ!$AO$5:$AP$12,2,FALSE)) | CD31: =IF(CD30="","",VLOOKUP(CD30,キッズ!$AO$5:$AP$12,2,FALSE)) | CI31: =IF(CI30="","",VLOOKUP(CI30,#REF!,2,FALSE))

Sheet 提出用
A1: 平成28年9月19日 静岡ドッジボール協会 | B1: 以上、結果をご報告いたします。 | E1: ☆決勝 | J1: ☆準決勝 | Q1: ☆決勝トーナメント 一回戦 | S1: H3 | U1: H1 | W1: H5 | Y1: H3 | AA1: H1 | AC1: H2 | AE1: H1 | AG1: H4 | AI1: H2 | AK1: H2 | AM1: H4 | AO1: H3 | AQ1: H1 | AS1: H6 | AT1: 【Ｈリーグ予選】 | AU1: ○キッズの部 | AZ1: ☆決勝 | BE1: ☆準決勝 | BN1: ☆決勝トーナメント 二回戦 | BY1: ☆決勝トーナメント 一回戦 | CA1: G2 | CC1: G1 | CE1: G3 | CG1: G1 | CI1: G2 | CK1: G1 | CL1: 【Ｇリーグ予選】 | CN1: F2 | CP1: F1 | CR1: F2 | CT1: F1 | CV1: F3 | CX1: F1 | CY1: 【Ｆリーグ予選】 | DA1: E1 | DC1: E3 | DE1: E2 | DG1: E2 | DI1: E1 | DK1: E2 | DM1: E4 | DO1: E1 | DQ1: E3 | DS1: E1 | DT1: 【Ｅリーグ予選】 | DU1: ○ジュニアの部 | DZ1: ☆決勝（三セットマッチ） | EE1: ☆準決勝 | EN1: ☆決勝トーナメント 二回戦 | FE1: ☆決勝トーナメント 一回戦 | FG1: D2 | FI1: D1 | FK1: D3 | FM1: D1 | FO1: D2 | FQ1: D1 | FR1: 【Ｄリーグ予選】 | FT1: C2 | FV1: C1 | FX1: C2 | FZ1: C1 | GB1: C3 | GD1: C1 | GE1: 【Cリーグ予選】 | GG1: B2 | GI1: B1 | GK1: B3 | GM1: B1 | GO1: B2 | GQ1: B1 | GR1: 【Ｂリーグ予選】 | GT1: A2 | GV1: A1 | GX1: A2 | GZ1: A1 | HB1: A3 | HD1: A1 | HE1: チーム名 | HF1: 【Ａリーグ予選】 | HG1: ○オフィシャルの部 | HI1: 日付・場所 | HJ1: 大会名◇ | HL1: 問合先 | HN1: 競技種目 | HP1: 静岡新聞社・市民スポーツ係 御中
D2: =タイムスケジュール!K39 -> C5勝 | G2: =タイムスケジュール!R36 -> C３勝 | I2: =タイムスケジュール!R33 -> H1位 | L2: =タイムスケジュール!R32 -> H6位 | N2: =タイムスケジュール!R31 -> H3位 | P2: =タイムスケジュール!R29 -> H7位 | S2: =HLOOKUP(S1,$AG$44:$AS$45,2,FALSE) -> 城内キッズコルツ | U2: =HLOOKUP(U1,$AG$44:$AS$45,2,FALSE) -> 広幡ドッジキッズリトル | W2: =HLOOKUP(W1,$AG$44:$AS$45,2,FALSE) -> FUJIミラクルソゲキッズ | Y2: =HLOOKUP(Y1,$AG$44:$AS$45,2,FALSE) -> 城内キッズコルツ | AA2: =HLOOKUP(AA1,$AG$44:$AS$45,2,FALSE) -> 広幡ドッジキッズリトル | AC2: =HLOOKUP(AC1,$AG$44:$AS$45,2,FALSE) -> 龍池舎きっず | AE2: =HLOOKUP(AE1,$AG$44:$AS$45,2,FALSE) -> 広幡ドッジキッズリトル | AG2: =HLOOKUP(AG1,$AG$44:$AS$45,2,FALSE) -> スーパー長野キッズ | AI2: =HLOOKUP(AI1,$AG$44:$AS$45,2,FALSE) -> 龍池舎きっず | AK2: =HLOOKUP(AK1,$AG$44:$AS$45,2,FALSE) -> 龍池舎きっず | AM2: =HLOOKUP(AM1,$AG$44:$AS$45,2,FALSE) -> スーパー長野キッズ | AO2: =HLOOKUP(AO1,$AG$44:$AS$45,2,FALSE) -> 城内キッズコルツ | AQ2: =HLOOKUP(AQ1,$AG$44:$AS$45,2,FALSE) -> 広幡ドッジキッズリトル | AS2: =HLOOKUP(AS1,$AG$44:$AS$45,2,FALSE) -> ちゃっきり一番kids | AW2: =タイムスケジュール!D40 -> B10勝 | BB2: =タイムスケジュール!R38 -> B7勝 | BD2: =タイムスケジュール!K38 -> C6勝 | BG2: =タイムスケジュール!R35 -> C2勝 | BI2: =タイムスケジュール!K35 -> F1位 | BK2: =タイムスケジュール!D35 -> A6勝 | BM2: =タイムスケジュール!R34 -> G1位 | BP2: =タイムスケジュール!R30 -> F2位 | BR2: =タイムスケジュール!K30 -> E4位 | BT2: =タイムスケジュール!K34 -> G3位 | BV2: =タイムスケジュール!D34 -> E3位 | BX2: =タイムスケジュール!D30 -> E5位 | CA2: =HLOOKUP(CA1,$CA$44:$FQ$45,2,FALSE) -> FUJIミラクルキッズJr. | CC2: =HLOOKUP(CC1,$CA$44:$FQ$45,2,FALSE) -> gold wolf ジュニア | CE2: =HLOOKUP(CE1,$CA$44:$FQ$45,2,FALSE) -> ワンピース三島J | CG2: =HLOOKUP(CG1,$CA$44:$FQ$45,2,FALSE) -> gold wolf ジュニア | CI2: =HLOOKUP(CI1,$CA$44:$FQ$45,2,FALSE) -> FUJIミラクルキッズJr. | CK2: =HLOOKUP(CK1,$CA$44:$FQ$45,2,FALSE) -> gold wolf ジュニア | CN2: =HLOOKUP(CN1,$CA$44:$FQ$45,2,FALSE) -> ハリケーンキッズ三島Jr | CP2: =HLOOKUP(CP1,$CA$44:$FQ$45,2,FALSE) -> ブーメラン X | CR2: =HLOOKUP(CR1,$CA$44:$FQ$45,2,FALSE) -> ハリケーンキッズ三島Jr | CT2: =HLOOKUP(CT1,$CA$44:$FQ$45,2,FALSE) -> ブーメラン X | CV2: =HLOOKUP(CV1,$CA$44:$FQ$45,2,FALSE) -> 龍池舎じゅにあB | CX2: =HLOOKUP(CX1,$CA$44:$FQ$45,2,FALSE) -> ブーメラン X | DA2: =HLOOKUP(DA1,$CA$44:$FQ$45,2,FALSE) -> 龍池舎じゅにあA | DC2: =HLOOKUP(DC1,$CA$44:$FQ$45,2,FALSE) -> 城内キッズジュニア | DE2: =HLOOKUP(DE1,$CA$44:$FQ$45,2,FALSE) -> 函南勇楽会・よ組 | DG2: =HLOOKUP(DG1,$CA$44:$FQ$45,2,FALSE) -> 函南勇楽会・よ組 | DI2: =HLOOKUP(DI1,$CA$44:$FQ$45,2,FALSE) -> 龍池舎じゅにあA | DK2: =HLOOKUP(DK1,$CA$44:$FQ$45,2,FALSE) -> 函南勇楽会・よ組 | DM2: =HLOOKUP(DM1,$CA$44:$FQ$45,2,FALSE) -> ちゃっきり一番Jr. | DO2: =HLOOKUP(DO1,$CA$44:$FQ$45,2,FALSE) -> 龍池舎じゅにあA | DQ2: =HLOOKUP(DQ1,$CA$44:$FQ$45,2,FALSE) -> 城内キッズジュニア | DS2: =HLOOKUP(DS1,$CA$44:$FQ$45,2,FALSE) -> 龍池舎じゅにあA | DW2: =タイムスケジュール!K40 -> A11勝 | EB2: =タイムスケジュール!R39 -> A９勝 | ED2: =タイムスケジュール!D39 -> A8勝 | EG2: =タイムスケジュール!R37 -> B3勝 | EI2: =タイムスケジュール!D37 -> A3勝 | EK2: =タイムスケジュール!K36 -> B1勝 | EM2: =タイムスケジュール!D36 -> A1勝 | EP2: =タイムスケジュール!K33 -> C4位 | ER2: =タイムスケジュール!K32 -> A4位 | ET2: =タイムスケジュール!K31 -> A2位 | EV2: =タイムスケジュール!K29 -> C2位 | EX2: =タイムスケジュール!D33 -> A3位 | EZ2: =タイムスケジュール!D32 -> C3位 | FB2: =タイムスケジュール!D31 -> C1位 | FD2: =タイムスケジュール!D29 -> A1位 | FG2: =HLOOKUP(FG1,$CA$44:$FQ$45,2,FALSE) -> ちゃっきり一番 | FI2: =HLOOKUP(FI1,$CA$44:$FQ$45,2,FALSE) -> ブーメラン | FK2: =HLOOKUP(FK1,$CA$44:$FQ$45,2,FALSE) -> スーパー長野 | FM2: =HLOOKUP(FM1,$CA$44:$FQ$45,2,FALSE) -> ブーメラン | FO2: =HLOOKUP(FO1,$CA$44:$FQ$45,2,FALSE) -> ちゃっきり一番 | FQ2: =HLOOKUP(FQ1,$CA$44:$FQ$45,2,FALSE) -> ブーメラン | FT2: =HLOOKUP(FT1,$FT$44:$GD$45,2,FALSE) -> FUJIミラクルキッズ | FV2: =HLOOKUP(FV1,$FT$44:$GD$45,2,FALSE) -> 龍 池 舎 | FX2: =HLOOKUP(FX1,$FT$44:$GD$45,2,FALSE) -> FUJIミラクルキッズ | FZ2: =HLOOKUP(FZ1,$FT$44:$GD$45,2,FALSE) -> 龍 池 舎 | GB2: =HLOOKUP(GB1,$FT$44:$GD$45,2,FALSE) -> 城内キッズ | GD2: =HLOOKUP(GD1,$FT$44:$GD$45,2,FALSE) -> 龍 池 舎 | GG2: =HLOOKUP(GG1,$GG$44:$GQ$45,2,FALSE) -> リトル☆スターズ | GI2: =HLOOKUP(GI1,$GG$44:$GQ$45,2,FALSE) -> 焼津フェニックス | GK2: =HLOOKUP(GK1,$GG$44:$GQ$45,2,FALSE) -> 三島☆金狼 | GM2: =HLOOKUP(GM1,$GG$44:$GQ$45,2,FALSE) -> 焼津フェニックス | GO2: =HLOOKUP(GO1,$GG$44:$GQ$45,2,FALSE) -> リトル☆スターズ | GQ2: =HLOOKUP(GQ1,$GG$44:$GQ$45,2,FALSE) -> 焼津フェニックス | GT2: =HLOOKUP(GT1,$GT$44:$HD$45,2,FALSE) -> 浜松believe.1 | GV2: =HLOOKUP(GV1,$GT$44:$HD$45,2,FALSE) -> ワンピース三島 | GX2: =HLOOKUP(GX1,$GT$44:$HD$45,2,FALSE) -> 浜松believe.1 | GZ2: =HLOOKUP(GZ1,$GT$44:$HD$45,2,FALSE) -> ワンピース三島 | HB2: =HLOOKUP(HB1,$GT$44:$HD$45,2,FALSE) -> 函南勇楽会・い組 | HD2: =HLOOKUP(HD1,$GT$44:$HD$45,2,FALSE) -> ワンピース三島
HL5: 静岡県ドッジボール協会 〒425‐0055 焼津市道原928‐12（小池方）
HN6: ドッジボール
HJ7: =予選組合せ!B2 -> ＮＴＴ docomoCUP・第２１回静岡県ドッジボール選手権
HI9: ９月１９日（日） このはなアリーナ
HN16: 参加者の地域
D18: =タイムスケジュール!L39 -> 0 | G18: =タイムスケジュール!S36 -> 0 | I18: =タイムスケジュール!S33 -> 0 | L18: =タイムスケジュール!S32 -> 0 | N18: =タイムスケジュール!S31 -> 0 | P18: =タイムスケジュール!S29 -> 0 | S18: =タイムスケジュール!S25 -> 0 | U18: =タイムスケジュール!S8 -> 0 | W18: =タイムスケジュール!S7 -> 0 | Y18: =タイムスケジュール!S6 -> 0 | AA18: =タイムスケジュール!S5 -> 0 | AC18: =タイムスケジュール!L16 -> 0 | AE18: =タイムスケジュール!L15 -> 0 | AG18: =タイムスケジュール!L12 -> 0 | AI18: =タイムスケジュール!L11 -> 0 | AK18: =タイムスケジュール!E25 -> 0 | AM18: =タイムスケジュール!E23 -> 0 | AO18: =タイムスケジュール!E22 -> 0 | AQ18: =タイムスケジュール!E19 -> 0 | AS18: =タイムスケジュール!E18 -> 0 | AW18: =タイムスケジュール!E42 -> 0 | AX18: =タイムスケジュール!E41 -> 0 | AY18: =タイムスケジュール!E40 -> 0 | BB18: =タイムスケジュール!S38 -> 0 | BD18: =タイムスケジュール!L38 -> 0 | BG18: =タイムスケジュール!S35 -> 0 | BI18: =タイムスケジュール!L35 -> 0 | BK18: =タイムスケジュール!E35 -> 0 | BM18: =タイムスケジュール!S34 -> 0 | BP18: =タイムスケジュール!S30 -> 0 | BR18: =タイムスケジュール!L30 -> 0 | BT18: =タイムスケジュール!L34 -> 0 | BV18: =タイムスケジュール!E34 -> 0 | BX18: =タイムスケジュール!E30 -> 0 | CA18: =タイムスケジュール!S21 -> 0 | CC18: =タイムスケジュール!S20 -> 0 | CE18: =タイムスケジュール!S10 -> 0 | CG18: =タイムスケジュール!S9 -> 0 | CI18: =タイムスケジュール!E14 -> 0 | CK18: =タイムスケジュール!E13 -> 0 | CN18: =タイムスケジュール!S14 -> 0 | CP18: =タイムスケジュール!S13 -> 0 | CR18: =タイムスケジュール!L21 -> 0 | CT18: =タイムスケジュール!L20 -> 0 | CV18: =タイムスケジュール!L10 -> 0 | CX18: =タイムスケジュール!L9 -> 0 | DA18: =タイムスケジュール!S17 -> 0 | DC18: =タイムスケジュール!L24 -> 0 | DE18: =タイムスケジュール!L17 -> 0 | DG18: =タイムスケジュール!L14 -> 0 | DI18: =タイムスケジュール!L13 -> 0 | DK18: =タイムスケジュール!E24 -> 0 | DM18: =タイムスケジュール!E21 -> 0 | DO18: =タイムスケジュール!E20 -> 0 | DQ18: =タイムスケジュール!E10 -> 0 | DS18: =タイムスケジュール!E9 -> 0 | DW18: =タイムスケジュール!L42 -> 0 | DX18: =タイムスケジュール!L41 -> 0 | DY18: =タイムスケジュール!L40 -> 0 | EB18: =タイムスケジュール!S39 -> 0 | ED18: =タイムスケジュール!E39 -> 0 | EG18: =タイムスケジュール!S37 -> 0 | EI18: =タイムスケジュール!E37 -> 0 | EK18: =タイムスケジュール!L36 -> 0 | EM18: =タイムスケジュール!E36 -> 0 | EP18: =タイムスケジュール!L33 -> 0 | ER18: =タイムスケジュール!L32 -> 0 | ET18: =タイムスケジュール!L31 -> 0 | EV18: =タイムスケジュール!L29 -> 0 | EX18: =タイムスケジュール!E33 -> 0 | EZ18: =タイムスケジュール!E32 -> 0 | FB18: =タイムスケジュール!E31 -> 0 | FD18: =タイムスケジュール!E29 -> 0 | FG18: =タイムスケジュール!S23 -> 0 | FI18: =タイムスケジュール!S22 -> 0 | FK18: =タイムスケジュール!L8 -> 0 | FM18: =タイムスケジュール!L7 -> 0 | FO18: =タイムスケジュール!E16 -> 0 | FQ18: =タイムスケジュール!E15 -> 0 | FT18: =タイムスケジュール!S16 -> 0 | FV18: =タイムスケジュール!S15 -> 0 | FX18: =タイムスケジュール!L23 -> 0 | FZ18: =タイムスケジュール!L22 -> 0 | GB18: =タイムスケジュール!E8 -> 0 | GD18: =タイムスケジュール!E7 -> 0 | GG18: =タイムスケジュール!S19 -> 0 | GI18: =タイムスケジュール!S18 -> 0 | GK18: =タイムスケジュール!L6 -> 0 | GM18: =タイムスケジュール!L5 -> 0 | GO18: =タイムスケジュール!E12 -> 0 | GQ18: =タイムスケジュール!E11 -> 0 | GT18: =タイムスケジュール!S12 -> 0 | GV18: =タイムスケジュール!S11 -> 0 | GX18: =タイムスケジュール!L19 -> 0 | GZ18: =タイムスケジュール!L18 -> 0 | HB18: =タイムスケジュール!E6 -> 0 | HD18: =タイムスケジュール!E5 -> 0 | HE18: スコア
D20: ー | G20: ー | I20: ー | L20: ー | N20: ー | P20: ー | S20: ー | U20: ー | W20: ー | Y20: ー | AA20: ー | AC20: ー | AE20: ー | AG20: ー | AI20: ー | AK20: ー | AM20: ー | AO20: ー | AQ20: ー | AS20: ー | AW20: ー | AX20: ー | AY20: ー | BB20: ー | BD20: ー | BG20: ー | BI20: ー | BK20: ー | BM20: ー | BP20: ー | BR20: ー | BT20: ー | BV20: ー | BX20: ー | CA20: ー | CC20: ー | CE20: ー | CG20: ー | CI20: ー | CK20: ー | CN20: ー | CP20: ー | CR20: ー | CT20: ー | CV20: ー | CX20: ー | DA20: ー | DC20: ー | DE20: ー | DG20: ー | DI20: ー | DK20: ー | DM20: ー | DO20: ー | DQ20: ー | DS20: ー | DW20: ー | DX20: ー | DY20: ー | EB20: ー | ED20: ー | EG20: ー | EI20: ー | EK20: ー | EM20: ー | EP20: ー | ER20: ー | ET20: ー | EV20: ー | EX20: ー | EZ20: ー | FB20: ー | FD20: ー | FG20: ー | FI20: ー | FK20: ー | FM20: ー | FO20: ー | FQ20: ー | FT20: ー | FV20: ー | FX20: ー | FZ20: ー | GB20: ー | GD20: ー | GG20: ー | GI20: ー | GK20: ー | GM20: ー | GO20: ー | GQ20: ー | GT20: ー | GV20: ー | GX20: ー | GZ20: ー | HB20: ー | HD20: ー
D21: =タイムスケジュール!N39 -> 0 | G21: =タイムスケジュール!U36 -> 0 | I21: =タイムスケジュール!U33 -> 0 | L21: =タイムスケジュール!U32 -> 0 | N21: =タイムスケジュール!U31 -> 0 | P21: =タイムスケジュール!U29 -> 0 | S21: =タイムスケジュール!U25 -> 0 | U21: =タイムスケジュール!U8 -> 0 | W21: =タイムスケジュール!U7 -> 0 | Y21: =タイムスケジュール!U6 -> 0 | AA21: =タイムスケジュール!U5 -> 0 | AC21: =タイムスケジュール!N16 -> 0 | AE21: =タイムスケジュール!N15 -> 0 | AG21: =タイムスケジュール!N12 -> 0 | AI21: =タイムスケジュール!N11 -> 0 | AK21: =タイムスケジュール!G25 -> 0 | AM21: =タイムスケジュール!G23 -> 0 | AO21: =タイムスケジュール!G22 -> 0 | AQ21: =タイムスケジュール!G19 -> 0 | AS21: =タイムスケジュール!G18 -> 0 | AW21: =タイムスケジュール!G42 -> 0 | AX21: =タイムスケジュール!G41 -> 0 | AY21: =タイムスケジュール!G40 -> 0 | BB21: =タイムスケジュール!U38 -> 0 | BD21: =タイムスケジュール!N38 -> 0 | BG21: =タイムスケジュール!U35 -> 0 | BI21: =タイムスケジュール!N35 -> 0 | BK21: =タイムスケジュール!G35 -> 0 | BM21: =タイムスケジュール!U34 -> 0 | BP21: =タイムスケジュール!U30 -> 0 | BR21: =タイムスケジュール!N30 -> 0 | BT21: =タイムスケジュール!N34 -> 0 | BV21: =タイムスケジュール!G34 -> 0 | BX21: =タイムスケジュール!G30 -> 0 | CA21: =タイムスケジュール!U21 -> 0 | CC21: =タイムスケジュール!U20 -> 0 | CE21: =タイムスケジュール!U10 -> 0 | CG21: =タイムスケジュール!U9 -> 0 | CI21: =タイムスケジュール!G14 -> 0 | CK21: =タイムスケジュール!G13 -> 0 | CN21: =タイムスケジュール!U14 -> 0 | CP21: =タイムスケジュール!U13 -> 0 | CR21: =タイムスケジュール!N21 -> 0 | CT21: =タイムスケジュール!N20 -> 0 | CV21: =タイムスケジュール!N10 -> 0 | CX21: =タイムスケジュール!N9 -> 0 | DA21: =タイムスケジュール!U17 -> 0 | DC21: =タイムスケジュール!N24 -> 0 | DE21: =タイムスケジュール!N17 -> 0 | DG21: =タイムスケジュール!N14 -> 0 | DI21: =タイムスケジュール!N13 -> 0 | DK21: =タイムスケジュール!G24 -> 0 | DM21: =タイムスケジュール!G21 -> 0 | DO21: =タイムスケジュール!G20 -> 0 | DQ21: =タイムスケジュール!G10 -> 0 | DS21: =タイムスケジュール!G9 -> 0 | DW21: =タイムスケジュール!N42 -> 0 | DX21: =タイムスケジュール!N41 -> 0 | DY21: =タイムスケジュール!N40 -> 0 | EB21: =タイムスケジュール!U39 -> 0 | ED21: =タイムスケジュール!G39 -> 0 | EG21: =タイムスケジュール!U37 -> 0 | EI21: =タイムスケジュール!G37 -> 0 | EK21: =タイムスケジュール!N36 -> 0 | EM21: =タイムスケジュール!G36 -> 0 | EP21: =タイムスケジュール!N33 -> 0 | ER21: =タイムスケジュール!N32 -> 0 | ET21: =タイムスケジュール!N31 -> 0 | EV21: =タイムスケジュール!N29 -> 0 | EX21: =タイムスケジュール!G33 -> 0 | EZ21: =タイムスケジュール!G32 -> 0 | FB21: =タイムスケジュール!G31 -> 0 | FD21: =タイムスケジュール!G29 -> 0 | FG21: =タイムスケジュール!U23 -> 0 | FI21: =タイムスケジュール!U22 -> 0 | FK21: =タイムスケジュール!N8 -> 0 | FM21: =タイムスケジュール!N7 -> 0 | FO21: =タイムスケジュール!G16 -> 0 | FQ21: =タイムスケジュール!G15 -> 0 | FT21: =タイムスケジュール!U16 -> 0 | FV21: =タイムスケジュール!U15 -> 0 | FX21: =タイムスケジュール!N23 -> 0 | FZ21: =タイムスケジュール!N22 -> 0 | GB21: =タイムスケジュール!G8 -> 0 | GD21: =タイムスケジュール!G7 -> 0 | GG21: =タイムスケジュール!U19 -> 0 | GI21: =タイムスケジュール!U18 -> 0 | GK21: =タイムスケジュール!N6 -> 0 | GM21: =タイムスケジュール!N5 -> 0 | GO21: =タイムスケジュール!G12 -> 0 | GQ21: =タイムスケジュール!G11 -> 0 | GT21: =タイムスケジュール!U12 -> 0 | GV21: =タイムスケジュール!U11 -> 0 | GX21: =タイムスケジュール!N19 -> 0 | GZ21: =タイムスケジュール!N18 -> 0 | HB21: =タイムスケジュール!G6 -> 0 | HD21: =タイムスケジュール!G5 -> 0 | HL21: 電話番号
HN23: ○○市～○○市まで
S24: H6 | U24: H6 | W24: H7 | Y24: H4 | AA24: H2 | AC24: H4 | AE24: H3 | AG24: H5 | AI24: H7 | AK24: H5 | AM24: H6 | AO24: H7 | AQ24: H5 | AS24: H7 | CA24: G3 | CC24: G4 | CE24: G4 | CG24: G2 | CI24: G4 | CK24: G3 | CN24: F4 | CP24: F3 | CR24: F3 | CT24: F4 | CV24: F4 | CX24: F2 | DA24: E4 | DC24: E5 | DE24: E5 | DG24: E3 | DI24: E5 | DK24: E4 | DM24: E5 | DO24: E3 | DQ24: E4 | DS24: E2 | FG24: D3 | FI24: D4 | FK24: D4 | FM24: D2 | FO24: D4 | FQ24: D3 | FT24: C4 | FV24: C3 | FX24: C3 | FZ24: C4 | GB24: C4 | GD24: C2 | GG24: B3 | GI24: B4 | GK24: B4 | GM24: B2 | GO24: B4 | GQ24: B3 | GT24: A4 | GV24: A3 | GX24: A3 | GZ24: A4 | HB24: A4 | HD24: A2 | HE24: チーム名
D25: =タイムスケジュール!P39 -> C8勝 | G25: =タイムスケジュール!W36 -> C4勝 | I25: =タイムスケジュール!W33 -> C１勝 | L25: =タイムスケジュール!W32 -> H2位 | N25: =タイムスケジュール!W31 -> H5位 | P25: =タイムスケジュール!W29 -> H4位 | S25: =HLOOKUP(S24,$AG$44:$AS$45,2,FALSE) -> ちゃっきり一番kids | U25: =HLOOKUP(U24,$AG$44:$AS$45,2,FALSE) -> ちゃっきり一番kids | W25: =HLOOKUP(W24,$AG$44:$AS$45,2,FALSE) -> 社会保険パピィB | Y25: =HLOOKUP(Y24,$AG$44:$AS$45,2,FALSE) -> スーパー長野キッズ | AA25: =HLOOKUP(AA24,$AG$44:$AS$45,2,FALSE) -> 龍池舎きっず | AC25: =HLOOKUP(AC24,$AG$44:$AS$45,2,FALSE) -> スーパー長野キッズ | AE25: =HLOOKUP(AE24,$AG$44:$AS$45,2,FALSE) -> 城内キッズコルツ | AG25: =HLOOKUP(AG24,$AG$44:$AS$45,2,FALSE) -> FUJIミラクルソゲキッズ | AI25: =HLOOKUP(AI24,$AG$44:$AS$45,2,FALSE) -> 社会保険パピィB | AK25: =HLOOKUP(AK24,$AG$44:$AS$45,2,FALSE) -> FUJIミラクルソゲキッズ | AM25: =HLOOKUP(AM24,$AG$44:$AS$45,2,FALSE) -> ちゃっきり一番kids | AO25: =HLOOKUP(AO24,$AG$44:$AS$45,2,FALSE) -> 社会保険パピィB | AQ25: =HLOOKUP(AQ24,$AG$44:$AS$45,2,FALSE) -> FUJIミラクルソゲキッズ | AS25: =HLOOKUP(AS24,$AG$44:$AS$45,2,FALSE) -> 社会保険パピィB | AW25: =タイムスケジュール!I40 -> C10勝 | BB25: =タイムスケジュール!W38 -> C7勝 | BD25: =タイムスケジュール!P38 -> A7勝 | BG25: =タイムスケジュール!W35 -> E1位 | BI25: =タイムスケジュール!P35 -> B2勝 | BK25: =タイムスケジュール!I35 -> B6勝 | BM25: =タイムスケジュール!W34 -> A2勝 | BP25: =タイムスケジュール!W30 -> G4位 | BR25: =タイムスケジュール!P30 -> G2位 | BT25: =タイムスケジュール!P34 -> E2位 | BV25: =タイムスケジュール!I34 -> F3位 | BX25: =タイムスケジュール!I30 -> F4位 | CA25: =HLOOKUP(CA24,$CA$44:$FQ$45,2,FALSE) -> ワンピース三島J | CC25: =HLOOKUP(CC24,$CA$44:$FQ$45,2,FALSE) -> スーパー長野Jr | CE25: =HLOOKUP(CE24,$CA$44:$FQ$45,2,FALSE) -> スーパー長野Jr | CG25: =HLOOKUP(CG24,$CA$44:$FQ$45,2,FALSE) -> FUJIミラクルキッズJr. | CI25: =HLOOKUP(CI24,$CA$44:$FQ$45,2,FALSE) -> スーパー長野Jr | CK25: =HLOOKUP(CK24,$CA$44:$FQ$45,2,FALSE) -> ワンピース三島J | CN25: =HLOOKUP(CN24,$CA$44:$FQ$45,2,FALSE) -> リトル☆スターズJr | CP25: =HLOOKUP(CP24,$CA$44:$FQ$45,2,FALSE) -> 龍池舎じゅにあB | CR25: =HLOOKUP(CR24,$CA$44:$FQ$45,2,FALSE) -> 龍池舎じゅにあB | CT25: =HLOOKUP(CT24,$CA$44:$FQ$45,2,FALSE) -> リトル☆スターズJr | CV25: =HLOOKUP(CV24,$CA$44:$FQ$45,2,FALSE) -> リトル☆スターズJr | CX25: =HLOOKUP(CX24,$CA$44:$FQ$45,2,FALSE) -> ハリケーンキッズ三島Jr | DA25: =HLOOKUP(DA24,$CA$44:$FQ$45,2,FALSE) -> ちゃっきり一番Jr. | DC25: =HLOOKUP(DC24,$CA$44:$FQ$45,2,FALSE) -> 三島☆金狼Jr | DE25: =HLOOKUP(DE24,$CA$44:$FQ$45,2,FALSE) -> 三島☆金狼Jr | DG25: =HLOOKUP(DG24,$CA$44:$FQ$45,2,FALSE) -> 城内キッズジュニア | DI25: =HLOOKUP(DI24,$CA$44:$FQ$45,2,FALSE) -> 三島☆金狼Jr | DK25: =HLOOKUP(DK24,$CA$44:$FQ$45,2,FALSE) -> ちゃっきり一番Jr. | DM25: =HLOOKUP(DM24,$CA$44:$FQ$45,2,FALSE) -> 三島☆金狼Jr | DO25: =HLOOKUP(DO24,$CA$44:$FQ$45,2,FALSE) -> 城内キッズジュニア | DQ25: =HLOOKUP(DQ24,$CA$44:$FQ$45,2,FALSE) -> ちゃっきり一番Jr. | DS25: =HLOOKUP(DS24,$CA$44:$FQ$45,2,FALSE) -> 函南勇楽会・よ組 | DW25: =タイムスケジュール!P40 -> C11勝 | EB25: =タイムスケジュール!W39 -> C9勝 | ED25: =タイムスケジュール!I39 -> B8勝 | EG25: =タイムスケジュール!W37 -> B5勝 | EI25: =タイムスケジュール!I37 -> A5勝 | EK25: =タイムスケジュール!P36 -> B4勝 | EM25: =タイムスケジュール!I36 -> A4勝 | EP25: =タイムスケジュール!P33 -> B1位 | ER25: =タイムスケジュール!P32 -> D1位 | ET25: =タイムスケジュール!P31 -> D3位 | EV25: =タイムスケジュール!P29 -> B3位 | EX25: =タイムスケジュール!I33 -> D2位 | EZ25: =タイムスケジュール!I32 -> B2位 | FB25: =タイムスケジュール!I31 -> B4位 | FD25: =タイムスケジュール!I29 -> D4位 | FG25: =HLOOKUP(FG24,$CA$44:$FQ$45,2,FALSE) -> スーパー長野 | FI25: =HLOOKUP(FI24,$CA$44:$FQ$45,2,FALSE) -> 駒越ドラゴンズ | FK25: =HLOOKUP(FK24,$CA$44:$FQ$45,2,FALSE) -> 駒越ドラゴンズ | FM25: =HLOOKUP(FM24,$CA$44:$FQ$45,2,FALSE) -> ちゃっきり一番 | FO25: =HLOOKUP(FO24,$CA$44:$FQ$45,2,FALSE) -> 駒越ドラゴンズ | FQ25: =HLOOKUP(FQ24,$CA$44:$FQ$45,2,FALSE) -> スーパー長野 | FT25: =HLOOKUP(FT24,$FT$44:$GD$45,2,FALSE) -> 社会保険ドラゴンズ | FV25: =HLOOKUP(FV24,$FT$44:$GD$45,2,FALSE) -> 城内キッズ | FX25: =HLOOKUP(FX24,$FT$44:$GD$45,2,FALSE) -> 城内キッズ | FZ25: =HLOOKUP(FZ24,$FT$44:$GD$45,2,FALSE) -> 社会保険ドラゴンズ | GB25: =HLOOKUP(GB24,$FT$44:$GD$45,2,FALSE) -> 社会保険ドラゴンズ | GD25: =HLOOKUP(GD24,$FT$44:$GD$45,2,FALSE) -> FUJIミラクルキッズ | GG25: =HLOOKUP(GG24,$GG$44:$GQ$45,2,FALSE) -> 三島☆金狼 | GI25: =HLOOKUP(GI24,$GG$44:$GQ$45,2,FALSE) -> 広幡ドッジキッズ | GK25: =HLOOKUP(GK24,$GG$44:$GQ$45,2,FALSE) -> 広幡ドッジキッズ | GM25: =HLOOKUP(GM24,$GG$44:$GQ$45,2,FALSE) -> リトル☆スターズ | GO25: =HLOOKUP(GO24,$GG$44:$GQ$45,2,FALSE) -> 広幡ドッジキッズ | GQ25: =HLOOKUP(GQ24,$GG$44:$GQ$45,2,FALSE) -> 三島☆金狼 | GT25: =HLOOKUP(GT24,$GT$44:$HD$45,2,FALSE) -> マジカルキッズ | GV25: =HLOOKUP(GV24,$GT$44:$HD$45,2,FALSE) -> 函南勇楽会・い組 | GX25: =HLOOKUP(GX24,$GT$44:$HD$45,2,FALSE) -> 函南勇楽会・い組 | GZ25: =HLOOKUP(GZ24,$GT$44:$HD$45,2,FALSE) -> マジカルキッズ | HB25: =HLOOKUP(HB24,$GT$44:$HD$45,2,FALSE) -> マジカルキッズ | HD25: =HLOOKUP(HD24,$GT$44:$HD$45,2,FALSE) -> 浜松believe.1
HL26: 054ー623ー0016
AG44: H7 | AI44: H6 | AK44: H5 | AM44: H4 | AO44: H3 | AQ44: H2 | AS44: H1 | CE44: G4 | CG44: G3 | CI44: G2 | CK44: G1 | CR44: F4 | CT44: F3 | CV44: F2 | CX44: F1 | DK44: E5 | DM44: E4 | DO44: E3 | DQ44: E2 | DS44: E1 | FK44: D4 | FM44: D3 | FO44: D2 | FQ44: D1 | FX44: C4 | FZ44: C3 | GB44: C2 | GD44: C1 | GK44: B4 | GM44: B3 | GO44: B2 | GQ44: B1 | GX44: A4 | GZ44: A3 | HB44: A2 | HD44: A1
AG45: =予選組合せ!C40 -> 社会保険パピィB | AI45: =予選組合せ!C39 -> ちゃっきり一番kids | AK45: =予選組合せ!C38 -> FUJIミラクルソゲキッズ | AM45: =予選組合せ!C37 -> スーパー長野キッズ | AO45: =予選組合せ!C36 -> 城内キッズコルツ | AQ45: =予選組合せ!C35 -> 龍池舎きっず | AS45: =予選組合せ!C34 -> 広幡ドッジキッズリトル | CE45: =予選組合せ!C30 -> スーパー長野Jr | CG45: =予選組合せ!C29 -> ワンピース三島J | CI45: =予選組合せ!C28 -> FUJIミラクルキッズJr. | CK45: =予選組合せ!C27 -> gold wolf ジュニア | CR45: =予選組合せ!L23 -> リトル☆スターズJr | CT45: =予選組合せ!L22 -> 龍池舎じゅにあB | CV45: =予選組合せ!L21 -> ハリケーンキッズ三島Jr | CX45: =予選組合せ!L20 -> ブーメラン X | DK45: =予選組合せ!C24 -> 三島☆金狼Jr | DM45: =予選組合せ!C23 -> ちゃっきり一番Jr. | DO45: =予選組合せ!C22 -> 城内キッズジュニア | DQ45: =予選組合せ!C21 -> 函南勇楽会・よ組 | DS45: =予選組合せ!C20 -> 龍池舎じゅにあA | FK45: =予選組合せ!L15 -> 駒越ドラゴンズ | FM45: =予選組合せ!L14 -> スーパー長野 | FO45: =予選組合せ!L13 -> ちゃっきり一番 | FQ45: =予選組合せ!L12 -> ブーメラン | FX45: =予選組合せ!C15 -> 社会保険ドラゴンズ | FZ45: =予選組合せ!C14 -> 城内キッズ | GB45: =予選組合せ!C13 -> FUJIミラクルキッズ | GD45: =予選組合せ!C12 -> 龍 池 舎 | GK45: =予選組合せ!L9 -> 広幡ドッジキッズ | GM45: =予選組合せ!L8 -> 三島☆金狼 | GO45: =予選組合せ!L7 -> リトル☆スターズ | GQ45: =予選組合せ!L6 -> 焼津フェニックス | GX45: =予選組合せ!C9 -> マジカルキッズ | GZ45: =予選組合せ!C8 -> 函南勇楽会・い組 | HB45: =予選組合せ!C7 -> 浜松believe.1 | HD45: =予選組合せ!C6 -> ワンピース三島
