Workbook

Sheet タイムスケジュール
B1: 新東名カップ
A2: TIME | D2: A | I2: B | N2: C | S2: D
A3: 0.38541667 | B3: 監督会議
A4: 0.39583333 | B4: 開会式
A5: 0.40972222 | B5: 1 | C5: 予選 | D5: =[1]予選リーグ!B2 -> DOKKY'S | F5: - | H5: =[1]予選リーグ!B4 -> METS萩原 | I5: =[1]予選リーグ!B6 -> 羽根ボンバーズ | K5: - | M5: =[1]予選リーグ!B8 -> INIFINITY | N5: =[1]予選リーグ!B11 -> ATTACKERS | P5: - | R5: =[1]予選リーグ!B13 -> BRAVE | S5: =[1]予選リーグ!B15 -> 愛知軍団 | U5: - | W5: =[1]予選リーグ!B17 -> 安城西ドッジボールクラブ
A6: 0.41597222 | B6: 2 | D6: =[1]予選リーグ!B20 -> モンチッチーズ | F6: - | H6: =[1]予選リーグ!B22 -> 新星☆絆 | I6: =[1]予選リーグ!B24 -> 三島☆金狼 | K6: - | M6: =[1]予選リーグ!B26 -> Soul West | N6: =[1]予選リーグ!B29 -> GREATバンビーニ | P6: - | R6: =[1]予選リーグ!B31 -> 関スポ少｢グリーンキッズ｣ | S6: =[1]予選リーグ!B33 -> Yokohama TOPS | U6: - | W6: =[1]予選リーグ!B35 -> 駒越ドラゴンズ
A7: 0.42222222 | B7: 3 | D7: =[1]予選リーグ!B38 -> 広幡ドッジキッズ | F7: - | H7: =[1]予選リーグ!B40 -> BUSTERS | I7: =[1]予選リーグ!B42 -> Red Victory | K7: - | M7: =[1]予選リーグ!B44 -> 土竜島 | N7: =[1]予選リーグ!B47 -> 足柄ハリケーン | P7: - | R7: =[1]予選リーグ!B49 -> OPM | S7: =[1]予選リーグ!B51 -> TF G with B | U7: - | W7: =[1]予選リーグ!B53 -> ANGELS
A8: 0.42847222 | B8: 4 | D8: =[1]予選リーグ!B56 -> フレンズゴッド | F8: - | H8: =[1]予選リーグ!B58 -> T.K.G | I8: =[1]予選リーグ!B60 -> 龍池舎 | K8: - | M8: =[1]予選リーグ!B62 -> ビクトリーダッシュ | N8: =[1]予選リーグ!B65 -> ファイティング牧の原 | P8: - | R8: =[1]予選リーグ!B67 -> White.Jade | S8: =[1]予選リーグ!B69 -> 中新田ファイヤーズ | U8: - | W8: =[1]予選リーグ!B71 -> 城内キッズ
A9: 0.43472222 | B9: 5 | D9: =[1]予選リーグ!B74 -> ちゃっきり一番 | F9: - | H9: =[1]予選リーグ!B76 -> INAZUMA KIDS | I9: =[1]予選リーグ!B78 -> 6ネンズ９８ | K9: - | M9: =[1]予選リーグ!B80 -> フェニックス | N9: =[1]予選リーグ!B83 -> トリムサンダーストーム | P9: - | R9: =[1]予選リーグ!B85 -> 浜松believe.1 | S9: =[1]予選リーグ!B87 -> KOTAブラックス | U9: - | W9: =[1]予選リーグ!B89 -> SOULMAX池田
A10: 0.44097222 | B10: 6 | D10: =[1]予選リーグ!B92 -> つつじが丘ファイターズ | F10: - | H10: =[1]予選リーグ!B94 -> S.K.D. VICTORY | I10: =[1]予選リーグ!B96 -> 社会保険ドラゴンズ | K10: - | M10: =[1]予選リーグ!B98 -> RAIJIN TRIBE | N10: =[1]予選リーグ!B101 -> 大須ギャングスターズ☆ | P10: - | R10: =[1]予選リーグ!B103 -> 松阪ストームキャノンズ | S10: =[1]予選リーグ!B105 -> 大和 | U10: - | W10: =[1]予選リーグ!B107 -> ブーメラン
A11: 0.44722222 | B11: 7 | D11: =[1]予選リーグ!B110 -> FUJIミラクルキッズ | F11: - | H11: =[1]予選リーグ!B112 -> Fukouzu DBC | I11: =[1]予選リーグ!B114 -> 上社ダイヤモンドキッズ | K11: - | M11: =[1]予選リーグ!B116 -> 桜火魂 | N11: =[1]予選リーグ!B119 -> ゼブラ★パワーズ | P11: - | R11: =[1]予選リーグ!B121 -> 函南勇楽会・い組 | S11: =[1]予選リーグ!B123 -> サザン’97 | U11: - | W11: =[1]予選リーグ!B125 -> 西尾ブレイズ
A12: 0.45347222 | B12: 8 | D12: =[1]予選リーグ!B128 -> ゆかいな仲間たち | F12: - | H12: =[1]予選リーグ!B130 -> LINK SMILE 伊勢原／秦野 | I12: =[1]予選リーグ!B132 -> ハリケーンキッズ三島 | K12: - | M12: =[1]予選リーグ!B134 -> わいわいパラダイス | N12: =[1]予選リーグ!B137 -> マジカルキッズ | P12: - | R12: =[1]予選リーグ!B139 -> 鶴城D.B.C | S12: =[1]予選リーグ!B141 -> 厚木SUPERKIDS | U12: - | W12: =[1]予選リーグ!B143 -> IWATA DRAGONFLIES
A13: 0.45972222 | B13: 9 | D13: =[1]予選リーグ!B13 -> BRAVE | F13: - | H13: =[1]予選リーグ!B17 -> 安城西ドッジボールクラブ | I13: =[1]予選リーグ!B11 -> ATTACKERS | K13: - | M13: =[1]予選リーグ!B15 -> 愛知軍団 | N13: =[1]予選リーグ!B4 -> METS萩原 | P13: - | R13: =[1]予選リーグ!B8 -> INIFINITY | S13: =[1]予選リーグ!B2 -> DOKKY'S | U13: - | W13: =[1]予選リーグ!B6 -> 羽根ボンバーズ
A14: 0.46597222 | B14: 10 | D14: =[1]予選リーグ!B31 -> 関スポ少｢グリーンキッズ｣ | F14: - | H14: =[1]予選リーグ!B35 -> 駒越ドラゴンズ | I14: =[1]予選リーグ!B29 -> GREATバンビーニ | K14: - | M14: =[1]予選リーグ!B33 -> Yokohama TOPS | N14: =[1]予選リーグ!B22 -> 新星☆絆 | P14: - | R14: =[1]予選リーグ!B26 -> Soul West | S14: =[1]予選リーグ!B20 -> モンチッチーズ | U14: - | W14: =[1]予選リーグ!B24 -> 三島☆金狼
A15: 0.47222222 | B15: 11 | D15: =[1]予選リーグ!B49 -> OPM | F15: - | H15: =[1]予選リーグ!B53 -> ANGELS | I15: =[1]予選リーグ!B47 -> 足柄ハリケーン | K15: - | M15: =[1]予選リーグ!B51 -> TF G with B | N15: =[1]予選リーグ!B40 -> BUSTERS | P15: - | R15: =[1]予選リーグ!B44 -> 土竜島 | S15: =[1]予選リーグ!B38 -> 広幡ドッジキッズ | U15: - | W15: =[1]予選リーグ!B42 -> Red Victory
A16: 0.47847222 | B16: 12 | D16: =[1]予選リーグ!B67 -> White.Jade | F16: - | H16: =[1]予選リーグ!B71 -> 城内キッズ | I16: =[1]予選リーグ!B65 -> ファイティング牧の原 | K16: - | M16: =[1]予選リーグ!B69 -> 中新田ファイヤーズ | N16: =[1]予選リーグ!B58 -> T.K.G | P16: - | R16: =[1]予選リーグ!B62 -> ビクトリーダッシュ | S16: =[1]予選リーグ!B56 -> フレンズゴッド | U16: - | W16: =[1]予選リーグ!B60 -> 龍池舎
A17: 0.48472222 | B17: 13 | D17: =[1]予選リーグ!B85 -> 浜松believe.1 | F17: - | H17: =[1]予選リーグ!B89 -> SOULMAX池田 | I17: =[1]予選リーグ!B83 -> トリムサンダーストーム | K17: - | M17: =[1]予選リーグ!B87 -> KOTAブラックス | N17: =[1]予選リーグ!B76 -> INAZUMA KIDS | P17: - | R17: =[1]予選リーグ!B80 -> フェニックス | S17: =[1]予選リーグ!B74 -> ちゃっきり一番 | U17: - | W17: =[1]予選リーグ!B78 -> 6ネンズ９８
A18: 0.49097222 | B18: 14 | D18: =[1]予選リーグ!B103 -> 松阪ストームキャノンズ | F18: - | H18: =[1]予選リーグ!B107 -> ブーメラン | I18: =[1]予選リーグ!B101 -> 大須ギャングスターズ☆ | K18: - | M18: =[1]予選リーグ!B105 -> 大和 | N18: =[1]予選リーグ!B94 -> S.K.D. VICTORY | P18: - | R18: =[1]予選リーグ!B98 -> RAIJIN TRIBE | S18: =[1]予選リーグ!B92 -> つつじが丘ファイターズ | U18: - | W18: =[1]予選リーグ!B96 -> 社会保険ドラゴンズ
A19: 0.49722222 | B19: 15 | D19: =[1]予選リーグ!B121 -> 函南勇楽会・い組 | F19: - | H19: =[1]予選リーグ!B125 -> 西尾ブレイズ | I19: =[1]予選リーグ!B119 -> ゼブラ★パワーズ | K19: - | M19: =[1]予選リーグ!B123 -> サザン’97 | N19: =[1]予選リーグ!B112 -> Fukouzu DBC | P19: - | R19: =[1]予選リーグ!B116 -> 桜火魂 | S19: =[1]予選リーグ!B110 -> FUJIミラクルキッズ | U19: - | W19: =[1]予選リーグ!B114 -> 上社ダイヤモンドキッズ
A20: 0.50347222 | B20: 16 | D20: =[1]予選リーグ!B139 -> 鶴城D.B.C | F20: - | H20: =[1]予選リーグ!B143 -> IWATA DRAGONFLIES | I20: =[1]予選リーグ!B137 -> マジカルキッズ | K20: - | M20: =[1]予選リーグ!B141 -> 厚木SUPERKIDS | N20: =[1]予選リーグ!B130 -> LINK SMILE 伊勢原／秦野 | P20: - | R20: =[1]予選リーグ!B134 -> わいわいパラダイス | S20: =[1]予選リーグ!B128 -> ゆかいな仲間たち | U20: - | W20: =[1]予選リーグ!B132 -> ハリケーンキッズ三島
A21: 0.50972222 | B21: 17 | D21: =[1]予選リーグ!B15 -> 愛知軍団 | F21: - | H21: =[1]予選リーグ!B13 -> BRAVE | I21: =[1]予選リーグ!B6 -> 羽根ボンバーズ | K21: - | M21: =[1]予選リーグ!B4 -> METS萩原 | N21: =[1]予選リーグ!B8 -> INIFINITY | P21: - | R21: =[1]予選リーグ!B2 -> DOKKY'S | S21: =[1]予選リーグ!B17 -> 安城西ドッジボールクラブ | U21: - | W21: =[1]予選リーグ!B11 -> ATTACKERS
A22: 0.51597222 | B22: 18 | D22: =[1]予選リーグ!B35 -> 駒越ドラゴンズ | F22: - | H22: =[1]予選リーグ!B29 -> GREATバンビーニ | I22: =[1]予選リーグ!B24 -> 三島☆金狼 | K22: - | M22: =[1]予選リーグ!B22 -> 新星☆絆 | N22: =[1]予選リーグ!B26 -> Soul West | P22: - | R22: =[1]予選リーグ!B20 -> モンチッチーズ | S22: =[1]予選リーグ!B33 -> Yokohama TOPS | U22: - | W22: =[1]予選リーグ!B31 -> 関スポ少｢グリーンキッズ｣
A23: 0.52222222 | B23: 19 | D23: =[1]予選リーグ!B47 -> 足柄ハリケーン | F23: - | H23: =[1]予選リーグ!B53 -> ANGELS | I23: =[1]予選リーグ!B40 -> BUSTERS | K23: - | M23: =[1]予選リーグ!B42 -> Red Victory | N23: =[1]予選リーグ!B44 -> 土竜島 | P23: - | R23: =[1]予選リーグ!B38 -> 広幡ドッジキッズ | S23: =[1]予選リーグ!B51 -> TF G with B | U23: - | W23: =[1]予選リーグ!B49 -> OPM
A24: 0.52847222 | B24: 20 | D24: =[1]予選リーグ!B71 -> 城内キッズ | F24: - | H24: =[1]予選リーグ!B65 -> ファイティング牧の原 | I24: =[1]予選リーグ!B62 -> ビクトリーダッシュ | K24: - | M24: =[1]予選リーグ!B56 -> フレンズゴッド | N24: =[1]予選リーグ!B60 -> 龍池舎 | P24: - | R24: =[1]予選リーグ!B58 -> T.K.G | S24: =[1]予選リーグ!B69 -> 中新田ファイヤーズ | U24: - | W24: =[1]予選リーグ!B67 -> White.Jade
A25: 0.53472222 | B25: 21 | D25: =[1]予選リーグ!B89 -> SOULMAX池田 | F25: - | H25: =[1]予選リーグ!B83 -> トリムサンダーストーム | I25: =[1]予選リーグ!B80 -> フェニックス | K25: - | M25: =[1]予選リーグ!B74 -> ちゃっきり一番 | N25: =[1]予選リーグ!B78 -> 6ネンズ９８ | P25: - | R25: =[1]予選リーグ!B76 -> INAZUMA KIDS | S25: =[1]予選リーグ!B87 -> KOTAブラックス | U25: - | W25: =[1]予選リーグ!B85 -> 浜松believe.1
A26: 0.54097222 | B26: 22 | D26: =[1]予選リーグ!B107 -> ブーメラン | F26: - | H26: =[1]予選リーグ!B101 -> 大須ギャングスターズ☆ | I26: =[1]予選リーグ!B98 -> RAIJIN TRIBE | K26: - | M26: =[1]予選リーグ!B92 -> つつじが丘ファイターズ | N26: =[1]予選リーグ!B96 -> 社会保険ドラゴンズ | P26: - | R26: =[1]予選リーグ!B94 -> S.K.D. VICTORY | S26: =[1]予選リーグ!B105 -> 大和 | U26: - | W26: =[1]予選リーグ!B103 -> 松阪ストームキャノンズ
A27: 0.54722222 | B27: 23 | D27: =[1]予選リーグ!B125 -> 西尾ブレイズ | F27: - | H27: =[1]予選リーグ!B119 -> ゼブラ★パワーズ | I27: =[1]予選リーグ!B116 -> 桜火魂 | K27: - | M27: =[1]予選リーグ!B110 -> FUJIミラクルキッズ | N27: =[1]予選リーグ!B114 -> 上社ダイヤモンドキッズ | P27: - | R27: =[1]予選リーグ!B112 -> Fukouzu DBC | S27: =[1]予選リーグ!B123 -> サザン’97 | U27: - | W27: =[1]予選リーグ!B121 -> 函南勇楽会・い組
A28: 0.55347222 | B28: 24 | D28: =[1]予選リーグ!B143 -> IWATA DRAGONFLIES | F28: - | H28: =[1]予選リーグ!B137 -> マジカルキッズ | I28: =[1]予選リーグ!B132 -> ハリケーンキッズ三島 | K28: - | M28: =[1]予選リーグ!B130 -> LINK SMILE 伊勢原／秦野 | N28: =[1]予選リーグ!B134 -> わいわいパラダイス | P28: - | R28: =[1]予選リーグ!B128 -> ゆかいな仲間たち | S28: =[1]予選リーグ!B141 -> 厚木SUPERKIDS | U28: - | W28: =[1]予選リーグ!B139 -> 鶴城D.B.C
A29: 0.55972222 | B29: 予選終了
A30: 0.59027778 | B30: 25 | C30: 1回戦 | D30: ①１位 | F30: - | H30: ⑥４位 | I30: ⑤１位 | K30: - | M30: ③４位 | N30: ⑬４位 | P30: - | R30: ⑫１位 | S30: ⑩４位 | U30: - | W30: ⑯１位
A31: 0.59652778 | B31: 26 | D31: ⑨３位 | F31: - | H31: ⑭２位 | I31: ⑯３位 | K31: - | M31: ⑨２位 | N31: ⑤２位 | P31: - | R31: ④３位 | S31: ①２位 | U31: - | W31: ⑤３位
A32: 0.60277778 | B32: 27 | D32: ⑮２位 | F32: - | H32: ⑩３位 | I32: ⑫２位 | K32: - | M32: ⑮３位 | N32: ②３位 | P32: - | R32: ⑧２位 | S32: ⑦３位 | U32: - | W32: ③２位
A33: 0.60902778 | B33: 28 | D33: ⑦４位 | F33: - | H33: ②１位 | I33: ④４位 | K33: - | M33: ⑥１位 | N33: ⑪１位 | P33: - | R33: ⑯４位 | S33: ⑮１位 | U33: - | W33: ⑫４位
A34: 0.61527778 | B34: 29 | D34: ③１位 | F34: - | H34: ⑧４位 | I34: ⑦１位 | K34: - | M34: ①４位 | N34: ⑮４位 | P34: - | R34: ⑩１位 | S34: ⑪４位 | U34: - | W34: ⑭１位
A35: 0.62152778 | B35: 30 | D35: ⑪３位 | F35: - | H35: ⑯２位 | I35: ⑭３位 | K35: - | M35: ⑩２位 | N35: ⑦２位 | P35: - | R35: ①３位 | S35: ④２位 | U35: - | W35: ⑧３位
A36: 0.62777778 | B36: 31 | D36: ⑬２位 | F36: - | H36: ⑫３位 | I36: ⑪２位 | K36: - | M36: ⑬３位 | N36: ③３位 | P36: - | R36: ⑥２位 | S36: ⑥３位 | U36: - | W36: ②２位
A37: 0.63402778 | B37: 32 | D37: ⑤４位 | F37: - | H37: ④１位 | I37: ②４位 | K37: - | M37: ⑧１位 | N37: ⑨１位 | P37: - | R37: ⑭４位 | S37: ⑬１位 | U37: - | W37: ⑨４位
A38: 0.64027778 | B38: 33 | C38: ２回戦 | D38: A25勝者 | F38: - | H38: A26勝者 | I38: B25勝者 | K38: - | M38: B26勝者 | N38: C26勝者 | P38: - | R38: C25勝者 | S38: D26勝者 | U38: - | W38: D25勝者
A39: 0.64652778 | B39: 34 | D39: A27勝者 | F39: - | H39: A28勝者 | I39: B27勝者 | K39: - | M39: B28勝者 | N39: C28勝者 | P39: - | R39: C27勝者 | S39: D28勝者 | U39: - | W39: D27勝者
A40: 0.65277778 | B40: 35 | D40: A29勝者 | F40: - | H40: A30勝者 | I40: B29勝者 | K40: - | M40: B30勝者 | N40: C30勝者 | P40: - | R40: C29勝者 | S40: D30勝者 | U40: - | W40: D29勝者
A41: 0.65902778 | B41: 36 | D41: A31勝者 | F41: - | H41: A32勝者 | I41: B31勝者 | K41: - | M41: B32勝者 | N41: C32勝者 | P41: - | R41: C31勝者 | S41: D32勝者 | U41: - | W41: D31勝者
A42: 0.66527778 | B42: 37 | C42: ３回戦 | D42: A33勝者 | F42: - | H42: A34勝者 | I42: B33勝者 | K42: - | M42: B34勝者 | N42: C34勝者 | P42: - | R42: C33勝者 | S42: D34勝者 | U42: - | W42: D33勝者
A43: 0.67152778 | B43: 38 | D43: A35勝者 | F43: - | H43: A36勝者 | I43: B35勝者 | K43: - | M43: B36勝者 | N43: C36勝者 | P43: - | R43: C35勝者 | S43: D36勝者 | U43: - | W43: D35勝者
A44: 0.67777778 | B44: 39 | C44: 準々決勝 | D44: A37勝者 | F44: - | H44: A38勝者 | I44: B37勝者 | K44: - | M44: B38勝者 | N44: C38勝者 | P44: - | R44: C37勝者 | S44: D38勝者 | U44: - | W44: D37勝者
A45: 0.68472222 | B45: 40 | C45: 準決勝 | I45: A39勝者 | K45: - | M45: B39勝者 | N45: C39勝者 | P45: - | R45: D39勝者
A46: 0.69166667 | B46: 41 | C46: 決勝 | I46: B40敗者 | K46: - | M46: C40敗者 | N46: B40勝者 | P46: - | R46: C40勝者
A47: 0.70833333 | B47: 閉会式
A48: 0.72916667 | B48: 大会終了

Sheet 予選リーグ
A1: Aリーグ | E1: =A2 -> 1 | H1: =A4 -> 2 | K1: =A6 -> 3 | N1: =A8 -> 4 | Q1: 勝点 | R1: 勝 | S1: 分 | T1: 負 | U1: 内野 | V1: 外野 | W1: 順位
A2: 1 | B2: =[2]Sheet1!$A$30 -> DOKKY'S | C2: 静岡 | D2: 1 | H2: =IF(H3+J3>0,IF(H3>J3,"○",IF(H3<J3,"×","△")),"") | K2: =IF(K3+M3>0,IF(K3>M3,"○",IF(K3<M3,"×","△")),"") | N2: =IF(N3+P3>0,IF(N3>P3,"○",IF(N3<P3,"×","△")),"")
I3: - | L3: - | O3: -
A4: =SUM(A2+1) -> 2 | B4: =[1]Sheet1!A10 -> METS萩原 | C4: 愛知 | D4: 7 | E4: =IF(E5+G5>0,IF(E5>G5,"○",IF(E5<G5,"×","△")),"") | K4: =IF(K5+M5>0,IF(K5>M5,"○",IF(K5<M5,"×","△")),"") | N4: =IF(N5+P5>0,IF(N5>P5,"○",IF(N5<P5,"×","△")),"")
F5: - | L5: - | O5: -
A6: =SUM(A4+1) -> 3 | B6: =[1]Sheet1!A28 -> 羽根ボンバーズ | C6: 愛知 | D6: 25 | E6: =IF(E7+G7>0,IF(E7>G7,"○",IF(E7<G7,"×","△")),"") | H6: =IF(H7+J7>0,IF(H7>J7,"○",IF(H7<J7,"×","△")),"") | N6: =IF(N7+P7>0,IF(N7>P7,"○",IF(N7<P7,"×","△")),"")
F7: - | I7: - | O7: -
A8: =SUM(A6+1) -> 4 | B8: =[1]総合順位!C51 -> INIFINITY | C8: 神奈川 | D8: 15 | E8: =IF(E9+G9>0,IF(E9>G9,"○",IF(E9<G9,"×","△")),"") | H8: =IF(H9+J9>0,IF(H9>J9,"○",IF(H9<J9,"×","△")),"") | K8: =IF(K9+M9>0,IF(K9>M9,"○",IF(K9<M9,"×","△")),"")
F9: - | I9: - | L9: -
A10: Bリーグ | E10: =A11 -> 5 | H10: =A13 -> 6 | K10: =A15 -> 7 | N10: =A17 -> 8 | Q10: 勝点 | R10: 勝 | S10: 分 | T10: 負 | U10: 内野 | V10: 外野 | W10: 順位
A11: =SUM(A8+1) -> 5 | B11: =[1]総合順位!C33 -> ATTACKERS | C11: 神奈川 | D11: 13 | H11: =IF(H12+J12>0,IF(H12>J12,"○",IF(H12<J12,"×","△")),"") | K11: =IF(K12+M12>0,IF(K12>M12,"○",IF(K12<M12,"×","△")),"") | N11: =IF(N12+P12>0,IF(N12>P12,"○",IF(N12<P12,"×","△")),"")
I12: - | L12: - | O12: -
A13: =SUM(A11+1) -> 6 | B13: =[2]Sheet1!$A$31 -> BRAVE | C13: 静岡 | D13: 2 | E13: =IF(E14+G14>0,IF(E14>G14,"○",IF(E14<G14,"×","△")),"") | K13: =IF(K14+M14>0,IF(K14>M14,"○",IF(K14<M14,"×","△")),"") | N13: =IF(N14+P14>0,IF(N14>P14,"○",IF(N14<P14,"×","△")),"")
F14: - | L14: - | O14: -
A15: =SUM(A13+1) -> 7 | B15: =[1]Sheet1!A11 -> 愛知軍団 | C15: 愛知 | D15: 8 | E15: =IF(E16+G16>0,IF(E16>G16,"○",IF(E16<G16,"×","△")),"") | H15: =IF(H16+J16>0,IF(H16>J16,"○",IF(H16<J16,"×","△")),"") | N15: =IF(N16+P16>0,IF(N16>P16,"○",IF(N16<P16,"×","△")),"")
F16: - | I16: - | O16: -
A17: =SUM(A15+1) -> 8 | B17: =[1]Sheet1!A27 -> 安城西ドッジボールクラブ | C17: 愛知 | D17: 24 | E17: =IF(E18+G18>0,IF(E18>G18,"○",IF(E18<G18,"×","△")),"") | H17: =IF(H18+J18>0,IF(H18>J18,"○",IF(H18<J18,"×","△")),"") | K17: =IF(K18+M18>0,IF(K18>M18,"○",IF(K18<M18,"×","△")),"")
F18: - | I18: - | L18: -
A19: Cリーグ | E19: =A20 -> 9 | H19: =A22 -> 10 | K19: =A24 -> 11 | N19: =A26 -> 12 | Q19: 勝点 | R19: 勝 | S19: 分 | T19: 負 | U19: 内野 | V19: 外野 | W19: 順位
A20: =SUM(A17+1) -> 9 | B20: =[1]Sheet1!A19 -> モンチッチーズ | C20: 愛知 | D20: 16 | H20: =IF(H21+J21>0,IF(H21>J21,"○",IF(H21<J21,"×","△")),"") | K20: =IF(K21+M21>0,IF(K21>M21,"○",IF(K21<M21,"×","△")),"") | N20: =IF(N21+P21>0,IF(N21>P21,"○",IF(N21<P21,"×","△")),"")
I21: - | L21: - | O21: -
A22: =SUM(A20+1) -> 10 | B22: =[1]総合順位!C21 -> 新星☆絆 | C22: 神奈川 | D22: 11 | E22: =IF(E23+G23>0,IF(E23>G23,"○",IF(E23<G23,"×","△")),"") | K22: =IF(K23+M23>0,IF(K23>M23,"○",IF(K23<M23,"×","△")),"") | N22: =IF(N23+P23>0,IF(N23>P23,"○",IF(N23<P23,"×","△")),"")
F23: - | L23: - | O23: -
A24: =SUM(A22+1) -> 11 | B24: =[1]Sheet1!A32 -> 三島☆金狼 | C24: 静岡 | D24: 3 | E24: =IF(E25+G25>0,IF(E25>G25,"○",IF(E25<G25,"×","△")),"") | H24: =IF(H25+J25>0,IF(H25>J25,"○",IF(H25<J25,"×","△")),"") | N24: =IF(N25+P25>0,IF(N25>P25,"○",IF(N25<P25,"×","△")),"")
F25: - | I25: - | O25: -
A26: =SUM(A24+1) -> 12 | B26: =[1]Sheet1!A24 -> Soul West | C26: 愛知 | D26: 21 | E26: =IF(E27+G27>0,IF(E27>G27,"○",IF(E27<G27,"×","△")),"") | H26: =IF(H27+J27>0,IF(H27>J27,"○",IF(H27<J27,"×","△")),"") | K26: =IF(K27+M27>0,IF(K27>M27,"○",IF(K27<M27,"×","△")),"")
F27: - | I27: - | L27: -
A28: Dリーグ | E28: =A29 -> 13 | H28: =A31 -> 14 | K28: =A33 -> 15 | N28: =A35 -> 16 | Q28: 勝点 | R28: 勝 | S28: 分 | T28: 負 | U28: 内野 | V28: 外野 | W28: 順位
A29: =SUM(A26+1) -> 13 | B29: =[1]Sheet1!A17 -> GREATバンビーニ | C29: 愛知 | D29: 14 | H29: =IF(H30+J30>0,IF(H30>J30,"○",IF(H30<J30,"×","△")),"") | K29: =IF(K30+M30>0,IF(K30>M30,"○",IF(K30<M30,"×","△")),"") | N29: =IF(N30+P30>0,IF(N30>P30,"○",IF(N30<P30,"×","△")),"")
I30: - | L30: - | O30: -
A31: =SUM(A29+1) -> 14 | B31: =[1]Sheet1!A49 -> 関スポ少｢グリーンキッズ｣ | C31: 三重 | D31: 3 | E31: =IF(E32+G32>0,IF(E32>G32,"○",IF(E32<G32,"×","△")),"") | K31: =IF(K32+M32>0,IF(K32>M32,"○",IF(K32<M32,"×","△")),"") | N31: =IF(N32+P32>0,IF(N32>P32,"○",IF(N32<P32,"×","△")),"")
F32: - | L32: - | O32: -
A33: =SUM(A31+1) -> 15 | B33: =[1]総合順位!C31 -> Yokohama TOPS | C33: 神奈川 | D33: 8 | E33: =IF(E34+G34>0,IF(E34>G34,"○",IF(E34<G34,"×","△")),"") | H33: =IF(H34+J34>0,IF(H34>J34,"○",IF(H34<J34,"×","△")),"") | N33: =IF(N34+P34>0,IF(N34>P34,"○",IF(N34<P34,"×","△")),"")
F34: - | I34: - | O34: -
A35: =SUM(A33+1) -> 16 | B35: =[1]Sheet1!A33 -> 駒越ドラゴンズ | C35: 静岡 | D35: 4 | E35: =IF(E36+G36>0,IF(E36>G36,"○",IF(E36<G36,"×","△")),"") | H35: =IF(H36+J36>0,IF(H36>J36,"○",IF(H36<J36,"×","△")),"") | K35: =IF(K36+M36>0,IF(K36>M36,"○",IF(K36<M36,"×","△")),"")
F36: - | I36: - | L36: -
A37: Eリーグ | E37: =A38 -> 17 | H37: =A40 -> 18 | K37: =A42 -> 19 | N37: =A44 -> 20 | Q37: 勝点 | R37: 勝 | S37: 分 | T37: 負 | U37: 内野 | V37: 外野 | W37: 順位
A38: =SUM(A35+1) -> 17 | B38: =[1]Sheet1!A34 -> 広幡ドッジキッズ | C38: 静岡 | D38: 5 | H38: =IF(H39+J39>0,IF(H39>J39,"○",IF(H39<J39,"×","△")),"") | K38: =IF(K39+M39>0,IF(K39>M39,"○",IF(K39<M39,"×","△")),"") | N38: =IF(N39+P39>0,IF(N39>P39,"○",IF(N39<P39,"×","△")),"")
I39: - | L39: - | O39: -
A40: =SUM(A38+1) -> 18 | B40: =[1]Sheet1!A15 -> BUSTERS | C40: 愛知 | D40: 12 | E40: =IF(E41+G41>0,IF(E41>G41,"○",IF(E41<G41,"×","△")),"") | K40: =IF(K41+M41>0,IF(K41>M41,"○",IF(K41<M41,"×","△")),"") | N40: =IF(N41+P41>0,IF(N41>P41,"○",IF(N41<P41,"×","△")),"")
F41: - | L41: - | O41: -
A42: =SUM(A40+1) -> 19 | B42: =[1]Sheet1!A23 -> Red Victory | C42: 愛知 | D42: 20 | E42: =IF(E43+G43>0,IF(E43>G43,"○",IF(E43<G43,"×","△")),"") | H42: =IF(H43+J43>0,IF(H43>J43,"○",IF(H43<J43,"×","△")),"") | N42: =IF(N43+P43>0,IF(N43>P43,"○",IF(N43<P43,"×","△")),"")
F43: - | I43: - | O43: -
A44: =SUM(A42+1) -> 20 | B44: =[1]Sheet1!A50 -> 土竜島 | C44: 神奈川 | D44: 1 | E44: =IF(E45+G45>0,IF(E45>G45,"○",IF(E45<G45,"×","△")),"") | H44: =IF(H45+J45>0,IF(H45>J45,"○",IF(H45<J45,"×","△")),"") | K44: =IF(K45+M45>0,IF(K45>M45,"○",IF(K45<M45,"×","△")),"")
F45: - | I45: - | L45: -
A46: Fリーグ | E46: =A47 -> 21 | H46: =A49 -> 22 | K46: =A51 -> 23 | N46: =A53 -> 24 | Q46: 勝点 | R46: 勝 | S46: 分 | T46: 負 | U46: 内野 | V46: 外野 | W46: 順位
A47: =SUM(A44+1) -> 21 | B47: =[1]Sheet1!A51 -> 足柄ハリケーン | C47: 神奈川 | D47: 2 | H47: =IF(H48+J48>0,IF(H48>J48,"○",IF(H48<J48,"×","△")),"") | K47: =IF(K48+M48>0,IF(K48>M48,"○",IF(K48<M48,"×","△")),"") | N47: =IF(N48+P48>0,IF(N48>P48,"○",IF(N48<P48,"×","△")),"")
I48: - | L48: - | O48: -
A49: =SUM(A47+1) -> 22 | B49: =[1]Sheet1!A35 -> OPM | C49: 静岡 | D49: 6 | E49: =IF(E50+G50>0,IF(E50>G50,"○",IF(E50<G50,"×","△")),"") | K49: =IF(K50+M50>0,IF(K50>M50,"○",IF(K50<M50,"×","△")),"") | N49: =IF(N50+P50>0,IF(N50>P50,"○",IF(N50<P50,"×","△")),"")
F50: - | L50: - | O50: -
A51: =SUM(A49+1) -> 23 | B51: =[1]Sheet1!A14 -> TF G with B | C51: 愛知 | D51: 11 | E51: =IF(E52+G52>0,IF(E52>G52,"○",IF(E52<G52,"×","△")),"") | H51: =IF(H52+J52>0,IF(H52>J52,"○",IF(H52<J52,"×","△")),"") | N51: =IF(N52+P52>0,IF(N52>P52,"○",IF(N52<P52,"×","△")),"")
F52: - | I52: - | O52: -
A53: =SUM(A51+1) -> 24 | B53: =[1]Sheet1!A22 -> ANGELS | C53: 愛知 | D53: 19 | E53: =IF(E54+G54>0,IF(E54>G54,"○",IF(E54<G54,"×","△")),"") | H53: =IF(H54+J54>0,IF(H54>J54,"○",IF(H54<J54,"×","△")),"") | K53: =IF(K54+M54>0,IF(K54>M54,"○",IF(K54<M54,"×","△")),"")
F54: - | I54: - | L54: -
A55: Gリーグ | E55: =A56 -> 25 | H55: =A58 -> 26 | K55: =A60 -> 27 | N55: =A62 -> 28 | Q55: 勝点 | R55: 勝 | S55: 分 | T55: 負 | U55: 内野 | V55: 外野 | W55: 順位
A56: =SUM(A53+1) -> 25 | B56: =[1]Sheet1!A13 -> フレンズゴッド | C56: 愛知 | D56: 10 | H56: =IF(H57+J57>0,IF(H57>J57,"○",IF(H57<J57,"×","△")),"") | K56: =IF(K57+M57>0,IF(K57>M57,"○",IF(K57<M57,"×","△")),"") | N56: =IF(N57+P57>0,IF(N57>P57,"○",IF(N57<P57,"×","△")),"")
I57: - | L57: - | O57: -
A58: =SUM(A56+1) -> 26 | B58: =[1]Sheet1!A52 -> T.K.G | C58: 神奈川 | D58: 3 | E58: =IF(E59+G59>0,IF(E59>G59,"○",IF(E59<G59,"×","△")),"") | K58: =IF(K59+M59>0,IF(K59>M59,"○",IF(K59<M59,"×","△")),"") | N58: =IF(N59+P59>0,IF(N59>P59,"○",IF(N59<P59,"×","△")),"")
F59: - | L59: - | O59: -
A60: =SUM(A58+1) -> 27 | B60: =[1]Sheet1!A36 -> 龍池舎 | C60: 静岡 | D60: 7 | E60: =IF(E61+G61>0,IF(E61>G61,"○",IF(E61<G61,"×","△")),"") | H60: =IF(H61+J61>0,IF(H61>J61,"○",IF(H61<J61,"×","△")),"") | N60: =IF(N61+P61>0,IF(N61>P61,"○",IF(N61<P61,"×","△")),"")
F61: - | I61: - | O61: -
A62: =SUM(A60+1) -> 28 | B62: =[1]Sheet1!A21 -> ビクトリーダッシュ | C62: 愛知 | D62: 18 | E62: =IF(E63+G63>0,IF(E63>G63,"○",IF(E63<G63,"×","△")),"") | H62: =IF(H63+J63>0,IF(H63>J63,"○",IF(H63<J63,"×","△")),"") | K62: =IF(K63+M63>0,IF(K63>M63,"○",IF(K63<M63,"×","△")),"")
F63: - | I63: - | L63: -
A64: Hリーグ | E64: =A65 -> 29 | H64: =A67 -> 30 | K64: =A69 -> 31 | N64: =A71 -> 32 | Q64: 勝点 | R64: 勝 | S64: 分 | T64: 負 | U64: 内野 | V64: 外野 | W64: 順位
A65: =SUM(A62+1) -> 29 | B65: =[1]Sheet1!A12 -> ファイティング牧の原 | C65: 愛知 | D65: 9 | H65: =IF(H66+J66>0,IF(H66>J66,"○",IF(H66<J66,"×","△")),"") | K65: =IF(K66+M66>0,IF(K66>M66,"○",IF(K66<M66,"×","△")),"") | N65: =IF(N66+P66>0,IF(N66>P66,"○",IF(N66<P66,"×","△")),"")
I66: - | L66: - | O66: -
A67: =SUM(A65+1) -> 30 | B67: =[1]Sheet1!A20 -> White.Jade | C67: 愛知 | D67: 17 | E67: =IF(E68+G68>0,IF(E68>G68,"○",IF(E68<G68,"×","△")),"") | K67: =IF(K68+M68>0,IF(K68>M68,"○",IF(K68<M68,"×","△")),"") | N67: =IF(N68+P68>0,IF(N68>P68,"○",IF(N68<P68,"×","△")),"")
F68: - | L68: - | O68: -
A69: =SUM(A67+1) -> 31 | B69: =[1]Sheet1!A53 -> 中新田ファイヤーズ | C69: 神奈川 | D69: 4 | E69: =IF(E70+G70>0,IF(E70>G70,"○",IF(E70<G70,"×","△")),"") | H69: =IF(H70+J70>0,IF(H70>J70,"○",IF(H70<J70,"×","△")),"") | N69: =IF(N70+P70>0,IF(N70>P70,"○",IF(N70<P70,"×","△")),"")
F70: - | I70: - | O70: -
A71: =SUM(A69+1) -> 32 | B71: =[1]Sheet1!A37 -> 城内キッズ | C71: 静岡 | D71: 8 | E71: =IF(E72+G72>0,IF(E72>G72,"○",IF(E72<G72,"×","△")),"") | H71: =IF(H72+J72>0,IF(H72>J72,"○",IF(H72<J72,"×","△")),"") | K71: =IF(K72+M72>0,IF(K72>M72,"○",IF(K72<M72,"×","△")),"")
F72: - | I72: - | L72: -
A73: Iリーグ | E73: =A74 -> 33 | H73: =A76 -> 34 | K73: =A78 -> 35 | N73: =A80 -> 36 | Q73: 勝点 | R73: 勝 | S73: 分 | T73: 負 | U73: 内野 | V73: 外野 | W73: 順位
A74: =SUM(A71+1) -> 33 | B74: =[1]Sheet1!A38 -> ちゃっきり一番 | C74: 静岡 | D74: 9 | H74: =IF(H75+J75>0,IF(H75>J75,"○",IF(H75<J75,"×","△")),"") | K74: =IF(K75+M75>0,IF(K75>M75,"○",IF(K75<M75,"×","△")),"") | N74: =IF(N75+P75>0,IF(N75>P75,"○",IF(N75<P75,"×","△")),"")
I75: - | L75: - | O75: -
A76: =SUM(A74+1) -> 34 | B76: =[1]Sheet1!A16 -> INAZUMA KIDS | C76: 愛知 | D76: 13 | E76: =IF(E77+G77>0,IF(E77>G77,"○",IF(E77<G77,"×","△")),"") | K76: =IF(K77+M77>0,IF(K77>M77,"○",IF(K77<M77,"×","△")),"") | N76: =IF(N77+P77>0,IF(N77>P77,"○",IF(N77<P77,"×","△")),"")
F77: - | L77: - | O77: -
A78: =SUM(A76+1) -> 35 | B78: 6ネンズ９８ | C78: 岐阜 | D78: 1 | E78: =IF(E79+G79>0,IF(E79>G79,"○",IF(E79<G79,"×","△")),"") | H78: =IF(H79+J79>0,IF(H79>J79,"○",IF(H79<J79,"×","△")),"") | N78: =IF(N79+P79>0,IF(N79>P79,"○",IF(N79<P79,"×","△")),"")
F79: - | I79: - | O79: -
A80: =SUM(A78+1) -> 36 | B80: =[1]Sheet1!A54 -> フェニックス | C80: 神奈川 | D80: 5 | E80: =IF(E81+G81>0,IF(E81>G81,"○",IF(E81<G81,"×","△")),"") | H80: =IF(H81+J81>0,IF(H81>J81,"○",IF(H81<J81,"×","△")),"") | K80: =IF(K81+M81>0,IF(K81>M81,"○",IF(K81<M81,"×","△")),"")
F81: - | I81: - | L81: -
A82: Jリーグ | E82: =A83 -> 37 | H82: =A85 -> 38 | K82: =A87 -> 39 | N82: =A89 -> 40 | Q82: 勝点 | R82: 勝 | S82: 分 | T82: 負 | U82: 内野 | V82: 外野 | W82: 順位
A83: =SUM(A80+1) -> 37 | B83: =[1]Sheet1!A55 -> トリムサンダーストーム | C83: 神奈川 | D83: 6 | H83: =IF(H84+J84>0,IF(H84>J84,"○",IF(H84<J84,"×","△")),"") | K83: =IF(K84+M84>0,IF(K84>M84,"○",IF(K84<M84,"×","△")),"") | N83: =IF(N84+P84>0,IF(N84>P84,"○",IF(N84<P84,"×","△")),"")
I84: - | L84: - | O84: -
A85: =SUM(A83+1) -> 38 | B85: =[1]Sheet1!A45 -> 浜松believe.1 | C85: 静岡 | D85: 16 | E85: =IF(E86+G86>0,IF(E86>G86,"○",IF(E86<G86,"×","△")),"") | K85: =IF(K86+M86>0,IF(K86>M86,"○",IF(K86<M86,"×","△")),"") | N85: =IF(N86+P86>0,IF(N86>P86,"○",IF(N86<P86,"×","△")),"")
F86: - | L86: - | O86: -
A87: =SUM(A85+1) -> 39 | B87: =[1]Sheet1!A18 -> KOTAブラックス | C87: 愛知 | D87: 15 | E87: =IF(E88+G88>0,IF(E88>G88,"○",IF(E88<G88,"×","△")),"") | H87: =IF(H88+J88>0,IF(H88>J88,"○",IF(H88<J88,"×","△")),"") | N87: =IF(N88+P88>0,IF(N88>P88,"○",IF(N88<P88,"×","△")),"")
F88: - | I88: - | O88: -
A89: =SUM(A87+1) -> 40 | B89: SOULMAX池田 | C89: 岐阜 | D89: 2 | E89: =IF(E90+G90>0,IF(E90>G90,"○",IF(E90<G90,"×","△")),"") | H89: =IF(H90+J90>0,IF(H90>J90,"○",IF(H90<J90,"×","△")),"") | K89: =IF(K90+M90>0,IF(K90>M90,"○",IF(K90<M90,"×","△")),"")
F90: - | I90: - | L90: -
A91: Kリーグ | E91: =A92 -> 41 | H91: =A94 -> 42 | K91: =A96 -> 43 | N91: =A98 -> 44 | Q91: 勝点 | R91: 勝 | S91: 分 | T91: 負 | U91: 内野 | V91: 外野 | W91: 順位
A92: =SUM(A89+1) -> 41 | B92: =[1]Sheet1!A47 -> つつじが丘ファイターズ | C92: 三重 | D92: 1 | H92: =IF(H93+J93>0,IF(H93>J93,"○",IF(H93<J93,"×","△")),"") | K92: =IF(K93+M93>0,IF(K93>M93,"○",IF(K93<M93,"×","△")),"") | N92: =IF(N93+P93>0,IF(N93>P93,"○",IF(N93<P93,"×","△")),"")
I93: - | L93: - | O93: -
A94: =SUM(A92+1) -> 42 | B94: =[1]総合順位!C27 -> S.K.D. VICTORY | C94: 神奈川 | D94: 7 | E94: =IF(E95+G95>0,IF(E95>G95,"○",IF(E95<G95,"×","△")),"") | K94: =IF(K95+M95>0,IF(K95>M95,"○",IF(K95<M95,"×","△")),"") | N94: =IF(N95+P95>0,IF(N95>P95,"○",IF(N95<P95,"×","△")),"")
F95: - | L95: - | O95: -
A96: =SUM(A94+1) -> 43 | B96: =[1]Sheet1!A44 -> 社会保険ドラゴンズ | C96: 静岡 | D96: 15 | E96: =IF(E97+G97>0,IF(E97>G97,"○",IF(E97<G97,"×","△")),"") | H96: =IF(H97+J97>0,IF(H97>J97,"○",IF(H97<J97,"×","△")),"") | N96: =IF(N97+P97>0,IF(N97>P97,"○",IF(N97<P97,"×","△")),"")
F97: - | I97: - | O97: -
A98: =SUM(A96+1) -> 44 | B98: =[1]Sheet1!A9 -> RAIJIN TRIBE | C98: 愛知 | D98: 6 | E98: =IF(E99+G99>0,IF(E99>G99,"○",IF(E99<G99,"×","△")),"") | H98: =IF(H99+J99>0,IF(H99>J99,"○",IF(H99<J99,"×","△")),"") | K98: =IF(K99+M99>0,IF(K99>M99,"○",IF(K99<M99,"×","△")),"")
F99: - | I99: - | L99: -
A100: Lリーグ | E100: =A101 -> 45 | H100: =A103 -> 46 | K100: =A105 -> 47 | N100: =A107 -> 48 | Q100: 勝点 | R100: 勝 | S100: 分 | T100: 負 | U100: 内野 | V100: 外野 | W100: 順位
...

Sheet トーナメント
A1: 新東名カップ
A2: ① | B2: １位 | S2: ⑯ | T2: １位
D3: A25 | Q3: D25
A4: ⑥ | B4: ４位 | S4: ⑩ | T4: ４位
E5: A33 | P5: D33
A6: ⑨ | B6: ３位 | S6: ⑤ | T6: ３位
D7: A26 | Q7: D26
A8: ⑭ | B8: ２位 | S8: ① | T8: ２位
F9: A37 | O9: D37
A10: ⑮ | B10: ２位 | S10: ③ | T10: ２位
D11: A27 | Q11: D27
A12: ⑩ | B12: ３位 | S12: ⑦ | T12: ３位
E13: A34 | P13: D34
A14: ⑦ | B14: ４位 | S14: ⑫ | T14: ４位
D15: A28 | Q15: D28
A16: ② | B16: １位 | S16: ⑮ | T16: １位
G17: A39 | N17: D39
A18: ③ | B18: １位 | S18: ⑭ | T18: １位
D19: A29 | Q19: D29
A20: ⑧ | B20: ４位 | S20: ⑪ | T20: ４位
E21: A35 | P21: D35
A22: ⑪ | B22: ３位 | S22: ⑧ | T22: ３位
D23: A30 | Q23: D30
A24: ⑯ | B24: ２位 | S24: ④ | T24: ２位
F25: A38 | O25: D38
A26: ⑬ | B26: ２位 | S26: ② | T26: ２位
D27: A31 | J27: 優勝 | Q27: D31
A28: ⑫ | B28: ３位 | S28: ⑥ | T28: ３位
E29: A36 | J29: C41 | P29: D36
A30: ⑤ | B30: ４位 | S30: ⑨ | T30: ４位
D31: A32 | Q31: D32
A32: ④ | B32: １位 | S32: ⑬ | T32: １位
H33: B40 | M33: C40
A34: ⑤ | B34: １位 | S34: ⑫ | T34: １位
D35: B25 | Q35: C25
A36: ③ | B36: ４位 | S36: ⑬ | T36: ４位
E37: B33 | P37: C33
A38: ⑯ | B38: ３位 | J38: B41 | S38: ④ | T38: ３位
D39: B26 | Q39: C26
A40: ⑨ | B40: ２位 | S40: ⑤ | T40: ２位
F41: B37 | O41: C37
A42: ⑫ | B42: ２位 | S42: ⑧ | T42: ２位
D43: B27 | Q43: C27
A44: ⑮ | B44: ３位 | S44: ② | T44: ３位
E45: B34 | P45: C34
A46: ④ | B46: ４位 | S46: ⑯ | T46: ４位
D47: B28 | Q47: C28
A48: ⑥ | B48: １位 | S48: ⑪ | T48: １位
G49: B39 | N49: C39
A50: ⑦ | B50: １位 | S50: ⑩ | T50: １位
D51: B29 | Q51: C29
A52: ① | B52: ４位 | S52: ⑮ | T52: ４位
E53: B35 | P53: C35
A54: ⑭ | B54: ３位 | S54: ① | T54: ３位
D55: B30 | Q55: C30
A56: ⑩ | B56: ２位 | S56: ⑦ | T56: ２位
F57: B38 | O57: C38
A58: ⑪ | B58: ２位 | S58: ⑥ | T58: ２位
D59: B31 | Q59: C31
A60: ⑬ | B60: ３位 | S60: ③ | T60: ３位
E61: B36 | P61: C36
A62: ② | B62: ４位 | S62: ⑭ | T62: ４位
D63: B32 | Q63: C32
A64: ⑧ | B64: １位 | S64: ⑨ | T64: １位
