Workbook

Sheet タイムスケジュール
B1: 新東名カップ
A2: TIME | D2: A | I2: B | N2: C | S2: D
A3: 0.38541667 | B3: 監督会議
A4: 0.39583333 | B4: 開会式
A5: 0.40972222 | B5: 1 | C5: 予選 | D5: =[1]予選リーグ!B2 -> DOKKY'S | F5: - | H5: =[1]予選リーグ!B4 -> METS萩原 | I5: =[1]予選リーグ!B6 -> 羽根ボンバーズ | K5: - | M5: =[1]予選リーグ!B8 -> INIFINITY | N5: =[1]予選リーグ!B11 -> ATTACKERS | P5: - | R5: =[1]予選リーグ!B13 -> BRAVE | S5: =[1]予選リーグ!B15 -> 愛知軍団 | U5: - | W5: =[1]予選リーグ!B17 -> 安城西ドッジボールクラブ
A6: 0.41597222 | B6: 2 | D6: =[1]予選リーグ!B20 -> モンチッチーズ | F6: - | H6: =[1]予選リーグ!B22 -> 新星☆絆 | I6: =[1]予選リーグ!B24 -> 三島☆金狼 | K6: - | M6: =[1]予選リーグ!B26 -> Soul West | N6: =[1]予選リーグ!B29 -> GREATバンビーニ | P6: - | R6: =[1]予選リーグ!B31 -> 関スポ少｢グリーンキッズ｣ | S6: =[1]予選リーグ!B33 -> Yokohama TOPS | U6: - | W6: =[1]予選リーグ!B35 -> 駒越ドラゴンズ
A7: 0.42222222 | B7: 3 | D7: =[1]予選リーグ!B38 -> 広幡ドッジキッズ | F7: - | H7: =[1]予選リーグ!B40 -> BUSTERS | I7: =[1]予選リーグ!B42 -> Red Victory | K7: - | M7: =[1]予選リーグ!B44 -> 土竜島 | N7: =[1]予選リーグ!B47 -> 足柄ハリケーン | P7: - | R7: =[1]予選リーグ!B49 -> OPM | S7: =[1]予選リーグ!B51 -> TF G with B | U7: - | W7: =[1]予選リーグ!B53 -> ANGELS
A8: 0.42847222 | B8: 4 | D8: =[1]予選リーグ!B56 -> フレンズゴッド | F8: - | H8: =[1]予選リーグ!B58 -> T.K.G | I8: =[1]予選リーグ!B60 -> 龍池舎 | K8: - | M8: =[1]予選リーグ!B62 -> ビクトリーダッシュ | N8: =[1]予選リーグ!B65 -> ファイティング牧の原 | P8: - | R8: =[1]予選リーグ!B67 -> White.Jade | S8: =[1]予選リーグ!B69 -> 中新田ファイヤーズ | U8: - | W8: =[1]予選リーグ!B71 -> 城内キッズ
A9: 0.43472222 | B9: 5 | D9: =[1]予選リーグ!B74 -> ちゃっきり一番 | F9: - | H9: =[1]予選リーグ!B76 -> INAZUMA KIDS | I9: =[1]予選リーグ!B78 -> 6ネンズ９８ | K9: - | M9: =[1]予選リーグ!B80 -> フェニックス | N9: =[1]予選リーグ!B83 -> トリムサンダーストーム | P9: - | R9: =[1]予選リーグ!B85 -> 浜松believe.1 | S9: =[1]予選リーグ!B87 -> KOTAブラックス | U9: - | W9: =[1]予選リーグ!B89 -> SOULMAX池田
A10: 0.44097222 | B10: 6 | D10: =[1]予選リーグ!B92 -> つつじが丘ファイターズ | F10: - | H10: =[1]予選リーグ!B94 -> S.K.D. VICTORY | I10: =[1]予選リーグ!B96 -> 社会保険ドラゴンズ | K10: - | M10: =[1]予選リーグ!B98 -> RAIJIN TRIBE | N10: =[1]予選リーグ!B101 -> 大須ギャングスターズ☆ | P10: - | R10: =[1]予選リーグ!B103 -> 松阪ストームキャノンズ | S10: =[1]予選リーグ!B105 -> 大和 | U10: - | W10: =[1]予選リーグ!B107 -> ブーメラン
A11: 0.44722222 | B11: 7 | D11: =[1]予選リーグ!B110 -> FUJIミラクルキッズ | F11: - | H11: =[1]予選リーグ!B112 -> Fukouzu DBC | I11: =[1]予選リーグ!B114 -> 上社ダイヤモンドキッズ | K11: - | M11: =[1]予選リーグ!B116 -> 桜火魂 | N11: =[1]予選リーグ!B119 -> ゼブラ★パワーズ | P11: - | R11: =[1]予選リーグ!B121 -> 函南勇楽会・い組 | S11: =[1]予選リーグ!B123 -> サザン’97 | U11: - | W11: =[1]予選リーグ!B125 -> 西尾ブレイズ
A12: 0.45347222 | B12: 8 | D12: =[1]予選リーグ!B128 -> ゆかいな仲間たち | F12: - | H12: =[1]予選リーグ!B130 -> LINK SMILE 伊勢原／秦野 | I12: =[1]予選リーグ!B132 -> ハリケーンキッズ三島 | K12: - | M12: =[1]予選リーグ!B134 -> わいわいパラダイス | N12: =[1]予選リーグ!B137 -> マジカルキッズ | P12: - | R12: =[1]予選リーグ!B139 -> 鶴城D.B.C | S12: =[1]予選リーグ!B141 -> 厚木SUPERKIDS | U12: - | W12: =[1]予選リーグ!B143 -> IWATA DRAGONFLIES
A13: 0.45972222 | B13: 9 | D13: =[1]予選リーグ!B13 -> BRAVE | F13: - | H13: =[1]予選リーグ!B17 -> 安城西ドッジボールクラブ | I13: =[1]予選リーグ!B11 -> ATTACKERS | K13: - | M13: =[1]予選リーグ!B15 -> 愛知軍団 | N13: =[1]予選リーグ!B4 -> METS萩原 | P13: - | R13: =[1]予選リーグ!B8 -> INIFINITY | S13: =[1]予選リーグ!B2 -> DOKKY'S | U13: - | W13: =[1]予選リーグ!B6 -> 羽根ボンバーズ
A14: 0.46597222 | B14: 10 | D14: =[1]予選リーグ!B31 -> 関スポ少｢グリーンキッズ｣ | F14: - | H14: =[1]予選リーグ!B35 -> 駒越ドラゴンズ | I14: =[1]予選リーグ!B29 -> GREATバンビーニ | K14: - | M14: =[1]予選リーグ!B33 -> Yokohama TOPS | N14: =[1]予選リーグ!B22 -> 新星☆絆 | P14: - | R14: =[1]予選リーグ!B26 -> Soul West | S14: =[1]予選リーグ!B20 -> モンチッチーズ | U14: - | W14: =[1]予選リーグ!B24 -> 三島☆金狼
A15: 0.47222222 | B15: 11 | D15: =[1]予選リーグ!B49 -> OPM | F15: - | H15: =[1]予選リーグ!B53 -> ANGELS | I15: =[1]予選リーグ!B47 -> 足柄ハリケーン | K15: - | M15: =[1]予選リーグ!B51 -> TF G with B | N15: =[1]予選リーグ!B40 -> BUSTERS | P15: - | R15: =[1]予選リーグ!B44 -> 土竜島 | S15: =[1]予選リーグ!B38 -> 広幡ドッジキッズ | U15: - | W15: =[1]予選リーグ!B42 -> Red Victory
A16: 0.47847222 | B16: 12 | D16: =[1]予選リーグ!B67 -> White.Jade | F16: - | H16: =[1]予選リーグ!B71 -> 城内キッズ | I16: =[1]予選リーグ!B65 -> ファイティング牧の原 | K16: - | M16: =[1]予選リーグ!B69 -> 中新田ファイヤーズ | N16: =[1]予選リーグ!B58 -> T.K.G | P16: - | R16: =[1]予選リーグ!B62 -> ビクトリーダッシュ | S16: =[1]予選リーグ!B56 -> フレンズゴッド | U16: - | W16: =[1]予選リーグ!B60 -> 龍池舎
A17: 0.48472222 | B17: 13 | D17: =[1]予選リーグ!B85 -> 浜松believe.1 | F17: - | H17: =[1]予選リーグ!B89 -> SOULMAX池田 | I17: =[1]予選リーグ!B83 -> トリムサンダーストーム | K17: - | M17: =[1]予選リーグ!B87 -> KOTAブラックス | N17: =[1]予選リーグ!B76 -> INAZUMA KIDS | P17: - | R17: =[1]予選リーグ!B80 -> フェニックス | S17: =[1]予選リーグ!B74 -> ちゃっきり一番 | U17: - | W17: =[1]予選リーグ!B78 -> 6ネンズ９８
A18: 0.49097222 | B18: 14 | D18: =[1]予選リーグ!B103 -> 松阪ストームキャノンズ | F18: - | H18: =[1]予選リーグ!B107 -> ブーメラン | I18: =[1]予選リーグ!B101 -> 大須ギャングスターズ☆ | K18: - | M18: =[1]予選リーグ!B105 -> 大和 | N18: =[1]予選リーグ!B94 -> S.K.D. VICTORY | P18: - | R18: =[1]予選リーグ!B98 -> RAIJIN TRIBE | S18: =[1]予選リーグ!B92 -> つつじが丘ファイターズ | U18: - | W18: =[1]予選リーグ!B96 -> 社会保険ドラゴンズ
A19: 0.49722222 | B19: 15 | D19: =[1]予選リーグ!B121 -> 函南勇楽会・い組 | F19: - | H19: =[1]予選リーグ!B125 -> 西尾ブレイズ | I19: =[1]予選リーグ!B119 -> ゼブラ★パワーズ | K19: - | M19: =[1]予選リーグ!B123 -> サザン’97 | N19: =[1]予選リーグ!B112 -> Fukouzu DBC | P19: - | R19: =[1]予選リーグ!B116 -> 桜火魂 | S19: =[1]予選リーグ!B110 -> FUJIミラクルキッズ | U19: - | W19: =[1]予選リーグ!B114 -> 上社ダイヤモンドキッズ
A20: 0.50347222 | B20: 16 | D20: =[1]予選リーグ!B139 -> 鶴城D.B.C | F20: - | H20: =[1]予選リーグ!B143 -> IWATA DRAGONFLIES | I20: =[1]予選リーグ!B137 -> マジカルキッズ | K20: - | M20: =[1]予選リーグ!B141 -> 厚木SUPERKIDS | N20: =[1]予選リーグ!B130 -> LINK SMILE 伊勢原／秦野 | P20: - | R20: =[1]予選リーグ!B134 -> わいわいパラダイス | S20: =[1]予選リーグ!B128 -> ゆかいな仲間たち | U20: - | W20: =[1]予選リーグ!B132 -> ハリケーンキッズ三島
A21: 0.50972222 | B21: 17 | D21: =[1]予選リーグ!B15 -> 愛知軍団 | F21: - | H21: =[1]予選リーグ!B13 -> BRAVE | I21: =[1]予選リーグ!B6 -> 羽根ボンバーズ | K21: - | M21: =[1]予選リーグ!B4 -> METS萩原 | N21: =[1]予選リーグ!B8 -> INIFINITY | P21: - | R21: =[1]予選リーグ!B2 -> DOKKY'S | S21: =[1]予選リーグ!B17 -> 安城西ドッジボールクラブ | U21: - | W21: =[1]予選リーグ!B11 -> ATTACKERS
A22: 0.51597222 | B22: 18 | D22: =[1]予選リーグ!B35 -> 駒越ドラゴンズ | F22: - | H22: =[1]予選リーグ!B29 -> GREATバンビーニ | I22: =[1]予選リーグ!B24 -> 三島☆金狼 | K22: - | M22: =[1]予選リーグ!B22 -> 新星☆絆 | N22: =[1]予選リーグ!B26 -> Soul West | P22: - | R22: =[1]予選リーグ!B20 -> モンチッチーズ | S22: =[1]予選リーグ!B33 -> Yokohama TOPS | U22: - | W22: =[1]予選リーグ!B31 -> 関スポ少｢グリーンキッズ｣
A23: 0.52222222 | B23: 19 | D23: =[1]予選リーグ!B47 -> 足柄ハリケーン | F23: - | H23: =[1]予選リーグ!B53 -> ANGELS | I23: =[1]予選リーグ!B40 -> BUSTERS | K23: - | M23: =[1]予選リーグ!B42 -> Red Victory | N23: =[1]予選リーグ!B44 -> 土竜島 | P23: - | R23: =[1]予選リーグ!B38 -> 広幡ドッジキッズ | S23: =[1]予選リーグ!B51 -> TF G with B | U23: - | W23: =[1]予選リーグ!B49 -> OPM
A24: 0.52847222 | B24: 20 | D24: =[1]予選リーグ!B71 -> 城内キッズ | F24: - | H24: =[1]予選リーグ!B65 -> ファイティング牧の原 | I24: =[1]予選リーグ!B62 -> ビクトリーダッシュ | K24: - | M24: =[1]予選リーグ!B56 -> フレンズゴッド | N24: =[1]予選リーグ!B60 -> 龍池舎 | P24: - | R24: =[1]予選リーグ!B58 -> T.K.G | S24: =[1]予選リーグ!B69 -> 中新田ファイヤーズ | U24: - | W24: =[1]予選リーグ!B67 -> White.Jade
A25: 0.53472222 | B25: 21 | D25: =[1]予選リーグ!B89 -> SOULMAX池田 | F25: - | H25: =[1]予選リーグ!B83 -> トリムサンダーストーム | I25: =[1]予選リーグ!B80 -> フェニックス | K25: - | M25: =[1]予選リーグ!B74 -> ちゃっきり一番 | N25: =[1]予選リーグ!B78 -> 6ネンズ９８ | P25: - | R25: =[1]予選リーグ!B76 -> INAZUMA KIDS | S25: =[1]予選リーグ!B87 -> KOTAブラックス | U25: - | W25: =[1]予選リーグ!B85 -> 浜松believe.1
A26: 0.54097222 | B26: 22 | D26: =[1]予選リーグ!B107 -> ブーメラン | F26: - | H26: =[1]予選リーグ!B101 -> 大須ギャングスターズ☆ | I26: =[1]予選リーグ!B98 -> RAIJIN TRIBE | K26: - | M26: =[1]予選リーグ!B92 -> つつじが丘ファイターズ | N26: =[1]予選リーグ!B96 -> 社会保険ドラゴンズ | P26: - | R26: =[1]予選リーグ!B94 -> S.K.D. VICTORY | S26: =[1]予選リーグ!B105 -> 大和 | U26: - | W26: =[1]予選リーグ!B103 -> 松阪ストームキャノンズ
A27: 0.54722222 | B27: 23 | D27: =[1]予選リーグ!B125 -> 西尾ブレイズ | F27: - | H27: =[1]予選リーグ!B119 -> ゼブラ★パワーズ | I27: =[1]予選リーグ!B116 -> 桜火魂 | K27: - | M27: =[1]予選リーグ!B110 -> FUJIミラクルキッズ | N27: =[1]予選リーグ!B114 -> 上社ダイヤモンドキッズ | P27: - | R27: =[1]予選リーグ!B112 -> Fukouzu DBC | S27: =[1]予選リーグ!B123 -> サザン’97 | U27: - | W27: =[1]予選リーグ!B121 -> 函南勇楽会・い組
A28: 0.55347222 | B28: 24 | D28: =[1]予選リーグ!B143 -> IWATA DRAGONFLIES | F28: - | H28: =[1]予選リーグ!B137 -> マジカルキッズ | I28: =[1]予選リーグ!B132 -> ハリケーンキッズ三島 | K28: - | M28: =[1]予選リーグ!B130 -> LINK SMILE 伊勢原／秦野 | N28: =[1]予選リーグ!B134 -> わいわいパラダイス | P28: - | R28: =[1]予選リーグ!B128 -> ゆかいな仲間たち | S28: =[1]予選リーグ!B141 -> 厚木SUPERKIDS | U28: - | W28: =[1]予選リーグ!B139 -> 鶴城D.B.C
A29: 0.55972222 | B29: 予選終了
A30: 0.59027778 | B30: 25 | C30: 1回戦 | D30: ①１位 | F30: - | H30: ⑥４位 | I30: ⑤１位 | K30: - | M30: ③４位 | N30: ⑬４位 | P30: - | R30: ⑫１位 | S30: ⑩４位 | U30: - | W30: ⑯１位
A31: 0.59652778 | B31: 26 | D31: ⑨３位 | F31: - | H31: ⑭２位 | I31: ⑯３位 | K31: - | M31: ⑨２位 | N31: ⑤２位 | P31: - | R31: ④３位 | S31: ①２位 | U31: - | W31: ⑤３位
A32: 0.60277778 | B32: 27 | D32: ⑮２位 | F32: - | H32: ⑩３位 | I32: ⑫２位 | K32: - | M32: ⑮３位 | N32: ②３位 | P32: - | R32: ⑧２位 | S32: ⑦３位 | U32: - | W32: ③２位
A33: 0.60902778 | B33: 28 | D33: ⑦４位 | F33: - | H33: ②１位 | I33: ④４位 | K33: - | M33: ⑥１位 | N33: ⑪１位 | P33: - | R33: ⑯４位 | S33: ⑮１位 | U33: - | W33: ⑫４位
A34: 0.61527778 | B34: 29 | D34: ③１位 | F34: - | H34: ⑧４位 | I34: ⑦１位 | K34: - | M34: ①４位 | N34: ⑮４位 | P34: - | R34: ⑩１位 | S34: ⑪４位 | U34: - | W34: ⑭１位
A35: 0.62152778 | B35: 30 | D35: ⑪３位 | F35: - | H35: ⑯２位 | I35: ⑭３位 | K35: - | M35: ⑩２位 | N35: ⑦２位 | P35: - | R35: ①３位 | S35: ④２位 | U35: - | W35: ⑧３位
A36: 0.62777778 | B36: 31 | D36: ⑬２位 | F36: - | H36: ⑫３位 | I36: ⑪２位 | K36: - | M36: ⑬３位 | N36: ③３位 | P36: - | R36: ⑥２位 | S36: ⑥３位 | U36: - | W36: ②２位
A37: 0.63402778 | B37: 32 | D37: ⑤４位 | F37: - | H37: ④１位 | I37: ②４位 | K37: - | M37: ⑧１位 | N37: ⑨１位 | P37: - | R37: ⑭４位 | S37: ⑬１位 | U37: - | W37: ⑨４位
A38: 0.64027778 | B38: 33 | C38: ２回戦 | D38: A25勝者 | F38: - | H38: A26勝者 | I38: B25勝者 | K38: - | M38: B26勝者 | N38: C26勝者 | P38: - | R38: C25勝者 | S38: D26勝者 | U38: - | W38: D25勝者
A39: 0.64652778 | B39: 34 | D39: A27勝者 | F39: - | H39: A28勝者 | I39: B27勝者 | K39: - | M39: B28勝者 | N39: C28勝者 | P39: - | R39: C27勝者 | S39: D28勝者 | U39: - | W39: D27勝者
A40: 0.65277778 | B40: 35 | D40: A29勝者 | F40: - | H40: A30勝者 | I40: B29勝者 | K40: - | M40: B30勝者 | N40: C30勝者 | P40: - | R40: C29勝者 | S40: D30勝者 | U40: - | W40: D29勝者
...

Sheet 予選リーグ
A1: Aリーグ | E1: =A2 -> 1 | H1: =A4 -> 2 | K1: =A6 -> 3 | N1: =A8 -> 4 | Q1: 勝点 | R1: 勝 | S1: 分 | T1: 負 | U1: 内野 | V1: 外野 | W1: 順位
A2: 1 | B2: =[2]Sheet1!$A$30 -> DOKKY'S | C2: 静岡 | D2: 1 | H2: =IF(H3+J3>0,IF(H3>J3,"○",IF(H3<J3,"×","△")),"") | K2: =IF(K3+M3>0,IF(K3>M3,"○",IF(K3<M3,"×","△")),"") | N2: =IF(N3+P3>0,IF(N3>P3,"○",IF(N3<P3,"×","△")),"")
I3: - | L3: - | O3: -
A4: =SUM(A2+1) -> 2 | B4: =[1]Sheet1!A10 -> METS萩原 | C4: 愛知 | D4: 7 | E4: =IF(E5+G5>0,IF(E5>G5,"○",IF(E5<G5,"×","△")),"") | K4: =IF(K5+M5>0,IF(K5>M5,"○",IF(K5<M5,"×","△")),"") | N4: =IF(N5+P5>0,IF(N5>P5,"○",IF(N5<P5,"×","△")),"")
F5: - | L5: - | O5: -
A6: =SUM(A4+1) -> 3 | B6: =[1]Sheet1!A28 -> 羽根ボンバーズ | C6: 愛知 | D6: 25 | E6: =IF(E7+G7>0,IF(E7>G7,"○",IF(E7<G7,"×","△")),"") | H6: =IF(H7+J7>0,IF(H7>J7,"○",IF(H7<J7,"×","△")),"") | N6: =IF(N7+P7>0,IF(N7>P7,"○",IF(N7<P7,"×","△")),"")
F7: - | I7: - | O7: -
A8: =SUM(A6+1) -> 4 | B8: =[1]総合順位!C51 -> INIFINITY | C8: 神奈川 | D8: 15 | E8: =IF(E9+G9>0,IF(E9>G9,"○",IF(E9<G9,"×","△")),"") | H8: =IF(H9+J9>0,IF(H9>J9,"○",IF(H9<J9,"×","△")),"") | K8: =IF(K9+M9>0,IF(K9>M9,"○",IF(K9<M9,"×","△")),"")
F9: - | I9: - | L9: -
A10: Bリーグ | E10: =A11 -> 5 | H10: =A13 -> 6 | K10: =A15 -> 7 | N10: =A17 -> 8 | Q10: 勝点 | R10: 勝 | S10: 分 | T10: 負 | U10: 内野 | V10: 外野 | W10: 順位
A11: =SUM(A8+1) -> 5 | B11: =[1]総合順位!C33 -> ATTACKERS | C11: 神奈川 | D11: 13 | H11: =IF(H12+J12>0,IF(H12>J12,"○",IF(H12<J12,"×","△")),"") | K11: =IF(K12+M12>0,IF(K12>M12,"○",IF(K12<M12,"×","△")),"") | N11: =IF(N12+P12>0,IF(N12>P12,"○",IF(N12<P12,"×","△")),"")
I12: - | L12: - | O12: -
A13: =SUM(A11+1) -> 6 | B13: =[2]Sheet1!$A$31 -> BRAVE | C13: 静岡 | D13: 2 | E13: =IF(E14+G14>0,IF(E14>G14,"○",IF(E14<G14,"×","△")),"") | K13: =IF(K14+M14>0,IF(K14>M14,"○",IF(K14<M14,"×","△")),"") | N13: =IF(N14+P14>0,IF(N14>P14,"○",IF(N14<P14,"×","△")),"")
F14: - | L14: - | O14: -
A15: =SUM(A13+1) -> 7 | B15: =[1]Sheet1!A11 -> 愛知軍団 | C15: 愛知 | D15: 8 | E15: =IF(E16+G16>0,IF(E16>G16,"○",IF(E16<G16,"×","△")),"") | H15: =IF(H16+J16>0,IF(H16>J16,"○",IF(H16<J16,"×","△")),"") | N15: =IF(N16+P16>0,IF(N16>P16,"○",IF(N16<P16,"×","△")),"")
F16: - | I16: - | O16: -
A17: =SUM(A15+1) -> 8 | B17: =[1]Sheet1!A27 -> 安城西ドッジボールクラブ | C17: 愛知 | D17: 24 | E17: =IF(E18+G18>0,IF(E18>G18,"○",IF(E18<G18,"×","△")),"") | H17: =IF(H18+J18>0,IF(H18>J18,"○",IF(H18<J18,"×","△")),"") | K17: =IF(K18+M18>0,IF(K18>M18,"○",IF(K18<M18,"×","△")),"")
F18: - | I18: - | L18: -
A19: Cリーグ | E19: =A20 -> 9 | H19: =A22 -> 10 | K19: =A24 -> 11 | N19: =A26 -> 12 | Q19: 勝点 | R19: 勝 | S19: 分 | T19: 負 | U19: 内野 | V19: 外野 | W19: 順位
A20: =SUM(A17+1) -> 9 | B20: =[1]Sheet1!A19 -> モンチッチーズ | C20: 愛知 | D20: 16 | H20: =IF(H21+J21>0,IF(H21>J21,"○",IF(H21<J21,"×","△")),"") | K20: =IF(K21+M21>0,IF(K21>M21,"○",IF(K21<M21,"×","△")),"") | N20: =IF(N21+P21>0,IF(N21>P21,"○",IF(N21<P21,"×","△")),"")
I21: - | L21: - | O21: -
A22: =SUM(A20+1) -> 10 | B22: =[1]総合順位!C21 -> 新星☆絆 | C22: 神奈川 | D22: 11 | E22: =IF(E23+G23>0,IF(E23>G23,"○",IF(E23<G23,"×","△")),"") | K22: =IF(K23+M23>0,IF(K23>M23,"○",IF(K23<M23,"×","△")),"") | N22: =IF(N23+P23>0,IF(N23>P23,"○",IF(N23<P23,"×","△")),"")
F23: - | L23: - | O23: -
A24: =SUM(A22+1) -> 11 | B24: =[1]Sheet1!A32 -> 三島☆金狼 | C24: 静岡 | D24: 3 | E24: =IF(E25+G25>0,IF(E25>G25,"○",IF(E25<G25,"×","△")),"") | H24: =IF(H25+J25>0,IF(H25>J25,"○",IF(H25<J25,"×","△")),"") | N24: =IF(N25+P25>0,IF(N25>P25,"○",IF(N25<P25,"×","△")),"")
F25: - | I25: - | O25: -
A26: =SUM(A24+1) -> 12 | B26: =[1]Sheet1!A24 -> Soul West | C26: 愛知 | D26: 21 | E26: =IF(E27+G27>0,IF(E27>G27,"○",IF(E27<G27,"×","△")),"") | H26: =IF(H27+J27>0,IF(H27>J27,"○",IF(H27<J27,"×","△")),"") | K26: =IF(K27+M27>0,IF(K27>M27,"○",IF(K27<M27,"×","△")),"")
F27: - | I27: - | L27: -
A28: Dリーグ | E28: =A29 -> 13 | H28: =A31 -> 14 | K28: =A33 -> 15 | N28: =A35 -> 16 | Q28: 勝点 | R28: 勝 | S28: 分 | T28: 負 | U28: 内野 | V28: 外野 | W28: 順位
A29: =SUM(A26+1) -> 13 | B29: =[1]Sheet1!A17 -> GREATバンビーニ | C29: 愛知 | D29: 14 | H29: =IF(H30+J30>0,IF(H30>J30,"○",IF(H30<J30,"×","△")),"") | K29: =IF(K30+M30>0,IF(K30>M30,"○",IF(K30<M30,"×","△")),"") | N29: =IF(N30+P30>0,IF(N30>P30,"○",IF(N30<P30,"×","△")),"")
I30: - | L30: - | O30: -
A31: =SUM(A29+1) -> 14 | B31: =[1]Sheet1!A49 -> 関スポ少｢グリーンキッズ｣ | C31: 三重 | D31: 3 | E31: =IF(E32+G32>0,IF(E32>G32,"○",IF(E32<G32,"×","△")),"") | K31: =IF(K32+M32>0,IF(K32>M32,"○",IF(K32<M32,"×","△")),"") | N31: =IF(N32+P32>0,IF(N32>P32,"○",IF(N32<P32,"×","△")),"")
F32: - | L32: - | O32: -
A33: =SUM(A31+1) -> 15 | B33: =[1]総合順位!C31 -> Yokohama TOPS | C33: 神奈川 | D33: 8 | E33: =IF(E34+G34>0,IF(E34>G34,"○",IF(E34<G34,"×","△")),"") | H33: =IF(H34+J34>0,IF(H34>J34,"○",IF(H34<J34,"×","△")),"") | N33: =IF(N34+P34>0,IF(N34>P34,"○",IF(N34<P34,"×","△")),"")
F34: - | I34: - | O34: -
A35: =SUM(A33+1) -> 16 | B35: =[1]Sheet1!A33 -> 駒越ドラゴンズ | C35: 静岡 | D35: 4 | E35: =IF(E36+G36>0,IF(E36>G36,"○",IF(E36<G36,"×","△")),"") | H35: =IF(H36+J36>0,IF(H36>J36,"○",IF(H36<J36,"×","△")),"") | K35: =IF(K36+M36>0,IF(K36>M36,"○",IF(K36<M36,"×","△")),"")
F36: - | I36: - | L36: -
A37: Eリーグ | E37: =A38 -> 17 | H37: =A40 -> 18 | K37: =A42 -> 19 | N37: =A44 -> 20 | Q37: 勝点 | R37: 勝 | S37: 分 | T37: 負 | U37: 内野 | V37: 外野 | W37: 順位
A38: =SUM(A35+1) -> 17 | B38: =[1]Sheet1!A34 -> 広幡ドッジキッズ | C38: 静岡 | D38: 5 | H38: =IF(H39+J39>0,IF(H39>J39,"○",IF(H39<J39,"×","△")),"") | K38: =IF(K39+M39>0,IF(K39>M39,"○",IF(K39<M39,"×","△")),"") | N38: =IF(N39+P39>0,IF(N39>P39,"○",IF(N39<P39,"×","△")),"")
I39: - | L39: - | O39: -
A40: =SUM(A38+1) -> 18 | B40: =[1]Sheet1!A15 -> BUSTERS | C40: 愛知 | D40: 12 | E40: =IF(E41+G41>0,IF(E41>G41,"○",IF(E41<G41,"×","△")),"") | K40: =IF(K41+M41>0,IF(K41>M41,"○",IF(K41<M41,"×","△")),"") | N40: =IF(N41+P41>0,IF(N41>P41,"○",IF(N41<P41,"×","△")),"")
...

Sheet トーナメント
A1: 新東名カップ
A2: ① | B2: １位 | S2: ⑯ | T2: １位
D3: A25 | Q3: D25
A4: ⑥ | B4: ４位 | S4: ⑩ | T4: ４位
E5: A33 | P5: D33
A6: ⑨ | B6: ３位 | S6: ⑤ | T6: ３位
D7: A26 | Q7: D26
A8: ⑭ | B8: ２位 | S8: ① | T8: ２位
F9: A37 | O9: D37
A10: ⑮ | B10: ２位 | S10: ③ | T10: ２位
D11: A27 | Q11: D27
A12: ⑩ | B12: ３位 | S12: ⑦ | T12: ３位
E13: A34 | P13: D34
A14: ⑦ | B14: ４位 | S14: ⑫ | T14: ４位
D15: A28 | Q15: D28
A16: ② | B16: １位 | S16: ⑮ | T16: １位
G17: A39 | N17: D39
A18: ③ | B18: １位 | S18: ⑭ | T18: １位
D19: A29 | Q19: D29
A20: ⑧ | B20: ４位 | S20: ⑪ | T20: ４位
E21: A35 | P21: D35
A22: ⑪ | B22: ３位 | S22: ⑧ | T22: ３位
D23: A30 | Q23: D30
A24: ⑯ | B24: ２位 | S24: ④ | T24: ２位
F25: A38 | O25: D38
A26: ⑬ | B26: ２位 | S26: ② | T26: ２位
D27: A31 | J27: 優勝 | Q27: D31
A28: ⑫ | B28: ３位 | S28: ⑥ | T28: ３位
E29: A36 | J29: C41 | P29: D36
A30: ⑤ | B30: ４位 | S30: ⑨ | T30: ４位
D31: A32 | Q31: D32
A32: ④ | B32: １位 | S32: ⑬ | T32: １位
H33: B40 | M33: C40
A34: ⑤ | B34: １位 | S34: ⑫ | T34: １位
D35: B25 | Q35: C25
A36: ③ | B36: ４位 | S36: ⑬ | T36: ４位
E37: B33 | P37: C33
A38: ⑯ | B38: ３位 | J38: B41 | S38: ④ | T38: ３位
D39: B26 | Q39: C26
A40: ⑨ | B40: ２位 | S40: ⑤ | T40: ２位
...
